BEGIN:VCALENDAR
VERSION:2.0
PRODID:-//https://techplay.jp//JP
CALSCALE:GREGORIAN
METHOD:PUBLISH
X-WR-CALDESC:CoderDojo阿倍野 #8
X-WR-CALNAME:CoderDojo阿倍野 #8
X-WR-TIMEZONE:Asia/Tokyo
BEGIN:VTIMEZONE
TZID:Asia/Tokyo
BEGIN:STANDARD
DTSTART:19700101T000000
TZOFFSETFROM:+0900
TZOFFSETTO:+0900
TZNAME:JST
END:STANDARD
END:VTIMEZONE
BEGIN:VEVENT
UID:687017@techplay.jp
SUMMARY:CoderDojo阿倍野 #8
DTSTART;TZID=Asia/Tokyo:20180811T133000
DTEND;TZID=Asia/Tokyo:20180811T160000
DTSTAMP:20260425T202031Z
CREATED:20180725T020608Z
DESCRIPTION:イベント詳細はこちら\nhttps://techplay.jp/event/68701
 7?utm_medium=referral&utm_source=ics&utm_campaign=ics\n\n参加条件\n\n
 ☆☆ノートパソコンを持参出来る方（Windows\,Mac）☆☆\
 n当日パソコンをお貸しすることはできません。\nノー
 トパソコンは各自持参してください。\nマウス、ノー
 トパソコンの電源アダプタも忘れずに持参してくださ
 い。\n※インターネット（Wi-Fi）は会場で無料で使えま
 すが、かなり貧弱な回線のため、モバイルWi-Fiやテザ
 リング可能なスマホをお持ちの方はご持参ください。\
 n\nCoderDojoとは？\n\nCoderDojo は7〜17歳の子どもを対象に
 した子どものためのプログラミング道場です。\n2011年
 にアイルランドで始まり、世界では75カ国・1\,400の道
 場、日本では全国に108以上の道場があります。\nプロ
 グラミング教室ではなく「子どもたちが自主的に学ぶ
 ための場を提供する」ことを目的としています。\n\n■
  CoderDojo Japan https://coderdojo.jp/\n■ CoderDojo(英語) http://code
 rdojo.com/\n\n何をするの？\n\nプログラミングに関係のあ
 ることなら何をしてもかまいません！！\n阿倍野Dojoで
 は「何をしていいかわからない」お友達にはScratchをお
 薦めしています。「こんなことがしたい」というリク
 エストも受け付けています。\n＜例＞\nScratch、Minecraft
 、micro:bit、電子工作、RaspberryPi、ニンテンドーラボな
 ど\n\n■ お友達同士で教えあう\n　　授業ではありませ
 ん。積極的にお友達と話し、教えあってください。\n
 　　もちろん、席も好きに歩き回って構いません。\n\n
 ■ メンター(指導者)にきく\n　　阿倍野Dojoには、何人
 かのメンターがいます。\n　　Scratchや電子工作を教え
 ることができます。\n\n■ Dojoにある本を使って自由に
 学ぶ\n　　阿倍野Dojoでは、いくつかの技術書を用意し
 ています。\n\nスポンサー\n\n本イベントページはオー
 プンソースコミュニティを支援する YassLab 株式会社 が
 提供しております。詳細はコミュニティ運営者向け Doo
 rkeeper スポンサー資料をご参照ください。\n\n
LOCATION:阿倍野区民センター 集会室3 〒545-0052 大阪市阿倍
 野区阿倍野筋4-19-118
URL:https://techplay.jp/event/687017?utm_medium=referral&utm_source=ics&utm
 _campaign=ics
END:VEVENT
END:VCALENDAR
