BEGIN:VCALENDAR
VERSION:2.0
PRODID:-//https://techplay.jp//JP
CALSCALE:GREGORIAN
METHOD:PUBLISH
X-WR-CALDESC:【実務で使える機械学習講座】経験豊富なAIエ
 ンジニアが基礎から実務レベルまで教える- AIジョブカ
 レ第23期
X-WR-CALNAME:【実務で使える機械学習講座】経験豊富なAIエ
 ンジニアが基礎から実務レベルまで教える- AIジョブカ
 レ第23期
X-WR-TIMEZONE:Asia/Tokyo
BEGIN:VTIMEZONE
TZID:Asia/Tokyo
BEGIN:STANDARD
DTSTART:19700101T000000
TZOFFSETFROM:+0900
TZOFFSETTO:+0900
TZNAME:JST
END:STANDARD
END:VTIMEZONE
BEGIN:VEVENT
UID:687080@techplay.jp
SUMMARY:【実務で使える機械学習講座】経験豊富なAIエン
 ジニアが基礎から実務レベルまで教える- AIジョブカレ
 第23期
DTSTART;TZID=Asia/Tokyo:20180810T193000
DTEND;TZID=Asia/Tokyo:20180810T213000
DTSTAMP:20260425T202237Z
CREATED:20180725T060616Z
DESCRIPTION:イベント詳細はこちら\nhttps://techplay.jp/event/68708
 0?utm_medium=referral&utm_source=ics&utm_campaign=ics\n\n【人工知能
 を本気で仕事にしたい方向けスクール、無料で学べる
 可能性あり】\n\n【概要】\n\nAIジョブカレは、人工知能
 を本気で仕事にしたい未経験者のための通学制スクー
 ルです。\n当講座では、機械学習のアルゴリズムやPytho
 n、ライブラリによる実装だけでなく、データの前処理
 やパラメーターチューニングなど、機械学習に関わる
 すべての工程を4ヶ月にわたって実務レベルになるまで
 体系的に学び、講座終了時には、その後も使えるオリ
 ジナルのAIモデルの開発も行います。\n\nAIジョブカレ
 機械学習講座の5つの特徴\n１．他社と比べて圧倒的低
 価格\n２．講師が実務経験豊富なので、事例がたくさ
 ん聞ける\n３．学んだことを活かせる未経験でも受け
 入れ可能な仕事を紹介、決定で受講料全額キャッシュ
 バック\n４．充実のサポート体制（講座の合間でSlackで
 無制限に質問でき、もくもく会の場も提供）\n５．カ
 リキュラムに自信ありますので、講座に満足しなけれ
 ば、初回講座から1週間以内なら全額返金\n\n\n機械学習
 に関するライブラリはたくさん出てきていますが、き
 ちんと説明ができなければ話が進みませんし、イレギ
 ュラーにも対応できないと現実的には使えません。こ
 の講座できっちりとアルゴリズムとモデルをはじめ、
 前処理やチューニング方法までできるようになり、本
 当に実務で使えるようになっていただけたら幸いです
 。\n\n\n【対象者】\n・エンジニア出身者（現在、過去
 問わずプログラミング経験者）\n・マーケティング出
 身者（分析経験者、SQLの知見あれば尚良し）\n※経験
 年数半年以上が目安。学生でプログラミングを学んだ
 方や理数系出身者も参加可能です。\n\n\n【講師プロフ
 ィール】\n山田　典一\n\nマーケティング領域を主とし
 た高度アナリティクス業務に約15年間従事。\nYahoo!Japan
 のデータアナリストを経験した後、ビッグデータ分析
 業界最大手のブレインパッド等にてキャンペーン効果
 測定手法の開発・組織浸透、主要クライアントとのア
 ナリティクスリレーションシップの構築、グローバル
 連携プロジェクト等一連の業務を経験。​\nデータマ
 イニング、機械学習、インテリジェンスマネジメント
 の支援実績を数多くもつデータサイエンティスト。\n\n
 \n【カリキュラム・スケジュール】\nDay.1　8月10日（金
 ）\n\n機械学習概論\n最終（開発）課題の説明\n\nDay.2　8
 月24日 （金）\n教師あり学習（分類）\nアルゴリズムの
 考え方と実装・評価\n\nDay.3　9月 7日 （金） \n教師あり
 学習（回帰）\nアルゴリズムの考え方と実装・評価\n\nD
 ay.4　9月21日 （金）\nデータ前処理\n次元圧縮\n\nDay.5　1
 0月 5日 （金）\n模擬演習\n前伊処理～実装・報告書作
 成の演習\n\nDay.6　10月19日 （金）\nモデルのパフォーマ
 ンスチューニング\nインバランスデータへの対応など\n
 \nDay.7　11月2日 （金）\n教師なし学習\nDAY5の予測結果プ
 ロファイル分析\n\nDay.8　11月 16日（金） \n\n開発課題提
 出・知識テスト\n技術テスト・優秀者の表彰\n\n\n【値
 段】\n100\,000円（税抜き）\nお支払方法は銀行振込 or Pay
 pal\n※カリキュラム及び内容は実務経験豊富なエキス
 パートが作成した自信作につき、満足できなければ全
 額返金します！\n※弊社経由でお仕事決定した場合、
 受講料全額キャッシュバック！\n【内容詳細＆お申込
 フォーム】\n当スクールには事前申込が必要です。ご
 希望の方は下記リンクより内容確認の上お申込くださ
 い。\n※お申込みは必ず下記サイトよりお願いします
 。\n当イベントページでは本申し込みとはなりません
 ので、\nご注意ください。\n\nhttps://www.aijobcolle.com
LOCATION:ＰＭＯ東新橋 東京都 港区 東新橋2-12-1
URL:https://techplay.jp/event/687080?utm_medium=referral&utm_source=ics&utm
 _campaign=ics
END:VEVENT
END:VCALENDAR
