BEGIN:VCALENDAR
VERSION:2.0
PRODID:-//https://techplay.jp//JP
CALSCALE:GREGORIAN
METHOD:PUBLISH
X-WR-CALDESC:【初心者：ハンズオン】Pythonスクレイピング
 によるデータフレーム&【ディレクション講義】技術に
 ひつような「こころ」の話～ユーザー体験について考
 える～
X-WR-CALNAME:【初心者：ハンズオン】Pythonスクレイピング
 によるデータフレーム&【ディレクション講義】技術に
 ひつような「こころ」の話～ユーザー体験について考
 える～
X-WR-TIMEZONE:Asia/Tokyo
BEGIN:VTIMEZONE
TZID:Asia/Tokyo
BEGIN:STANDARD
DTSTART:19700101T000000
TZOFFSETFROM:+0900
TZOFFSETTO:+0900
TZNAME:JST
END:STANDARD
END:VTIMEZONE
BEGIN:VEVENT
UID:687092@techplay.jp
SUMMARY:【初心者：ハンズオン】Pythonスクレイピングによ
 るデータフレーム&【ディレクション講義】技術にひつ
 ような「こころ」の話～ユーザー体験について考える
 ～
DTSTART;TZID=Asia/Tokyo:20180730T190000
DTEND;TZID=Asia/Tokyo:20180730T210000
DTSTAMP:20260420T024734Z
CREATED:20180725T081230Z
DESCRIPTION:イベント詳細はこちら\nhttps://techplay.jp/event/68709
 2?utm_medium=referral&utm_source=ics&utm_campaign=ics\n\n【初心者：
 ハンズオン】Pythonスクレイピングによるデータフレー
 ム&【ディレクション講義】技術にひつような「こころ
 」の話～ユーザー体験について考える～\n\n\n\n本日の
 スライド\n\nhttps://11.gigafile.nu/0806-c83cf6ad93bc740b24de0c6af8727
 2ed5\n\n【初心者：ハンズオン】Pythonスクレイピングに
 よるデータフレーム概要\n\n\n※写真は他の場所での勉
 強会の様子\n\n自分で取得からデータ整形まで、機械学
 習の最初の段階で必要なデータの用意を行う。\n\nscikit
 -learnなど機械学習する際にデータがきちんと整理され
 た\n状態かつデータそのものを自由に扱えることが必
 須なため、Pandas・beautifulsoup・Requestsに焦点を絞った内
 容になります。\n\nできるようになること\n\n\nPythonでデ
 ータを取得し加工\nデータをきちんと整理できかつフ
 ァイルへ書き出す\nChromeなどのデベロッパーツールな
 どの開発ツールの基本操作\n\n\n※参加者の方はPython3系
 が動くPC環境のご用意をお願いいたします。\n\n※今回
 はscikit-learnなどの機械学習はいたしません。機械学習
 をする前の大事なステップを行います。\n\n※設定方法
 がわからない場合、勉強会前々日までにお問い合わせ
 ください。\n\n※当日にセットアップの時間を取ってい
 ますがなるべく事前にセットアップをすることを推奨
 しています。\n\n【ディレクション講義】技術にひつよ
 うな「こころ」の話～ユーザー体験について考える～
 概要\n\n\n\n今回はプロジェクトマネジメント、および
 プロジェクトの設計に関する話をします\nこういった
 講演ではハードに関する技術的な話が比較的多いと思
 いますが\n今回はソフトに関する話、人間の心に関連
 して話をしてみようと思います。\n\nUXとは\n\n\nユーザ
 ー体験\nユーザーがほしいのは「モノ・サービス」で
 はなく、それによって得られる「体験」\nユーザーに
 与える体験を最適に設計すること＝UXデザイン\nすぐれ
 たUXデザイン\n\n\nプリウス\n\n\n燃費がいいから売れて
 る：✕\nクラスレス（日本）：◯\n誰がどんなTPOで使っ
 ても恥をかかない\n燃費がいい、SFチックな外見＝手段
 \n軽、コンパクト、クラウン、ベンツといった「階級
 」からの開放＝目的\nアンチテーゼ（アメリカ）：◯\n
 保守層：大型セダン、ピックアップトラック\nリベラ
 ル：VWビートル→シビック→プリウス\n環境に意識のあ
 る、インテリというアピール\n映画関係者、医者、弁
 護士、学者など\n任天堂\n枯れた技術の水平思考\n\n\nUX
 デザインの考え方\n\nどんなユーザー（WHOM＝ターゲッ
 ト）に、どんな体験をさせるか（WHAT＝ゴール）そのた
 めにどうするか（HOW＝技術・手法）\nつまり、企画営
 業・マーケティング、デザイナ、エンジニア、みんな
 で考えないとダメ\n\nタイムスケジュール\n\n\n\n\n  時間
 \n  内容\n  登壇者\n\n\n\n\n  18:30〜\n  受付開始\n  \n\n\n  19
 :00〜19:05\n  オープニング\n  田代\n\n\n  19:05〜20:20\n  ▼be
 autifulsoupやRequestsスクレイピング基本▼Google Chrome Toolの
 使い方▼Pandasを使いデータ整形▼課題 - 指定したペー
 ジのスクレイピングおよびデータ整形\n  田代\n\n\n  20:2
 0〜20:30\n  休憩\n  \n\n\n  20:30〜21:00\n  【ディレクション
 講義】技術にひつような「こころ」の話～ユーザー体
 験について考える～\n  岩井\n\n\n  21:00〜\n  終了\n  \n\n\n
 \n\n※ 当日予告なく時間配分・内容が変更になる可能
 性がございます。\n\n登壇者\n\n田代 真輝人\n\n所属企業
 名：Walker Industries\n\n▼自己紹介\n在学中にフリーラン
 スとしてWeb制作に従事。\nその後業務委託でアドテク
 系・EC系・CMS・データ系に携わり\nバックエンド領域か
 らデータサイエンスへコンバートし現在新規サービス
 の・解析・機械学習に従事\n\n▼スキルセット\n主にデ
 ータ解析・データベース実装・構築設計が得意です。\
 nPython / PHP / C / C++ / C# / Shell / AWK / MySQL / Elasticsearch / Kiba
 na / BigQuery / AWS\n\n\n岩井將悟\n\n▼自己紹介\nはじめまし
 て。岩井將悟と申します。\n今回はプロジェクトマネ
 ジメント、およびプロジェクトの設計に関する話をし
 ます\nこういった講演ではハードに関する技術的な話
 が比較的多いと思いますが\n今回はソフトに関する話
 、人間の心に関連して話をしてみようと思います。\n\n
 \n\n\n会場の詳細情報\n\nMEETING SPACE SHIBUYA MIYAMASUZAKA\n\n\n
 参加対象\n\n\n初心者\nエンジニア(Python扱ってみたいも
 しくは扱ってる)\nマーケター\nディレクター\nIT業界を
 志す人\n\n\n※ リクルーティング、勧誘など、採用目的
 でのイベント参加はお断りしております。\n\n※ 飲食
 のみを目的としたご応募・ご来場はご遠慮ください。\
 n\n※ 補欠者の方は、ご来場いただいてもご入場いただ
 くことが出来ませんのでご了承ください。\n\n※ 欠席
 される場合は、お手数ですが速やかにキャンセル処理
 をお願い致します。\n\n持ち物\n\n・Python3系が動くPC\n\n
 ・筆記用具\n\n参加費\n\n【事前参加登録者】\n\n当日現
 金払い\n\n※ 受付時にお支払いください。 \n\nハッシュ
 タグ\n\n#walkerindustries\n\nお問い合わせ\n\nイベントに関
 するお問い合わせはこちらからお願いします。\n
LOCATION:MEETING SPACE SHIBUYA MIYAMASUZAKA 東京都渋谷区渋谷2丁目
 11−12
URL:https://techplay.jp/event/687092?utm_medium=referral&utm_source=ics&utm
 _campaign=ics
END:VEVENT
END:VCALENDAR
