BEGIN:VCALENDAR
VERSION:2.0
PRODID:-//https://techplay.jp//JP
CALSCALE:GREGORIAN
METHOD:PUBLISH
X-WR-CALDESC:IoTとブロックチェーン！Azure Blockchain入門+IoT応
 用勉強会@MS【リバイバル】
X-WR-CALNAME:IoTとブロックチェーン！Azure Blockchain入門+IoT応
 用勉強会@MS【リバイバル】
X-WR-TIMEZONE:Asia/Tokyo
BEGIN:VTIMEZONE
TZID:Asia/Tokyo
BEGIN:STANDARD
DTSTART:19700101T000000
TZOFFSETFROM:+0900
TZOFFSETTO:+0900
TZNAME:JST
END:STANDARD
END:VTIMEZONE
BEGIN:VEVENT
UID:687137@techplay.jp
SUMMARY:IoTとブロックチェーン！Azure Blockchain入門+IoT応用
 勉強会@MS【リバイバル】
DTSTART;TZID=Asia/Tokyo:20180928T190000
DTEND;TZID=Asia/Tokyo:20180928T220000
DTSTAMP:20260425T015628Z
CREATED:20180725T100609Z
DESCRIPTION:イベント詳細はこちら\nhttps://techplay.jp/event/68713
 7?utm_medium=referral&utm_source=ics&utm_campaign=ics\n\n\n【こちら
 大反響のため、8/29のセミナーを再演するものです。内
 容は8/29と同じです】\n【増枠】＋【再増枠】Azure Blockch
 ain入門+IoT応用勉強会@Microsoft　\nAzure Blockchainの基礎と
 、ブロックチェーン＋IoTの応用事例を中の人が熱く語
 る！\nブロックチェーンが注目されています。\n中でも
 、MicrosoftのAzure Blockchainは注目すべき技術の一つとして
 ３大クラウドサービスの中でも一歩抜きん出ています
 。\nいっぽう、ブロックチェーン技術は仮想通貨だけ
 でなく、宅配ボックスの「鍵」として活用されるなどI
 oTでも応用事例が広がっています。\nIoT ALGYANとしては
 、是非とも注目したい分野です。\n\n今回は、Microsoft社
 の専門家である、デプロイ王子こと廣瀬一海さんをお
 招きしました。\n知られざるブロックチェーン技術＋Io
 Tの世界を垣間見てみましょう！\n\nあなたの知的好奇
 心が強く刺激されるに違いありません！！！！！\n\nALG
 YANが初めての方も大歓迎です。\nこれを機にみんなで
 集合知を結集しながら、一緒にIoT技術の「今」と「未
 来」に熱い思いを馳せましょう！\n\nぼーっと生きてん
 じゃねえよ！\n\nIoT ALGYAN（あるじゃん）理事長　小暮
 敦彦\n\n【参加条件】\n・当コミュニティやイベントの
 趣旨を理解し、運営ボランティアメンバーや協賛企業
 様の貢献を温かく応援してくださるあなたなら、どな
 たでもご参加出来ます！\n→ALGYANのイベントへのご参
 加は、connpassグループのメンバーになることが最低条
 件です。\n　connpassグループ　（必須）→ https://algyan.co
 nnpass.com \n　ALGYAN本会FBグループ（強い推奨）→　https:/
 /www.facebook.com/groups/ioytjp/ \n（ALGYANグループのメンバー
 には、固定会費負担や何らかの義務負担などは一切あ
 りませんのでご安心ください）\n\n\n\n【参加費】\n・無
 料\n　→アルコール飲料・簡単なおつまみを出します
 （ソフトドリンクもあります）。　\n　　（フード＆
 ドリンクスポンサー： 株式会社grooves（グルーヴス）Fo
 rkwell 運営事務局様　ご提供）\n　→懇親会も含めて無
 料です。\n【必要な持ち物について】\n　今回はハンズ
 オンでは無いので特に何も入りません。\n　・一緒に
 楽しむ優しい気持ち。\n　・熱い情熱。\n　会場にはwif
 iがあり電源もあり自由に使えます。\n\n\n\n\n\n【開催場
 所】\n場所：日本マイクロソフト株式会社 品川本社　3
 1F セミナールームA\n→時間厳守にご協力ください。Micr
 osoft品川本社２階ロビーで「ALGYAN」の紙を持ったボラ
 ンティアから入館証を受け取り、来館者用エレベータ
 ーで31階に上がってください。31階「セミナールームA
 」前で記帳受付して下さい（記帳はビルの入館規則の
 ためです。ALGYANでは利用しません）。\n受付は18:55で打
 ち切ります。遅刻者は#ALGYANでTweetしてください。迎え
 に行くかもしれません。ただし、ビルの入館規則によ
 り19:50以降はどうしても入館出来ませんまた、人数が
 多い場合は立ち見になる可能性もございますから、お
 早めにお越しください。\n\n\n\n\n\n時　　刻\n進行内容( 
 2018年8月29日 ) 敬称略\n\n\n\n\n18:30〜18:55 受付\n→時間厳
 守にご協力ください。入館方法は前記\n\n\n19:00〜開始\n
 開演ご挨拶 IoT ALGYAN理事長　小暮懇親会スポンサーLT:
 株式会社grooves（グルーヴス）Forkwell 運営事務局様\n\n\n
 19:10〜\n講演（100分間）「目が離せない！ブロックチェ
 ーン技術の可能性：Azure Blockchain＋IoT」　　        日本
 マイクロソフト株式会社　Azure Tech Solutions Professional　
 廣瀬一海（デプロイ王子） 【概要】デプロイ王子こと
 廣瀬一海氏が、ブロックチェーン技術の概要、構成す
 る技術、最新動向からIoT分野への応用まで、Azure Blockch
 ainを軸として分かりやすく解説します。・ブロックチ
 ェーンとは？・ブロックチェーンの利用用途、最新動
 向・ブロックチェーンを構成する技術・Azure Blockchainと
 は？・IoT分野への応用：Azure Blockchain＋Azure IoT Hub・ブ
 ロックチェーン技術の将来性・質疑応答（途中で10分
 間ほど休憩を挟みます）(敬称略)\n\n\n21:00  〜\n懇親会\n
 \n\n\nアルコール投入開始！乾杯用のビールと簡単なお
 つまみを無料ご提供（ソフトドリンクはドリンクコー
 ナーから取ってください）。会場のレイアウト変更な
 ど進行にご協力ください。\n\n\n22:00  　終了予定\nレイ
 アウトの原状回復とゴミの分別にご協力ください。\n\n
 \n\n\n【注意事項】\n※日本マイクロソフト株式会社様
 に会場をご厚意でお借りしています。ご迷惑をおかけ
 しないよう、また設備などの扱いについて、細心の注
 意を払ってください。\n※運営スタッフは全員ボラン
 ティアです。速やかな進行にご協力ください。\n※メ
 ディアの取材記事や当コミュニティのFacebookグループ
 ページや告知ページ、Twitterツイート、ご参加者のブロ
 グなどに顔等が写りこんでしまう可能性があります。
 あらかじめご了承ください。\n※イベントで知り合っ
 た人や懇親会スポンサー様の紹介するサービスについ
 ては、コミュニティの責任範疇外です。関わりを持た
 れる際は、自己責任で行ってください。\n\n【個人情報
 の扱いについて】\n個人情報は関係法令に従って管理
 いたします。他の用途では使いません。\n受付時に記
 帳頂きますが、ビルの入館規則によるもので、コミュ
 ニティーは情報に一切関与しません。\n懇親会スポン
 サー様の紹介するサービスに登録なさる際は、自己責
 任で行ってください。\n\n主催 IoT ALGYAN(あるじゃん)運
 営委員会\n協賛・協力\n　日本マイクロソフト株式会社
 様\n　株式会社grooves（グルーヴス）Forkwell 運営事務局
 様\n　全国あるじゃん有志の皆さん\n　当日参加者して
 くださる、あ・な・た！　
LOCATION:Microsoft品川本社 東京都港区港南 2-16-3 品川グラン
 ドセントラルタワー
URL:https://techplay.jp/event/687137?utm_medium=referral&utm_source=ics&utm
 _campaign=ics
END:VEVENT
END:VCALENDAR
