BEGIN:VCALENDAR
VERSION:2.0
PRODID:-//https://techplay.jp//JP
CALSCALE:GREGORIAN
METHOD:PUBLISH
X-WR-CALDESC:スクラム道関西 第108回オープン・ジャム
X-WR-CALNAME:スクラム道関西 第108回オープン・ジャム
X-WR-TIMEZONE:Asia/Tokyo
BEGIN:VTIMEZONE
TZID:Asia/Tokyo
BEGIN:STANDARD
DTSTART:19700101T000000
TZOFFSETFROM:+0900
TZOFFSETTO:+0900
TZNAME:JST
END:STANDARD
END:VTIMEZONE
BEGIN:VEVENT
UID:687174@techplay.jp
SUMMARY:スクラム道関西 第108回オープン・ジャム
DTSTART;TZID=Asia/Tokyo:20180801T190000
DTEND;TZID=Asia/Tokyo:20180801T210000
DTSTAMP:20260421T035730Z
CREATED:20180725T140505Z
DESCRIPTION:イベント詳細はこちら\nhttps://techplay.jp/event/68717
 4?utm_medium=referral&utm_source=ics&utm_campaign=ics\n\n厳しい暑さ
 が続いてますが、スクラム道関西も熱量高く第108回目
 です！\n皆でワイワイ議論したい方々は、是非お越し
 下さい！  \n\n「スクラムの実践について誰かに相談し
 たい」\n「こういう場合、他の人ってどうしてるの？
 」\n「スクラムマスターは社内でボッチなので寂しい
 」\n「アジャイルな話題を肴に呑みたい」\n\nそんな、
 悩みごとや気になることがある人のために、スクラム
 道関西の定例会があります。\nアジャイル・スクラム
 実践や開発現場の改善で、「聞きたい」「言いたい」
 「楽しみたい」ことがあれば議題として持ち寄ってく
 ださい。\n◆日時\n　8/1(水) 19：00～21：00  \n◆内容予定
 \n　当日の参加者から提案して注目の大きな順で議題
 にします\n　気になってることを相談したい・学んだ
 ことを発表したいなど、スクラムの実践や現場の改善
 に関することが対象です  \n◆参加費\n　開催経費を参
 加者で割り勘します(今回は無料)  \n◆飲食について\n
 　飲食物など必要であれば各自でお持ち込み下さい(ア
 ルコール可)  \n◆イベント終了後について\n　終了後に
 は、会場の近くで軽く懇親会行う予定です。  \n　オー
 プンジャムで話したりない！アジャイルな話題を肴に
 呑みたい！  という方は、ぜひご参加下さい。
LOCATION:株式会社リアズ 大阪市淀川区西中島5丁目14-10 (新
 大阪トヨタビル4階)
URL:https://techplay.jp/event/687174?utm_medium=referral&utm_source=ics&utm
 _campaign=ics
END:VEVENT
END:VCALENDAR
