BEGIN:VCALENDAR
VERSION:2.0
PRODID:-//https://techplay.jp//JP
CALSCALE:GREGORIAN
METHOD:PUBLISH
X-WR-CALDESC:自走式AIレーシングカーの作成チーム　第三回
X-WR-CALNAME:自走式AIレーシングカーの作成チーム　第三回
X-WR-TIMEZONE:Asia/Tokyo
BEGIN:VTIMEZONE
TZID:Asia/Tokyo
BEGIN:STANDARD
DTSTART:19700101T000000
TZOFFSETFROM:+0900
TZOFFSETTO:+0900
TZNAME:JST
END:STANDARD
END:VTIMEZONE
BEGIN:VEVENT
UID:687293@techplay.jp
SUMMARY:自走式AIレーシングカーの作成チーム　第三回
DTSTART;TZID=Asia/Tokyo:20180802T190000
DTEND;TZID=Asia/Tokyo:20180802T210000
DTSTAMP:20260423T111210Z
CREATED:20180726T060519Z
DESCRIPTION:イベント詳細はこちら\nhttps://techplay.jp/event/68729
 3?utm_medium=referral&utm_source=ics&utm_campaign=ics\n\n「自走式AI
 レーシングカーの作成チーム」のご紹介\nIoT Businessワ
 ーキンググループ内の有志メンバーが「自走式AIレー
 シングカーの作成」を行うチームを立ち上げました。\
 nAI/IoT技術を使っての玩具を共同で開発・制作・自走実
 現を行うことを目的としたチームです。\niOSコンソー
 シアムにおける正式な活動（ワーキンググループなど
 ）ではありませんので、就業時間外に個人の有志の方
 々が集まって活動を行います。\n次回は第三回となり
 、8月2日19時よりiOSコンソーシアム事務所にて開催いた
 します。\n活動は毎回2時間程度で隔週で開催されます
 。\n会員企業の皆様方でご興味のある方はご参加いた
 だければと存じます。\n第一回、第二回議事について
 はPowerPointのPDFに進行内容に合わせて記載しております
 。\n要点、懸念事項についてのリストも優先順位など
 を記載しております。\n１要点・懸念事項　https://ios.or
 .jp/wp-content/uploads/2018/07/ai-racing-car-01.pdf\n２前回までの
 資料　https://ios.or.jp/wp-content/uploads/2018/07/ai-racing-car-02.pd
 f\nご参加をご希望の方はconnpassから参加エントリーを
 お願いします。
LOCATION:iOSコンソーシアム事務所 東京都千代田区神田三
 崎町２−２−１３
URL:https://techplay.jp/event/687293?utm_medium=referral&utm_source=ics&utm
 _campaign=ics
END:VEVENT
END:VCALENDAR
