BEGIN:VCALENDAR
VERSION:2.0
PRODID:-//https://techplay.jp//JP
CALSCALE:GREGORIAN
METHOD:PUBLISH
X-WR-CALDESC:【女性限定】WOMAN Digital Meetup!!! VOL.1 - Health Tech
 、IoT...モバイル技術を活用した新規サービス立ち上げ
 とは？-
X-WR-CALNAME:【女性限定】WOMAN Digital Meetup!!! VOL.1 - Health Tech
 、IoT...モバイル技術を活用した新規サービス立ち上げ
 とは？-
X-WR-TIMEZONE:Asia/Tokyo
BEGIN:VTIMEZONE
TZID:Asia/Tokyo
BEGIN:STANDARD
DTSTART:19700101T000000
TZOFFSETFROM:+0900
TZOFFSETTO:+0900
TZNAME:JST
END:STANDARD
END:VTIMEZONE
BEGIN:VEVENT
UID:687460@techplay.jp
SUMMARY:【女性限定】WOMAN Digital Meetup!!! VOL.1 - Health Tech、IoT
 ...モバイル技術を活用した新規サービス立ち上げとは
 ？-
DTSTART;TZID=Asia/Tokyo:20180822T190000
DTEND;TZID=Asia/Tokyo:20180822T213000
DTSTAMP:20260420T063053Z
CREATED:20180727T033624Z
DESCRIPTION:イベント詳細はこちら\nhttps://techplay.jp/event/68746
 0?utm_medium=referral&utm_source=ics&utm_campaign=ics\n\n【女性限定
 】WOMAN Digital Meetup!!! VOL.1 - Health Tech、IoT...モバイル技術
 を活用した新規サービス立ち上げとは？-\n\n概要\n第3
 次AIブーム、インダストリー4.0に代表される製造業に
 おけるIoT活用など、Digital Technologyによってビジネスの
 あり方が大きく変革しています。\nスマートフォンや
 タブレットなどモバイル端末の登場・普及により、そ
 れらが個人にとってのデータ流通の要となると共に、I
 oT時代のキーデバイスとして、企業活動にも大きな影
 響をもたらしています。\nアクセンチュアでは、モバ
 イル端末ならではの特性とAIやAR/VRなどのDigital Technology
 とコンサルティングを組み合わせ、クライアントに対
 し、新規ビジネスや業務プロセス改革をご提案してい
 ます。\n本セミナーでは、モバイル技術を活用したビ
 ジネス事例の紹介とそこで使われるTechnologyについてご
 紹介していきます。\nまた、女性コンサルタントによ
 るDigital領域でのキャリアの深め方についてパネルディ
 スカッションも行います。\nご参加される方にとって
 、日々の業務で使える有益な知識、またキャリアの一
 助となれば幸いです。\n\n\n\n\n\nタイムスケジュール\n\n
     \n        \n            時間\n            内容\n        \n    \n 
    \n        \n            18:45\n            受付開始\n        \n   
      \n            19:00〜19:20\n            \n                オープ
 ニング＆Accenture Digital 組織説明\n                アクセン
 チュア デジタル・コンサルティング本部 マネジング
 ・ディレクター 丹羽雅彦\n            \n        \n        \n   
          19:20〜20:10\n            \n                プロジェクト
 事例紹介\n                (1)大手アパレルメーカーにおけ
 る店舗管理システムのモバイル化事例\n                    
 (2)大手電機メーカーにおけるHealth Techの取り組み\n      
               (3)大手電力会社におけるモバイルアプリを
 活用したサービス企画事例\n            \n        \n        \n 
            20:10〜20:40\n            \n                パネルディ
 スカッション：女性コンサルタントによるDigital領域に
 おけるキャリアの築き方\n            \n        \n        \n    
         20:40〜20:50\n            アンケート記入\n        \n     
    \n            20:50〜21:30\n            懇親会 & Closing\n        
 \n    \n\n※ 当日予告なく時間配分・内容が変更になる
 可能性がございます。\n\n登壇者\n\n    \n        \n        \n
             丹羽 雅彦\n            Accenture DigitalManaging Director
 \n            アクセンチュアのモバイルサービス部門の
 統括責任者。 小売業、金融業、通信業、製造業、エン
 ターテイメント業など幅広い業種に対して、スマホ、
 タブレット、ウェアラブルなどモバイルデバイスを活
 用した新規サービスや業務改革の企画・システム構築
 に従事。\n        \n    \n    \n        \n        \n            Tomoe
 .O\n            Accenture Digital / Digital DeliverySenior Manager\n     
        新卒でAccentureに入社。複数のプロジェクトを経験
 後、独立してVC創業にたずさわる。ITベンチャー向けに
 インキュベーションやハンズオン支援を実施。その後
 、Accentureに復職し、現在はデジタル（主にモバイル領
 域）の開発プロジェクトにて、アプリ企画から要件定
 義、開発、導入までを案件リードとしてプロジェクト
 を推進。直近では、小売業や製造業、通信業などの業
 界向けに、Webシステムやスマホ・タブレットに関連す
 るモバイル関連のプロジェクトに従事。\n        \n    \n 
    \n        \n        \n            Yukiyo.K\n            Accenture Digi
 tal / Digital SalesSenior Manager\n            創業期の大手ECサイ
 ト企業に入社。ECコンサルタント、サイト編成、企画
 部門などを経て独立。フリーランスのEC・WEBコンサル
 タントとして、クライアントの課題解決に従事。2016年
 にAccentureに入社。デジタル（主にモバイル・IoT領域）
 を活用した新規サービスや業務プロセス改善などの企
 画・提案を行う。直近では電力会社、通信会社などの
 プロジェクトを担当。\n        \n    \n    \n        \n        \
 n            Takashi.H\n            Accenture Digital / Digital strategyM
 anager\n            新卒で電機メーカーに入社後、携帯電
 話／スマートフォン向けソフトウェアの開発経験を活
 かして、ヘルスケアITをテーマとした新規事業の企画
 ・開発を推進。2016年にアクセンチュアに入社。デジタ
 ル（モバイル・IoT・AI）を活用したソリューションの
 企画・提案に従事し、現在、Accenture Digital Industry X.0に
 て、製造業向けソリューションの新規立ち上げプロジ
 ェクトを担当。\n        \n    \n    \n        \n        \n        
     Yayoi.N\n            Accenture Digital / Digital Business Integration
 Manager\n            Accenture新卒入社。通信・ハイテク、金
 融、公共サービス等、様々な業界で、デジタルマーケ
 ティングを活用した営業改革PJTといった上流工程から
 、基幹システム刷新PJTや合併PJTのPMOといった上下の工
 程まで経験。現在は通信・ハイテクのクライアントと
 弊社が一体となって、デジタルサービスを共創するJoin
 t Initiativeプロジェクトに携わる。仕事の領域はIoT製品
 を活用した新サービスの検討、事業戦略策定といった
 計画フェーズから、営業活動(提案書作成・営業同行・
 営業進捗管理)といった実行フェーズまで、幅広く支援
 。\n        \n    \n\n\n参加対象\n\n    女性モバイルアプリ
 、モバイルサービスに興味のある方IoT活用に興味のあ
 る方新規事業、新規サービス立ち上げに興味のある方
 データサイエンスやアナリティクスに興味のある方\n\n
 \n参加費\n無料\n\n
LOCATION:アクセンチュア・イノベーション・ハブ 東京 東
 京都港区三田1-4-1 住友不動産麻布十番ビル 8F
URL:https://techplay.jp/event/687460?utm_medium=referral&utm_source=ics&utm
 _campaign=ics
END:VEVENT
END:VCALENDAR
