BEGIN:VCALENDAR
VERSION:2.0
PRODID:-//https://techplay.jp//JP
CALSCALE:GREGORIAN
METHOD:PUBLISH
X-WR-CALDESC:Rancher Meetup Tokyo #14 (オンプレRancher苦労話)
X-WR-CALNAME:Rancher Meetup Tokyo #14 (オンプレRancher苦労話)
X-WR-TIMEZONE:Asia/Tokyo
BEGIN:VTIMEZONE
TZID:Asia/Tokyo
BEGIN:STANDARD
DTSTART:19700101T000000
TZOFFSETFROM:+0900
TZOFFSETTO:+0900
TZNAME:JST
END:STANDARD
END:VTIMEZONE
BEGIN:VEVENT
UID:687497@techplay.jp
SUMMARY:Rancher Meetup Tokyo #14 (オンプレRancher苦労話)
DTSTART;TZID=Asia/Tokyo:20180822T190000
DTEND;TZID=Asia/Tokyo:20180822T210000
DTSTAMP:20260423T131452Z
CREATED:20180727T100516Z
DESCRIPTION:イベント詳細はこちら\nhttps://techplay.jp/event/68749
 7?utm_medium=referral&utm_source=ics&utm_campaign=ics\n\n【第14回】
 コンテナ管理ツール Rancher勉強会 (オンプレRancher苦労
 話)\nRancherとは？\nRancher は OSS と商用版で提供されるコ
 ンテナー環境構築・運用プラットフォームです。\nRanch
 er の特徴は、Kubernetes コンテナオーケストレータ自体
 もデプロイし、その機能を利用した効率的なコンテナ
 インフラの構築・管理運用が可能なことです。\nまた
 、Active Directory 連携や監査ログな機能などにより本格
 的なエンタープライズ向けプラットフォームとして世
 界で導入実績を重ねています。\n是非この機会にRancher
 について学んで頂ければ幸いです。 皆様のご参加お待
 ちしております！\nイベント開催概要\nクラウド上で使
 える Kubernetes サービスが増えてきていますが、それに
 ともないクラウド上だけではなくオンプレミスでもKube
 rnetesを使いたいという要望が増えてきています。利用
 者が増えるにつれ簡単に操作できるUIとしてのRancherに
 注目が集まっています。しかし、オンプレミスならで
 はのテクニックや簡単にいかない部分など様々な障害
 があるのも事実です。それを乗り越えてRancherを動かし
 た方々の苦労話やこうやって便利に使えるようになり
 ましたという話をして頂きます。\n対象とレベル\n\n\n\n
 対象\n\n\n\n\n\nRancherに興味がある方\n○\n\n\nRancherの利用
 を検討(評価)している方\n○\n\n\nRancherを既に利用され
 ている方\n○\n\n\nRancherの開発に関わる方\n\n\n\n\n\n\n\nレ
 ベル\n\n\n\n\n\n初心者\n○\n\n\n中級者\n○\n\n\n上級者\n\n\n
 \n\n会場・時間\n\n日時：2018年8月22日(水) 19:00(19:00から
 入場可)～21:00\n会場：株式会社リクルートテクノロジ
 ーズ\n住所：東京都中央区京橋1-6-1 8階\n\nYouTube Live に
 ついて\nYouTube Live のURLは下記を予定しております。\nUR
 L: https://www.youtube.com/channel/UCkczjoJXD_jRffogLZ-ilLg/live \n※URL
 が変わる場合は、 Slack、Facebook、Twitter で告知しますの
 でいつまでたっても始まらない場合は、お手数ですが
 そちらもご確認ください。\n懇親会を Meetup が終わった
 21時より同会場で別途実施させていただきます。\n※参
 加希望の方はお手数ですが以下より登録をお願いしま
 す。\n※本勉強会の内容は Crash.Academy 様のご協力によ
 り勉強会内容の撮影、後日配信を行います。 \nつきま
 しては撮影時に前列の方は頭などが映る可能性がある
 点ご理解ご協力のほどお願い致します。\n※今回のイ
 ベントの懇親会は当日有志を募り会場付近のお店で開
 催します。\n※今回のイベントではSli.doによる質問は
 行いません。\nプログラム\n\n\n\nNo.\n時間帯\n発表者\n発
 表タイトル\n発表詳細\n\n\n\n\n[1]\n19:00-19:10(10min)\n@tsukaman
 \nオープニング\n\n\n\n[2]\n19:10-19:40(30min)\n@YoshichikaTsuji\n
 とある4つのオンプレ牧場検証\n\n\n\n[3]\n19:40-20:10(30min)\n
 @Takeaki\nRancher on Yasuda Lab's on-premise in 京都産業大学\n\n\n\
 n[4]\n20:10-20:25(15min)\nNetworking Time\n\n\n\n\n[5]\n20:25-20:35(10min
 )\n未定\nLT (1)\n\n\n\n[6]\n20:35-20:45(10min)\n@RYoMa_0923\nhelmにつ
 いてざっくり紹介\nk8sのパッケージ管理ツールであるhe
 lmについてざっくり概要と使いどころについて紹介し
 ます\n\n\n[7]\n20:45-20:50(05min)\n@ryota_hnk\n今後の活動など\n\
 n\n\n\n\n講演プログラム詳細\n[2] とある4つのオンプレ牧
 場検証\nクラウドならクラウドなりに、オンプレなら
 オンプレなりに、メリット・デメリットが存在します
 。\n今回はそのオンプレのメリット・デメリットを明
 確にするため、さまざまな4種類のオンプレ環境、一般
 的なサーバー、ちょっと変わったものや SDS などに Dock
 er/Rancher をインストールし、検証した結果をご紹介い
 たします。\n[3] Rancher on Yasuda Lab's on-premise in 京都産業
 大学\nvmを使わず完全コンテナベースで運用するにあた
 ってサーバ機のスケールを容易にするために、iPXEサー
 バを用いて、RancherOSを自動インストールし、その際にR
 ancher HAに自動認識させることでゼロタッチプロビジョ
 ニン構成を構築してみました。\n\n※上記タイトルは変
 更する場合があります。あらかじめご了承ください。\
 n\n会場注意事項・諸連絡\n※ 会場受付：8F\n※ 全館禁
 煙となりますのでご了承ください。\n※ 建物内の撮影
 （セミナールーム内を除く）は禁止となっております
 ので、ご了承ください。\n持ち物\n当日は受付のため、
 以下をご持参ください。\n\nConnpassIDの確認出来る物 又
 は 受付票 \n    受付表を確認する - connpass ご利用ガイ
 ド\n\n参加費\n無料\n会場\nWifi: 無し\n電源: 無し\n主催\nR
 ancher JP\nリンク\n\n\nOSS版：\n    https://github.com/rancherlabs/ 
 \n\n\n商用版：\n    http://rancher.com/ \n\n\nRancher JP Slack：\n  
   http://slack.rancher.jp/ \n\n\n※参加に関する注意事項\n本
 イベントは、コミュニティのボランティアにより活動
 しています。\nなるべく広く様々な方にご参加いただ
 きたいのですが、参加人数が限られておりますので確
 実にご参加いただける方を優先したいと考えておりま
 す。\nその為、以下に該当される方は参加をお断りい
 たします。\n\n採用・飲食のみを目的とした方\n同時間
 帯に複数のイベントに申し込まれている方\n  (前日・
 当日までにキャンセルして頂いた方はその限りではあ
 りません)\n過去に 無断キャンセル(Rancher JP関連イベン
 トでキャンセル処理を行わずに欠席をすること) が目
 立つ方\n過去にイベント進行に関しての問題を起こし
 た方\n\n当方で上記に該当すると判断させていただいた
 方は強制的にキャンセル処理を行わせていただく場合
 があります。\nまた、上記に該当する方でも参加登録
 時に熱いコメントを頂ければ考慮いたしますので、ぜ
 ひよろしくお願い致します。
LOCATION:リクルートテクノロジーズ三井住友海上テプコビ
 ル) 東京都中央区京橋1-6-1 (三井住友海上テプコビル 8F)
URL:https://techplay.jp/event/687497?utm_medium=referral&utm_source=ics&utm
 _campaign=ics
END:VEVENT
END:VCALENDAR
