BEGIN:VCALENDAR
VERSION:2.0
PRODID:-//https://techplay.jp//JP
CALSCALE:GREGORIAN
METHOD:PUBLISH
X-WR-CALDESC:【機械学習】「仕事ではじめる機械学習」読
 書会
X-WR-CALNAME:【機械学習】「仕事ではじめる機械学習」読
 書会
X-WR-TIMEZONE:Asia/Tokyo
BEGIN:VTIMEZONE
TZID:Asia/Tokyo
BEGIN:STANDARD
DTSTART:19700101T000000
TZOFFSETFROM:+0900
TZOFFSETTO:+0900
TZNAME:JST
END:STANDARD
END:VTIMEZONE
BEGIN:VEVENT
UID:687655@techplay.jp
SUMMARY:【機械学習】「仕事ではじめる機械学習」読書会
DTSTART;TZID=Asia/Tokyo:20180811T140000
DTEND;TZID=Asia/Tokyo:20180811T170000
DTSTAMP:20260425T154339Z
CREATED:20180728T140510Z
DESCRIPTION:イベント詳細はこちら\nhttps://techplay.jp/event/68765
 5?utm_medium=referral&utm_source=ics&utm_campaign=ics\n\n積ん読にな
 りがちな専門書を、みんなで一気に読みましょう。\n
 今回は、「仕事ではじめる機械学習」を読みます。\n
 今回は頭から本を読むのではなく、質問形式を取り入
 れて、短時間に本の全体を把握できるような進め方を
 します。\n初心者歓迎、事前に予習は必要ありません
 ！\n今回の本\n次の本を必ず各自買って持ってきてくだ
 さい。電子書籍版・PDF版でも参加可能です！\n\n仕事で
 はじめる機械学習\n有賀 康顕  (著)\, 中山 心太 (著)\, 
 西林 孝  (著)\n\n進め方\n\nグランドルール説明\n前回の
 おさらい\n自己紹介\n全体像をつかむ（初回参加者）\n
 各章を読む（質問を作る、答えるを繰り返す）\n質問
 の答えをまとめる\n\nファシリテーター紹介\n石上晋（@
 susumuis）\n株式会社ビープラウド所属、システムクリエ
 イター\nWebも機械学習も手がけるエンジニア。Pythonプ
 ロフェッショナルプログラミング 第3版、第15章「第15
 章 プログラマーのための機械学習」執筆者。\n秋葉原
 みんなの技術読書会ファシリテーター、メイドカフェ
 でノマド会代表\n持ち物\n\n対象書籍\nノートPC（出来れ
 ばあった方が良い）\n\n注意事項\n\n進行上の都合のた
 め、途中参加不可です。遅刻なく集合してください\n
LOCATION:合同会社ねこもり秋葉原オフィス 東京都千代田
 区外神田２丁目１５−８ 長坂第三ビル3F 合同会社ねこ
 もり
URL:https://techplay.jp/event/687655?utm_medium=referral&utm_source=ics&utm
 _campaign=ics
END:VEVENT
END:VCALENDAR
