BEGIN:VCALENDAR
VERSION:2.0
PRODID:-//https://techplay.jp//JP
CALSCALE:GREGORIAN
METHOD:PUBLISH
X-WR-CALDESC:夜活Python 入門編 in 池袋
X-WR-CALNAME:夜活Python 入門編 in 池袋
X-WR-TIMEZONE:Asia/Tokyo
BEGIN:VTIMEZONE
TZID:Asia/Tokyo
BEGIN:STANDARD
DTSTART:19700101T000000
TZOFFSETFROM:+0900
TZOFFSETTO:+0900
TZNAME:JST
END:STANDARD
END:VTIMEZONE
BEGIN:VEVENT
UID:687725@techplay.jp
SUMMARY:夜活Python 入門編 in 池袋
DTSTART;TZID=Asia/Tokyo:20180801T200000
DTEND;TZID=Asia/Tokyo:20180801T213000
DTSTAMP:20260421T035712Z
CREATED:20180729T100508Z
DESCRIPTION:イベント詳細はこちら\nhttps://techplay.jp/event/68772
 5?utm_medium=referral&utm_source=ics&utm_campaign=ics\n\n概要\n夜活Py
 thonでは、夜の帰り道、ちょっとした時間を活用して、
 みんなでPythonを勉強していこう。っていう活動です。\
 n毎日コツコツちょっとずぐ成長していくと、未来には
 大きな成長になる。\n成長する習慣を付ける。そんな
 ことを目標とする会です。\n今回は初心者講座。プロ
 グラム初心者を対象にpythonを通じてプログラムの基礎
 を勉強していきます。\nITに関わるには日々勉強。 会
 社や学校で学習することはあると思います。 ただ、そ
 れだけではなく他に学ぶ場所が欲しい。 そんな要望に
 答えるような会を目指したいと考えています。\n対象
 者：\n\nPythonプログラムに興味のある人\nPython開発の環
 境が分からない人。※環境構築の仕方が分からない（
 ＞＜）っていう方も教えますよ。\nプログラミングに
 関心のある方\n\nイベント要領\n\n勉強会：20:00〜21:30（
 途中退出OKです～）\n会場：tully's coffee 池袋サンシャイ
 ンシティアルパ店\n住所：東京都豊島区東池袋3-1-2 サ
 ンシャインアルパ内 1階\n会費：一般　参加費 500円\n内
 容：pythonプログラムの入り口までご紹介できればと思
 ってます。\n\n持ち物：\n\nノートPC\n\n環境\n\nPythonの環
 境を構築していると、開始しやすいです。環境構築し
 ていない場合は一緒に環境構築しましょう♪\nAnacondaだ
 けダウンロードお願いします。\nWindows環境、Mac環境で
 お願いします\n\nダウンロードサイト： https://www.anaconda
 .com/download\n学習用サイト：https://dotinstall.com/lessons/basic_
 python_v3\n参考図書\nスラスラわかるPython\nhttps://www.amazon.
 co.jp/exec/obidos/ASIN/4798151092/shinyorke0906-22/\n\n\n\nNo\n予定\n\n
 \n\n\n1\n環境構築（Jupyter Notebook）\n\n\n2\nprint文\n\n\n3\n変
 数\n\n\n4\n制御文（if文）\n\n\n5\n繰り返し文（for文）\n\n\
 n
LOCATION:池袋サンシャインシティ tully's coffee  アルパ店 東
 京都豊島区東池袋3-1-2
URL:https://techplay.jp/event/687725?utm_medium=referral&utm_source=ics&utm
 _campaign=ics
END:VEVENT
END:VCALENDAR
