BEGIN:VCALENDAR
VERSION:2.0
PRODID:-//https://techplay.jp//JP
CALSCALE:GREGORIAN
METHOD:PUBLISH
X-WR-CALDESC:第1回「体系的に学ぶ 安全なWebアプリケーショ
 ンの作り方 第2版」読書会
X-WR-CALNAME:第1回「体系的に学ぶ 安全なWebアプリケーショ
 ンの作り方 第2版」読書会
X-WR-TIMEZONE:Asia/Tokyo
BEGIN:VTIMEZONE
TZID:Asia/Tokyo
BEGIN:STANDARD
DTSTART:19700101T000000
TZOFFSETFROM:+0900
TZOFFSETTO:+0900
TZNAME:JST
END:STANDARD
END:VTIMEZONE
BEGIN:VEVENT
UID:687860@techplay.jp
SUMMARY:第1回「体系的に学ぶ 安全なWebアプリケーション
 の作り方 第2版」読書会
DTSTART;TZID=Asia/Tokyo:20180822T183000
DTEND;TZID=Asia/Tokyo:20180822T200000
DTSTAMP:20260419T185418Z
CREATED:20180730T060521Z
DESCRIPTION:イベント詳細はこちら\nhttps://techplay.jp/event/68786
 0?utm_medium=referral&utm_source=ics&utm_campaign=ics\n\n概要\n書籍
 「体系的に学ぶ 安全なWebアプリケーションの作り方 
 第2版」（ https://www.amazon.co.jp/dp/4797393165 ） の読書会で
 す。書籍をお持ちになってご参加ください。\n会場の
 ある県都ビルは信学会と住宅供給公社が入っている建
 物です。正面玄関が閉まっている場合はビルの裏側に
 回って通用口からお入りください。\n特に発言を求め
 たりはしませんので、黙って座って読んで帰って頂い
 てもOKです。意識が高くない人でも大丈夫です！！！
 ！！\nリモートでの参加も可能ですので、その旨twitter
 等でお知らせください。\n進め方\n\n二週に一度のギー
 ラボのもくもく会の時間を使う\n持ち回りで適当な分
 量を音読して、その後コメントし合う\nその日の進捗
 をお手すきの人がnsegのwikiに記載する。\n
LOCATION:GEEKLAB.NAGANO 長野県長野市南県町1003 (県都ビル6階)
URL:https://techplay.jp/event/687860?utm_medium=referral&utm_source=ics&utm
 _campaign=ics
END:VEVENT
END:VCALENDAR
