BEGIN:VCALENDAR
VERSION:2.0
PRODID:-//https://techplay.jp//JP
CALSCALE:GREGORIAN
METHOD:PUBLISH
X-WR-CALDESC:Accessibility Step Vol.01
X-WR-CALNAME:Accessibility Step Vol.01
X-WR-TIMEZONE:Asia/Tokyo
BEGIN:VTIMEZONE
TZID:Asia/Tokyo
BEGIN:STANDARD
DTSTART:19700101T000000
TZOFFSETFROM:+0900
TZOFFSETTO:+0900
TZNAME:JST
END:STANDARD
END:VTIMEZONE
BEGIN:VEVENT
UID:687869@techplay.jp
SUMMARY:Accessibility Step Vol.01
DTSTART;TZID=Asia/Tokyo:20180810T190000
DTEND;TZID=Asia/Tokyo:20180810T213000
DTSTAMP:20260425T233159Z
CREATED:20180730T060609Z
DESCRIPTION:イベント詳細はこちら\nhttps://techplay.jp/event/68786
 9?utm_medium=referral&utm_source=ics&utm_campaign=ics\n\nAccessibility St
 ep\nアクセシビリティを勉強したい人が集まって、勉強
 したり相談したりと1歩踏み出す・踏み込む勉強会です
 。\n記念すべき第一回は、株式会社サイバーエージェ
 ント @masuP9（桝田草一）さんをゲストに迎えます。\n対
 象者\nアクセシビリティに興味がある人、勉強したい
 と思っている人、業務で取り組んでいる人 etc…\nタイ
 ムテーブル\n\n\n\n時間\n詳細\n発表者\n\n\n\n\n18:30 -\n開場
 \n\n\n\n19:00 -\nオープニング\n@38_mot\n\n\n19:10 -\nセッショ
 ン 「一歩踏み込んだときにやりがち、アクセシビリテ
 ィ向上の失敗例」"良かれと思ってやったんや…" そん
 なアクセシビリティ向上のための実装やデザイン改修
 、啓蒙。でも実は失敗...ダメ....!。アクセシビリティ
 へ一歩踏み込んだときにやりがちな失敗例とその改善
 をお話します。\n@masup9\n\n\n19:40 -\nAMA（Ask Me Anything 質疑
 応答 + 何でも聞いてねタイム）\n@masup9\n\n\n20:10 -\n休憩\
 n\n\n\n20:20 -\n「アクセシビリティ初心者が一歩踏み出し
 た話」(10分)\n@Fujita-nulab\n\n\n20:35 -\n「ラジオボタン、チ
 ェックボックスをキーボード操作できなくなるCSSは止
 めろ！」(10分)\n@Garyuten\n\n\n20:45 -\n「アクセシビリティ
 チェックを自動化するためのmarkuplintのロードマップ」
 (10分)\n@YusukeHirao\n\n\n21:00 -\nプチ懇親会\n\n\n\n21:30\nクロ
 ージング\n@38_mot\n\n\n\n※LTの内容・詳細は追って追加し
 てまいります！\nAMA（Ask Me Anything 質疑応答 + 何でも聞
 いてねタイム）\n@masuP9 にセッションのことでもそうじ
 ゃないことでもなんでも質問タイム！例えば…\n\nアク
 セシビリティ関係の実装のこと\n啓蒙活動のお悩み相
 談\nサイバーエージェントについて\n富士そばについて
 \n\n"可能な限りお答えします！"（本人談）\n登壇につ
 いて\nLT登壇者募集中です！\nアクセシビリティに関す
 ることなら何でもOKです。\nデザイン・フロントエンド
 などの縛りは今回ありません。\n登壇枠・登壇時間\n募
 集は現在2枠しか設けていませんが、応募人数・希望時
 間により調整します。\nフレキシブルの予定ですので
 、一人5〜15分目安で考えています。\n発表者は申込時
 のアンケートに希望時間をご記入ください。 記入がな
 い場合は5分とします。\n登壇順\n発表内容・希望時間
 にあわせて主催が決めますが、早め・遅めなど希望が
 あれば申し込み時にご記入ください。\n参加費\n無料で
 す。\n会場\nGeek Studio\n〒810-0073 福岡県福岡市中央区舞
 鶴1−9−3 朝日プラザ天神1204号室\n日時\n2018/08/10（金）
  19:00 ~ 21:30\n開場は18:30を予定しています。\n連絡・お
 問い合わせ先\n何かありましたら、下記Twitterアカウン
 トにご連絡ください。\nTwitter: @38_mot\nその他\n途中参加
 、早めに早退なども大丈夫です。 その場合はお知らせ
 ください。\nその他何かありましたら、ご気軽にご連
 絡ください！\n更新履歴\n\n2018/07/30 公開\n2018/07/30 セッ
 ション、AMAについて追記\n2018/08/07  LTについて追記\n
LOCATION:Geek Studio 〒810-0073 福岡県福岡市中央区舞鶴1−9−3
  朝日プラザ天神1204号室
URL:https://techplay.jp/event/687869?utm_medium=referral&utm_source=ics&utm
 _campaign=ics
END:VEVENT
END:VCALENDAR
