BEGIN:VCALENDAR
VERSION:2.0
PRODID:-//https://techplay.jp//JP
CALSCALE:GREGORIAN
METHOD:PUBLISH
X-WR-CALDESC:『プログラミング無しでここまでできる！Neura
 l Network Console活用のススメ』三木会（さんもくかい）
 ＠大阪
X-WR-CALNAME:『プログラミング無しでここまでできる！Neura
 l Network Console活用のススメ』三木会（さんもくかい）
 ＠大阪
X-WR-TIMEZONE:Asia/Tokyo
BEGIN:VTIMEZONE
TZID:Asia/Tokyo
BEGIN:STANDARD
DTSTART:19700101T000000
TZOFFSETFROM:+0900
TZOFFSETTO:+0900
TZNAME:JST
END:STANDARD
END:VTIMEZONE
BEGIN:VEVENT
UID:688083@techplay.jp
SUMMARY:『プログラミング無しでここまでできる！Neural Net
 work Console活用のススメ』三木会（さんもくかい）＠大
 阪
DTSTART;TZID=Asia/Tokyo:20180927T183000
DTEND;TZID=Asia/Tokyo:20180927T204000
DTSTAMP:20260424T131549Z
CREATED:20180731T090956Z
DESCRIPTION:イベント詳細はこちら\nhttps://techplay.jp/event/68808
 3?utm_medium=referral&utm_source=ics&utm_campaign=ics\n\nプログラミ
 ング無しでここまでできる！Neural Network Console活用のス
 スメ\n\n\n概要\nお酒を片手に最新のDBテクノロジーを学
 ぶオープンな勉強会「三木会（さんもくかい）」。Oral
 ce\, SQL Server\, PostgreSQLやMySQL/MariaDBなどのデータベース
 のコアテクノロジー、データを分析するためのテクノ
 ロジーに注目し、更に幅広いデータベース事情を毎回
 お届けしています！！ビール＆軽食をご用意して皆さ
 まのお申し込みを楽しみにお待ちしております。\nタ
 イムスケジュール\n\n    \n        \n            時間\n         
    タイトル・概要\n        \n        \n            18:15〜\n     
        受付開始\n        \n        \n            18:30〜20:40\n     
        ご挨拶／乾杯「プログラミング無しでここまでで
 きる！Neural Network Console活用のススメ」講師：足立 悠 (
 Haruka Adachi)  氏2017年はAI元年、2018年はAIの民主化元年と
 言われるように、誰もがAIを使える社会が到来しつつ
 ある今、マウスのドラッグ＆ドロップだけで簡単にAI
 （ディープラーニング）モデルを作成できるNeural Networ
 k Consoleが注目を集めています。本セッションではNeural 
 Network Consoleの概要と、時系列データの異常検知などを
 例に具体的な活用方法を紹介します。\n        \n    \n\n
 ※プログラム内容、タイトルは予告なしに変更する可
 能性があります。\n\n お申込み・詳細\n※参加申込は以
 下のURLからお願いいたします　TechPlayでは受け付けて
 おりません。https://www.db-tech-showcase.com/events-seminars/db-tec
 h-salon/20180927_3moku\n\n開催概要日 程：2018年9月27日(木)　1
 8:30 - 20:40 (受付開始 18:15)会 場：株式会社インサイトテ
 クノロジー 大阪支店大阪市北区大深町3-1　グランフロ
 ント大阪ナレッジキャピタルタワーC 11Fhttp://www.insight-t
 ec.com/about/参加費：無料
LOCATION:株式会社インサイトテクノロジー 大阪支店(グラ
 ンフロント大阪ナレッジキャピタルタワーC11F) 大阪市
 北区大深町3-1 グランフロント大阪 ナレッジキャピタ
 ルタワーC 11F
URL:https://techplay.jp/event/688083?utm_medium=referral&utm_source=ics&utm
 _campaign=ics
END:VEVENT
END:VCALENDAR
