BEGIN:VCALENDAR
VERSION:2.0
PRODID:-//https://techplay.jp//JP
CALSCALE:GREGORIAN
METHOD:PUBLISH
X-WR-CALDESC:第１１杯目 UDONPy もくもく会
X-WR-CALNAME:第１１杯目 UDONPy もくもく会
X-WR-TIMEZONE:Asia/Tokyo
BEGIN:VTIMEZONE
TZID:Asia/Tokyo
BEGIN:STANDARD
DTSTART:19700101T000000
TZOFFSETFROM:+0900
TZOFFSETTO:+0900
TZNAME:JST
END:STANDARD
END:VTIMEZONE
BEGIN:VEVENT
UID:688089@techplay.jp
SUMMARY:第１１杯目 UDONPy もくもく会
DTSTART;TZID=Asia/Tokyo:20180831T190000
DTEND;TZID=Asia/Tokyo:20180831T210000
DTSTAMP:20260424T093221Z
CREATED:20180731T100513Z
DESCRIPTION:イベント詳細はこちら\nhttps://techplay.jp/event/68808
 9?utm_medium=referral&utm_source=ics&utm_campaign=ics\n\nこの勉強会
 について\n主にPythonに関するやりたいことを各自持っ
 て来て、進めていく感じのゆるい会です。\nもくもく
 開発をしたり、情報共有したりして、交流を深めるこ
 とができればと思っています。\n是非お気軽にご参加
 ください。（Python初心者の方でも大歓迎です！）\n参
 加対象者\n\nPythonプログラミングに興味がある方。\n初
 心者だけどPythonに触れてみたい方。\n我こそはPythonマ
 スターだ！という方。\n\n日時・会場場所\n日時\n\n2018
 年8月31日（金） 19:00 - 21:00\n\n会場\n\nnaninuneon\n香川県高
 松市内町1-13 日新内町ビル6F\n\nタイムテーブル\n\n\n\n時
 間\nコンテンツ\n\n\n\n\n19:00 - 19:05\n自己紹介(初参加の方
 )\n\n\n19:05 - 20:35\nもくもく開発\n\n\n20:35 - 20:45\n成果発表
 、今後のテーマや開催方法に関して意見交換\n\n\n20:45 -
  21:00\n後片付け、撤収、次回日程調整\n\n\n21:00 -\nもぐ
 もぐ会(希望者)\n\n\n\nリモート参加の接続先\nその他\n\n
 パソコン＆Pythonが使える環境。\nPythonのインストール
 は、こちらをご参照ください。\nもくもくする書籍な
 ど。\n\n参考資料\n\nPython Boot Campテキスト\n　　初心者
 向けチュートリアルで使用したテキストです。\n
LOCATION:naninuneon 香川県高松市内町1-13 (日新内町ビル6F)
URL:https://techplay.jp/event/688089?utm_medium=referral&utm_source=ics&utm
 _campaign=ics
END:VEVENT
END:VCALENDAR
