BEGIN:VCALENDAR
VERSION:2.0
PRODID:-//https://techplay.jp//JP
CALSCALE:GREGORIAN
METHOD:PUBLISH
X-WR-CALDESC:【1-2day】パ・リーグ×パーソル　ベースボール
 データハッカソン
X-WR-CALNAME:【1-2day】パ・リーグ×パーソル　ベースボール
 データハッカソン
X-WR-TIMEZONE:Asia/Tokyo
BEGIN:VTIMEZONE
TZID:Asia/Tokyo
BEGIN:STANDARD
DTSTART:19700101T000000
TZOFFSETFROM:+0900
TZOFFSETTO:+0900
TZNAME:JST
END:STANDARD
END:VTIMEZONE
BEGIN:VEVENT
UID:688366@techplay.jp
SUMMARY:【1-2day】パ・リーグ×パーソル　ベースボールデ
 ータハッカソン
DTSTART;TZID=Asia/Tokyo:20181006T100000
DTEND;TZID=Asia/Tokyo:20181007T190000
DTSTAMP:20260420T122307Z
CREATED:20180801T025350Z
DESCRIPTION:イベント詳細はこちら\nhttps://techplay.jp/event/68836
 6?utm_medium=referral&utm_source=ics&utm_campaign=ics\n\n\n\n【1-2day】
 パ・リーグ×パーソル ベースボール データハッカソン
 \n\n概要\n\n野球の勝利にかかわる選手のパフォーマン
 スなどベースボールオペレーションの分析はもちろん
 のこと、ベースボールビジネスにかかわる貴重なデー
 タを提供します。野球パフォーマンスだけでもなく、
 マーケティングだけでもない、未知の領域をハックす
 るイベントです。パ・リーグの試合での勝利が球団価
 値をいかに高めるのか？野球の価値にせまるハッカソ
 ン。野球の経験がない方でも参加できるように、ベー
 スボールオペレーションの丁寧な解説もあります。\n
 ※個人・グループのどちらでも参加可能です。\n\n【参
 考：9月15日開催のプレイベントの様子】\nスポーツ報
 知記事\n日刊スポーツ記事\nfull-count記事\n\nハッカソン
 テーマ\n\nいずれかの2部門に参加し、選出された上位3
 名/チームはアワードにて発表いただきます。さらにそ
 れぞれの部門での優勝者には豪華賞品が！！\n\nエンジ
 ニアリング部門：データから予測精度を競う\nパフォ
 ーマンスとマーケティングに関する提供データから、
 「観客数」「EC購入金額」「学習データ」を予測し、
 その精度を競う部門です。\n\nコンサルティング部門：
 データから新しい発見を導き出す\nデータから新しい
 アイディア価値を発想、創造し、ビジネス目線で分析
 を行う部門です。発表時には、球団経営者をオーディ
 エンスと想定してプレゼンしてもらいます。\n\nタイム
 スケジュール\n\n\n\n\n  時間\n  内容\n\n\n\n\n  day1(10/6) 9:30
 〜\n  開場・受付開始\n\n\n  day1(10/6) 10:00〜11:00\n  オープ
 ニング\n\n\n  day1(10/6) 11:00〜19:00\n  ハッカソン 1日目選
 手の基礎的なパフォーマンス指標から、ベースボール
 オペレーションで知られる最新の指標を冒頭に解説。
 パーフォーマンスとマーケティングのデータを提供。
 統合して分析をおこなう野球データのハッカソンを実
 施。同日終了までに、2部門のどちらに参加するか決め
 てもらいます。\n\n\n  day2(10/7) 10:00〜15:00\n  ハッカソン 
 2日目データ分析、分析結果の発表。\n\n\n  day2(10/7) 15:00
 〜15:30\n  day2のみ参加者受付day2のみ参加される方はこ
 の時間にご来場ください。（両日参加者は休憩となり
 ます）\n\n\n  day2(10/7) 15:30〜16:30\n  キャリアセッション
 野球データに精通するDELTA市川氏、ニュースアプリの
 データにかかわるGunosy大曽根氏、異なる領域で活躍す
 るデータサイエンティストのおふたりをゲストに迎え
 、データサイエンスの仕事にせまる。野球データだか
 らこそのデータサイエンスとは？\n\n\n  day2(10/7) 16:30〜1
 7:30\n  ベースボール データハッカソン アワード各部門
 の上位3名/チームから、各5分間発表、各3分間質疑応答
 してもらいます。対象者はキャリアセッション中の審
 査を経て、発表します。\n\n\n  day2(10/7) 17:30〜19:00\n  懇
 親会各部門の優勝者の発表を行います。\n\n\n\n\n※ 当
 日予告なく時間配分・内容が変更になる可能性がござ
 います。\n\n受講対象者\n\n注１　2-3人のチームを組ん
 での参加可能です！\n注２　ハッカソン両日参加希望
 者は、両日程に参加可能な方のみに限ります。\n注３
 　day2のみ参加希望者は、10/7 15:00からの参加となりま
 す。（申込者には詳細メールにてお送りします）\n\n受
 講したい方は誰でも応募していただいて結構です。\n
 大学生・社会人は問いませんが、下記のような方々を
 想定したレクチャーであることをご了承ください。\n\n
 \nデータにかかわる仕事（研究含む）をしている方\nエ
 ンジニアリングに関わる仕事（研究含む）をしている
 方\nプログラムコードを書いたり、レビューするよう
 な仕事をしている方\n技術部門などのマネージャー、
 または、マネージャーを目指す方\n確率統計や機械学
 習を用いた研究をしている大学院生\n\n\n※ リクルーテ
 ィング、勧誘など、採用目的でのイベント参加はお断
 りしております。\n※ 飲食のみを目的としたご応募・
 ご来場はご遠慮ください。\n※ 欠席される場合は、お
 手数ですが速やかにキャンセル処理をお願い致します
 。\n\n登壇者\n\n\n\n大曽根 圭輔 | OSONE\, Keisuke\n\n株式会
 社Gunosy\n\n筑波大学大学院システム情報工学研究科博士
 後期課程修了。博士（工学）。学生時代はファジィ理
 論などのソフトコンピューティング技術の応用研究に
 従事。新卒で入社した㈱サイバードにてデータ分析部
 門立ち上げ等を担当。2015年に㈱Gunosyへ入社し、ユーザ
 行動解析、記事配信アルゴリズム改善を担当。現在は
 データ分析部マネージャ。社外での活動として、デー
 タ可視化プロジェクトやハッカソンに参加し、総務大
 臣賞 (STAT DASHグランプリ2016) などを受賞。\n\n\n\n\n\n市
 川 博久 | ICHIKAWA\, Hirohisa\n\n株式会社DELTA\n\n埼玉県川越
 市出身。早稲田大学法学部卒業、慶應義塾大学大学院
 法務研究科修了の後、司法試験に合格。NPBのデータを
 もとにした分析がきっかけで、株式会社DELTAの協力ア
 ナリストとしてwebサイト「1.02」や書籍『デルタ・ベー
 スボールリポート１』（水曜社）、「数字で斬る2015プ
 ロ野球セ・リーグ編」（ベースボール・マガジン社）
 等に寄稿するようになる。現在は、埼玉県内の法律事
 務所にて弁護士として勤務する傍ら、データ分析記事
 の執筆、動画配信サービス「DAZN」で配信中の「野球ラ
 ボ」への出演等アナリストとしての活動を行っている
 。\n\n\n\n\n\n鹿内学｜SHIKAUCHI\, Manabu. Ph.D.\n\nパーソルキ
 ャリア株式会社 Innovation Lab.\n\n大学院・研究機関にて
 認知神経科学の基礎研究に従事。ブレインマシンイン
 タフェースの国家プロジェクト (参画プロジェクトの
 紹介動画)では、脳活動データの計測、機械学習による
 分析にたずさわる。また、脳活動データ活用の社会実
 装を検討する有識者会議での研究者窓口も務めた。生
 体データなどのパーソナルデータにおいて、倫理、法
 制、技術の観点からガイドラインを作成する議論に関
 わった。\n2015年より、企業活動に軸足をうつし、人事
 データ分析ピープル・アナリティクスの新規事業開発
 にたずさわる。2017年には東京大学 経済学研究科 社内
 イノベーター特論で講義。Data Ship 新規事業開発メンバ
 ー。\n\n\n\n持ち物\n\nデータハッカソン参加者のみPC\n名
 刺1枚  ※ 受付時にお渡し下さい。\n\n参加費\n\n無料\n\n
 Web Site & SNS\n\nWeb Site\nFacebook\nTwitter  #DataShip\n
LOCATION:TECH PLAY SHIBUYA 東京都渋谷区宇田川町20-17 NMF渋谷公
 園通りビル 8F
URL:https://techplay.jp/event/688366?utm_medium=referral&utm_source=ics&utm
 _campaign=ics
END:VEVENT
END:VCALENDAR
