BEGIN:VCALENDAR
VERSION:2.0
PRODID:-//https://techplay.jp//JP
CALSCALE:GREGORIAN
METHOD:PUBLISH
X-WR-CALDESC:プログラミング無料体験～ITをもっと身近に～
  in小倉
X-WR-CALNAME:プログラミング無料体験～ITをもっと身近に～
  in小倉
X-WR-TIMEZONE:Asia/Tokyo
BEGIN:VTIMEZONE
TZID:Asia/Tokyo
BEGIN:STANDARD
DTSTART:19700101T000000
TZOFFSETFROM:+0900
TZOFFSETTO:+0900
TZNAME:JST
END:STANDARD
END:VTIMEZONE
BEGIN:VEVENT
UID:688519@techplay.jp
SUMMARY:プログラミング無料体験～ITをもっと身近に～ in
 小倉
DTSTART;TZID=Asia/Tokyo:20180813T140000
DTEND;TZID=Asia/Tokyo:20180813T170000
DTSTAMP:20260424T220330Z
CREATED:20180801T140322Z
DESCRIPTION:イベント詳細はこちら\nhttps://techplay.jp/event/68851
 9?utm_medium=referral&utm_source=ics&utm_campaign=ics\n\n【若者こそ
 体験してほしい　ITで変わる未来の働き方】\n概要\nプ
 ログラミングって難しそう・・・\nそんなイメージを
 吹っ飛ばします！！\nプログラミングの初心者や今後IT
 業界で仕事をしたい方に向けたプログラミングセミナ
 ーです。\nスマートフォンのアプリ、自動車の制御や
 自動運転技術、FBやTwitter等のSNS、AIやロボット等々\n身
 近にあるものやニュースで話題になっている多くのも
 のにITの技術が使われています。\nそんなIT技術に欠か
 せないプログラミングについてわかりやすく説明しま
 す。\n内容\n【プログラミングってどんなもの？なにが
 できるの？】\n日常の一コマからプログラミングにつ
 いてお話します。\n【ゲームで体験する「プログラミ
 ング」】\n道中の課題をクリアしてキャラクターをゴ
 ールまで導くプログラミングゲームを使って、\n楽し
 みながらプログラミングの考え方を学びます。\n【プ
 ログラミング実践、デモンストレーション】\nプログ
 ラミング学習ツールを使い、実際にプログラムを書い
 て動かしてみます。\n簡単な部分から少し難しい部分
 まで、実際に動かしてみることでどのような動きをす
 るのかを学びます。\n【ＩＴの可能性と働き方】\nＩＴ
 技術は日々進化し、生活を豊かにしていきます。\nそ
 んなＩＴ技術の可能性とその技術を駆使して仕事を行
 うＩＴエンジニアの職の働き方についてお話します。\
 n対象\n・プログラミング初心者の方\n・これからプロ
 グラミングを始めたい方\n・これからＩＴ業界でエン
 ジニアとして働きたい方\n・プログラミングに興味が
 ある方
LOCATION:Compass小倉 北九州市小倉北区浅野3-8-1(AIMビル6階)
URL:https://techplay.jp/event/688519?utm_medium=referral&utm_source=ics&utm
 _campaign=ics
END:VEVENT
END:VCALENDAR
