BEGIN:VCALENDAR
VERSION:2.0
PRODID:-//https://techplay.jp//JP
CALSCALE:GREGORIAN
METHOD:PUBLISH
X-WR-CALDESC:mercari in-house marketing-メルカリマーケ主催
X-WR-CALNAME:mercari in-house marketing-メルカリマーケ主催
X-WR-TIMEZONE:Asia/Tokyo
BEGIN:VTIMEZONE
TZID:Asia/Tokyo
BEGIN:STANDARD
DTSTART:19700101T000000
TZOFFSETFROM:+0900
TZOFFSETTO:+0900
TZNAME:JST
END:STANDARD
END:VTIMEZONE
BEGIN:VEVENT
UID:688656@techplay.jp
SUMMARY:mercari in-house marketing-メルカリマーケ主催
DTSTART;TZID=Asia/Tokyo:20180823T183000
DTEND;TZID=Asia/Tokyo:20180823T210000
DTSTAMP:20260419T212032Z
CREATED:20180802T100323Z
DESCRIPTION:イベント詳細はこちら\nhttps://techplay.jp/event/68865
 6?utm_medium=referral&utm_source=ics&utm_campaign=ics\n\nイベント概
 要\nMarketingのin-house運用を対象にした勉強会となります
 。\nアプリ、WebのMarketing担当であり、Online広告、SEOな
 どの集客で課題をもっている方に\n是非参加していた
 だき、共に学び成長していく場にできればと思います
 。\n業種業態は関係なく、in-houseを進めたい、進めるた
 めのスキルをもっとつけたい方にご参加いただければ
 幸いです。\n飲み物を用意してお待ちしております！
 ！\n申込方法\nconnpassよりお申し込みお願いします\n※
 抽選結果 は 抽選通過の方に限り順次メッセージにて
 ご案内させていただいております。\n※締切締切：8月2
 0日（月） 15:00まで\nタイムテーブル\n\n\n\n開始\n終了\n
 スケジュール内容\n\n\n\n\n18:30\n19:00\n受付開始\n\n\n19:10\n
 19:20\nオープニング＆乾杯 @Sakattsu\n\n\n19:20\n19:40\n勉強会
 ①：メルカリが進めるin-housu運用 @Sakattsu\n\n\n19:40\n20:10\
 n勉強会②：テマヒマ平岡様\n\n\n20:10\n20:30\n質疑応答：h
 ttps://www.sli.do/\n\n\n20:30\n21:00\n懇親会\n\n\n21:00\n21:10\nクロ
 ージング @Sakattsu\n\n\n\nhttps://www.sli.do/\n招待コード：#B27
 6\n登壇者紹介\n株式会社メルカリ マーケ 坂田博昭(@Saka
 ttsu)\n長野銀行を経て、20代でWebコンサルティング会社
 の役員として200業種以上に携わる。その後DeNAにてオン
 ラインを中心としたマーケティングに従事。事業譲渡
 にてKDDIグループへ転籍し、オフラインを含めた総合的
 なマーケティングを経験した後、現在メルカリのマー
 ケティングチームにて、同社の成長を牽引。\n株式会
 社テマヒマ　代表取締役　平岡大輔\n世の中に健全な
 マーケティングを浸透させるために、企業のマーケテ
 ィング組織構築支援に取り組んでいる。趣味はマーケ
 ティングと女性の恋愛相談に乗ること。\n会場\n株式会
 社メルカリ ( 東京都港区六本木6-10-1 六本木ヒルズ森タ
 ワー18F )\n18:30開場、19:00 開始の予定です。\n六本木ヒ
 ルズ森タワーのLL階にある 専用受付カウンター にて、
 入館証を発行させていただきますので、お持ちになっ
 て18Fイベント会場までお越しください。\n※19時00分以
 降の受付につきましては、基本不参加とさせていただ
 きます。\nその他の注意事項\n\nゲスト用の Wi-Fi があり
 ます。\n入館・退館のやり方はよく目を通しておいて
 ください。\n会場設備の関係上、イベント終了後は速
 やかに撤収となります。\nブログ・ツイッター等での
 発信は積極的にしていただけるとありがたいです。\n
 都合が悪くなった場合は早めのキャンセル処理をお願
 いします。\n
LOCATION:株式会社メルカリ 東京都港区六本木6-10-1(六本木
 ヒルズ森タワー18F)
URL:https://techplay.jp/event/688656?utm_medium=referral&utm_source=ics&utm
 _campaign=ics
END:VEVENT
END:VCALENDAR
