BEGIN:VCALENDAR
VERSION:2.0
PRODID:-//https://techplay.jp//JP
CALSCALE:GREGORIAN
METHOD:PUBLISH
X-WR-CALDESC:PyCon APAC レポート執筆打ち上げ兼暑気払い
X-WR-CALNAME:PyCon APAC レポート執筆打ち上げ兼暑気払い
X-WR-TIMEZONE:Asia/Tokyo
BEGIN:VTIMEZONE
TZID:Asia/Tokyo
BEGIN:STANDARD
DTSTART:19700101T000000
TZOFFSETFROM:+0900
TZOFFSETTO:+0900
TZNAME:JST
END:STANDARD
END:VTIMEZONE
BEGIN:VEVENT
UID:688659@techplay.jp
SUMMARY:PyCon APAC レポート執筆打ち上げ兼暑気払い
DTSTART;TZID=Asia/Tokyo:20180816T193000
DTEND;TZID=Asia/Tokyo:20180816T220000
DTSTAMP:20260423T011320Z
CREATED:20180802T100340Z
DESCRIPTION:イベント詳細はこちら\nhttps://techplay.jp/event/68865
 9?utm_medium=referral&utm_source=ics&utm_campaign=ics\n\nPyCon APAC レ
 ポート執筆を暑気払いを兼ねて行います！\n飲食\n\n19
 時半〜（飲み放題）\nビアガーデンプラン\n\n場所\n\nベ
 トナムガーデン\n東京都渋谷区千駄ヶ谷5−24−3 NTTドコ
 モアネックスⅠ ２F\nhttps://vietnamgarden.business.site/\n\n料
 金\n\n4000円\n
LOCATION:ベトナムガーデン 東京都渋谷区千駄ヶ谷5−24−3 
 NTTドコモアネックスⅠ ２F
URL:https://techplay.jp/event/688659?utm_medium=referral&utm_source=ics&utm
 _campaign=ics
END:VEVENT
END:VCALENDAR
