BEGIN:VCALENDAR
VERSION:2.0
PRODID:-//https://techplay.jp//JP
CALSCALE:GREGORIAN
METHOD:PUBLISH
X-WR-CALDESC:Unity Zenject完全に理解した
X-WR-CALNAME:Unity Zenject完全に理解した
X-WR-TIMEZONE:Asia/Tokyo
BEGIN:VTIMEZONE
TZID:Asia/Tokyo
BEGIN:STANDARD
DTSTART:19700101T000000
TZOFFSETFROM:+0900
TZOFFSETTO:+0900
TZNAME:JST
END:STANDARD
END:VTIMEZONE
BEGIN:VEVENT
UID:688670@techplay.jp
SUMMARY:Unity Zenject完全に理解した
DTSTART;TZID=Asia/Tokyo:20180906T190000
DTEND;TZID=Asia/Tokyo:20180906T220000
DTSTAMP:20260420T061427Z
CREATED:20180802T100425Z
DESCRIPTION:イベント詳細はこちら\nhttps://techplay.jp/event/68867
 0?utm_medium=referral&utm_source=ics&utm_campaign=ics\n\n内容\n\nUnity
 でDI (Dependency Injection) を行うためのライブラリ Zenject 
 の知見を持つメンバーがトーク/LTを行います\nUnityおよ
 び Zenject に興味/理解があるメンバー同士で懇親会を行
 います\n\nターゲット\n\nZenjectを完全に理解している人\
 nZenjectを完全に理解したい人\nZenjectに興味がある人\n\n
 場所\n\n株式会社ミクシィ様のイベントスペースをお借
 りして実施致します\n東京都渋谷区東1-2-20 住友不動産
 渋谷ファーストタワー7F コラボスペース (GoogleMap)\n正
 面口から入りまして、直接7Fまでお越しください。\n\n
 動画配信\n下記のURLで生配信します\nhttps://www.youtube.com/
 watch?v=AAGOgof-Nzs\nタイムスケジュール\nトークの内容/時
 間配分に関しては予告なる変更する可能性があります
 。あらかじめご了承ください。\n\n\n\n\n内容\n担当\n\n\n\
 n\n19:00\n受付開始\n\n\n\n19:30\nイントロダクション\n\n\n\n1
 9:40\nゲーム案件にZenject導入した経験を語る\n@KaseliaePeng
 uin\n\n\n20:00\n文脈を操る美しきZenjectプロジェクトから
 の眺め 〜Contextの扱い方と活用方法〜\n@mikito0521\n\n\n20:2
 0\n休憩\n-\n\n\n20:25\nLT枠 インタフェースの使い方\n@toRiso
 uP\n\n\n20:35\nLT枠 Zenject完全には理解できなかった〜実運
 用におけるアンチパターンとその回避策〜\n@notargs\n\n\n
 20:45\nLT枠 Zenjectの機能をご紹介　〜テストの巻〜\n@nozom
 in770\n\n\n20:55\nLT枠 Zenjectはじめの一歩：ゲームデータを
 ScriptableObjectでInject！\n@lucifuges\n\n\n21:05\n懇親会準備\n\n\
 n\n21:10\n懇親会\n\n\n\n22:00\n片付け\n\n\n\n\nLT参加者募集！
 \n本勉強会ではLT (10分間) でZenjectのノウハウについて
 話してくれる方を募集しております。\nお気軽にお申
 し込みください！\n注意事項\n\n会場ではWi-Fiを使用で
 きます。\n会場では電源を全員分提供できかねます。PC
 等をご使用になる場合、事前の充電にご協力ください
 。\n都合が悪くなった場合は早めのキャンセル処理を
 お願いします。\n体調不良や緊急の業務等、やむを得
 ない場合をのぞき、当日キャンセルは控えてください
 。\nスムーズな運営のため、以下に該当する方はご参
 加をお断りする場合がございます。予めご了承くださ
 い。\n反社会的勢力に属する方\n飲食が目的と見られる
 方\n保険/投資用不動産/宗教/ネットワークビジネス等
 の勧誘が目的と見られる方\n主催者判断で不適切だと
 判断した方\n\n\n\n更新履歴\n\n2018/08/03 … イベントを公
 開しました\n
LOCATION:株式会社ミクシィ 東京都渋谷区東1-2-20
URL:https://techplay.jp/event/688670?utm_medium=referral&utm_source=ics&utm
 _campaign=ics
END:VEVENT
END:VCALENDAR
