BEGIN:VCALENDAR
VERSION:2.0
PRODID:-//https://techplay.jp//JP
CALSCALE:GREGORIAN
METHOD:PUBLISH
X-WR-CALDESC:【9/1（土）午後】初心者向けシリーズ①『Pytho
 nとJupyterNotebookの基礎』
X-WR-CALNAME:【9/1（土）午後】初心者向けシリーズ①『Pytho
 nとJupyterNotebookの基礎』
X-WR-TIMEZONE:Asia/Tokyo
BEGIN:VTIMEZONE
TZID:Asia/Tokyo
BEGIN:STANDARD
DTSTART:19700101T000000
TZOFFSETFROM:+0900
TZOFFSETTO:+0900
TZNAME:JST
END:STANDARD
END:VTIMEZONE
BEGIN:VEVENT
UID:689001@techplay.jp
SUMMARY:【9/1（土）午後】初心者向けシリーズ①『PythonとJ
 upyterNotebookの基礎』
DTSTART;TZID=Asia/Tokyo:20180901T130000
DTEND;TZID=Asia/Tokyo:20180901T171000
DTSTAMP:20260425T120327Z
CREATED:20180804T060428Z
DESCRIPTION:イベント詳細はこちら\nhttps://techplay.jp/event/68900
 1?utm_medium=referral&utm_source=ics&utm_campaign=ics\n\n今からでも
 遅くない！プログラミングやPythonの基礎を学び、日々
 の業務を効率化しましょう！\n\n\n\n内容\n\n　プログラ
 ミングやPython、「ちょっと始めてみようかな、でもど
 こから始めたらよいか分からない」、そんな初心者の
 方向けに少人数で基礎から学べるコースを用意しまし
 た。\n　大阪の市役所にほど近いイベント・コワーキ
 ングスペースSOLで土曜の昼下がりから一緒に勉強を始
 めてみませんか？\n\n１コマ目は、PCの初歩的なコマン
 ド操作やJupyerNotebookの環境構築、Pythonプログラミング
 の基礎について学習します。\n\n２コマ目は、Pythonのラ
 イブラリPandasを使って、皆様もきっとよく業務でお使
 いになるエクセルファイルを前処理してみる演習を実
 施する予定です。\n\n　プログラミングは最初は覚える
 までの学習コストが高く、手作業でやってしまった方
 が早いと思われるかもしれませんが、あるレベルを超
 えるとほんの数行のコードでいつもやっている定型的
 な処理を自動化できたり、圧倒的に業務を効率化でき
 るようになる場合があります。\n　面倒なエクセル作
 業から解放されてもっと生産的なことに時間を使いた
 いという方、あるいは単純にPythonやプログラミングに
 興味がある、何か新しいことにチャレンジしたいとい
 ったきっかけでもかまいません。\n\n　通常平日夜に2
 週に分けて開催している本講座ですが、仕事帰りの参
 加は難しいという方のご要望もあり、土曜日の午後半
 日で開催することとしました。途中コーヒーブレイク
 もはさみ、参加者の方同士での交流も促進したいと思
 います。\n　ご興味がおありの方はぜひご参加くださ
 いませ！\n\n対象者\n\n・プログラミングやPythonの学習
 を新たに始めてみたい方\n・Pythonでのデータ分析に興
 味のある方\n　※ノートPC をご持参ください。（PC環境
 はWindows7以降、Mac10.9(Mavericks)以降。）\n　※本講座はプ
 ログラミング未経験の方を主な対象としているため、
 他のプログラミング言語の経験者の方にはマッチしな
 い可能性があります。何卒ご了承くださいませ。\n\n日
 程・定員・参加費\n\n　2018年9月1日（土）13:00〜17:10\n　
 定員：6名（最低催行人数3名）\n　参加費：4\,500円\n\n
 プログラム\n\n１回目\n\n\n\n時間\n内容\n\n\n\n13:00〜13:10\n
 参加者自己紹介\n\n\n13:10〜13:30\nコマンド操作の基礎（M
 ac・Windows）\n\n\n13:30〜14:10\nJupyterNotebookのインストール
 と起動方法\n\n\n14:10〜15:00\nPythonの基礎\n\n\n15:00〜15:15\n
 コーヒーブレイク\n\n\n15:15〜15:40\nPython演習問題\n\n\n15:4
 0〜16:40\nPandasを使ってExcelの前処理をしてみよう！\n\n\n
 16:40〜17:00\nPandas演習問題\n\n\n17:00〜17:10\n質疑応答\n\n\n\
 n※ プログラム構成や進行は、当日若干変更になる可
 能性がございます。\n\nその他\n\n　Scribble Osaka Lab（SOL
 ）のSlackチャンネルで、Python基礎講座の参加者同士の
 質問・情報共有用チャンネルを設けております。参加
 ご希望の方は、申込みフォームのSOLのSlack参加希望に
 チェックを入れてください。\n\n担当講師\n\n（※日に
 よって変更になります。）\n\n入江　敦央（株式会社eft
 ax・データアナリスト）\n\n\n中井　友昭（株式会社eftax
 ・マネージャー）\n
LOCATION:SCRIBBLE OSAKA LAB（SOL）（大阪メトロ御堂筋線「淀屋
 橋」駅から徒歩４分） 大阪府大阪市北区西天満二丁目
 ５番３号（堂島深川ビル３階）
URL:https://techplay.jp/event/689001?utm_medium=referral&utm_source=ics&utm
 _campaign=ics
END:VEVENT
END:VCALENDAR
