BEGIN:VCALENDAR
VERSION:2.0
PRODID:-//https://techplay.jp//JP
CALSCALE:GREGORIAN
METHOD:PUBLISH
X-WR-CALDESC:『人工知能プログラミングのための数学がわ
 かる本』読書会 #02
X-WR-CALNAME:『人工知能プログラミングのための数学がわ
 かる本』読書会 #02
X-WR-TIMEZONE:Asia/Tokyo
BEGIN:VTIMEZONE
TZID:Asia/Tokyo
BEGIN:STANDARD
DTSTART:19700101T000000
TZOFFSETFROM:+0900
TZOFFSETTO:+0900
TZNAME:JST
END:STANDARD
END:VTIMEZONE
BEGIN:VEVENT
UID:689038@techplay.jp
SUMMARY:『人工知能プログラミングのための数学がわかる
 本』読書会 #02
DTSTART;TZID=Asia/Tokyo:20180818T131500
DTEND;TZID=Asia/Tokyo:20180818T160000
DTSTAMP:20260420T233248Z
CREATED:20180804T100344Z
DESCRIPTION:イベント詳細はこちら\nhttps://techplay.jp/event/68903
 8?utm_medium=referral&utm_source=ics&utm_campaign=ics\n\n内容\n『人
 工知能プログラミングのための数学がわかる本』\nを
 何人かで読んでいき、わからない箇所や気になる箇所
 などがあれば、そこで止まってみんなで意見を交換し
 合いきます。\n※ちなみに主催者はこの分野に全く詳
 しくありません\n今回はCHAPTER.2「微分」（p.49）からに
 なります\n※ 今回から参加される方は前回の箇所まで
 は読んできて下さい。\nただし、今回からの箇所はそ
 の場で読んでいくので前もって読んでくる必要はあり
 ません。\n当日必要なもの\n\n書籍：『人工知能プログ
 ラミングのための数学がわかる本』\n書籍ホームペー
 ジ： https://www.kadokawa.co.jp/product/321708000339/\n\n\nノート\n
 筆記用具\n電卓\n\nこの読書会では指定の書籍をその場
 で読んでいくので、今回の対象箇所を前もって読んで
 くる必要はありません。\n注意事項\n\n会場の電源は使
 えません\nWi-Fiは用意されていません\n30分以上遅れる
 人は欠席とみなします。※主催者側で強制キャンセル
 などする場合があります\n\n※ インターネットにつな
 がるPCを使いたい方は各自で充電したノートPCとポケッ
 トWi-Fiなどを持ってきてください。\nタイムテーブル\n\
 n\n\n時間\n内容\n\n\n\n\n13:00～13:15\n開場\n\n\n13:15～16:00\n
 読書タイム\n\n\n16:00～16:30\n撤収\n\n\n\n対象者\n人工知能
 に興味はあるが数学が苦手な人\n会場\n蕨市民会館 304
 会議室\nJR京浜東北線 蕨駅 西口 徒歩10分
LOCATION:蕨市民会館（304会議室） 埼玉県蕨市中央4丁目21-2
 9 (304会議室)
URL:https://techplay.jp/event/689038?utm_medium=referral&utm_source=ics&utm
 _campaign=ics
END:VEVENT
END:VCALENDAR
