BEGIN:VCALENDAR
VERSION:2.0
PRODID:-//https://techplay.jp//JP
CALSCALE:GREGORIAN
METHOD:PUBLISH
X-WR-CALDESC:【京都】Scala勉強会 8月31日（金）
X-WR-CALNAME:【京都】Scala勉強会 8月31日（金）
X-WR-TIMEZONE:Asia/Tokyo
BEGIN:VTIMEZONE
TZID:Asia/Tokyo
BEGIN:STANDARD
DTSTART:19700101T000000
TZOFFSETFROM:+0900
TZOFFSETTO:+0900
TZNAME:JST
END:STANDARD
END:VTIMEZONE
BEGIN:VEVENT
UID:689259@techplay.jp
SUMMARY:【京都】Scala勉強会 8月31日（金）
DTSTART;TZID=Asia/Tokyo:20180831T193000
DTEND;TZID=Asia/Tokyo:20180831T213000
DTSTAMP:20260425T023549Z
CREATED:20180806T020253Z
DESCRIPTION:イベント詳細はこちら\nhttps://techplay.jp/event/68925
 9?utm_medium=referral&utm_source=ics&utm_campaign=ics\n\n概要\n色々
 な事例が聞かれるようになってきたScalaですが、今か
 ら初めても遅くはありません。\nScala はPlay Framework と
 言った Web アプリケーションフレームワークだけでな
 く、\nScalikeJDBCと言ったデータベースアクセス用のフレ
 ームワークや\nAkka、Apache Spark、Apache Kafka と言った大規
 模な並列分散処理用のフレームワークにも採用されて
 います。\nまた、本格的な業務向けのアプリケーショ
 ンだけでなく、個人的に使うツールの開発も簡単にコ
 ーディングできたりしちゃいます。\n関数型言語と言
 った側面から、やや小難しい印象を持たれている言語
 でもありますが、手軽に書ける側面もあります。管理
 者自身も熟練者への道のりはまだまだですが、『流行
 に乗り遅れた方』も、『プログラミング初心者』も、
 既に 『Scala 熟練者』の方も、一緒に京都 & 滋賀 から S
 cala界隈を盛り上げませんか？\n開催情報\n日時：2018年8
 月31日（金）19時30分-21時30分 \n場所：明覺寺会議室(め
 いかくじ かいぎしつ)\n参加費：500円（会場レンタル代
 ）\nWiFiは利用可能（予定）です。\n途中参加＆途中退
 場も大歓迎です。\n既に始まってしまっていて、遅れ
 て参加される方もお気軽にお入りください。\n内容\n京
 都で２回目の開催となりますが、PlayFrameworkに関する初
 心者向けの勉強会にしたいと思います。\n利用させて
 いただく教材は以下のサイトの資料です。\nPlay2 + Slick 
 / ScalikeJDBCハンズオン\nPlay 2.6.x + ScalikeJDBC 3.2.x　版で実
 施します。\n事前に一度各自実施していただいて、質
 問等を受け付ける形にしたいと思います。  \n\n\n\n時間
 \n内容\n発表者\n\n\n\n\n19:20-19:30\n設営準備\n主催者&有志\
 n\n\n19:30-20:30\nPlay Framework ハンズオン（１）\n@matsutoom\n\n
 \n20:35-21:10\nPlay Framework ハンズオン（２）\n@matsutoom\n\n\n2
 1:10-21:15\n次回以降の相談\n全員\n\n\n21:15-\n片付け\n-\n\n\n
 \n皆さんのご協力をよろしくお願いいたします！
LOCATION:明覺寺会議室 京都市下京区平野町783
URL:https://techplay.jp/event/689259?utm_medium=referral&utm_source=ics&utm
 _campaign=ics
END:VEVENT
END:VCALENDAR
