BEGIN:VCALENDAR
VERSION:2.0
PRODID:-//https://techplay.jp//JP
CALSCALE:GREGORIAN
METHOD:PUBLISH
X-WR-CALDESC:量子ゲートの基礎の基礎をひととおり
X-WR-CALNAME:量子ゲートの基礎の基礎をひととおり
X-WR-TIMEZONE:Asia/Tokyo
BEGIN:VTIMEZONE
TZID:Asia/Tokyo
BEGIN:STANDARD
DTSTART:19700101T000000
TZOFFSETFROM:+0900
TZOFFSETTO:+0900
TZNAME:JST
END:STANDARD
END:VTIMEZONE
BEGIN:VEVENT
UID:689271@techplay.jp
SUMMARY:量子ゲートの基礎の基礎をひととおり
DTSTART;TZID=Asia/Tokyo:20181018T183000
DTEND;TZID=Asia/Tokyo:20181018T200000
DTSTAMP:20260421T192055Z
CREATED:20180806T020434Z
DESCRIPTION:イベント詳細はこちら\nhttps://techplay.jp/event/68927
 1?utm_medium=referral&utm_source=ics&utm_campaign=ics\n\nはじめに\n
 シュレーディンガー方程式から、\n量子情報の基本か
 ら、\n各種ゲートの種類、\n基本的なシミュレーターや
 実機の使い方、\n世界の量子コンピューター会社の概
 況、\nQAOA/VQEなどのアルゴリズム概論\nなど基本的なこ
 とを一通り見直します。\n・18:00～18:30：開場\n・18:30～
 18:40：ナビタイムさんから告知\n・18:40～20:00：勉強会\n
 ・20:00～：順次解散\n勉強会オンラインコミュニティ\n
 随時情報の更新や勉強会の資料が手に入ります。わか
 らないところを質問したり、ニュースの交換がありま
 す。\n下記招待コードよりぜひご参加ください。\n日本
 語版\nhttps://join.slack.com/t/mdr-qc/shared_invite/enQtMzgxNDI3MTAyNzA
 3LThmYmRhZjkwYzFiZjRjNWZkNzJhOWMwOWNiYzgxYjdkNWE4ODA5ZWExZGYwZjFjM2RmNjE2
 ODJlYjgyNzNkNjY\n勉強会資料は手に入りませんが、今後英
 語版も運用しています。国内情報の英語での共有と海
 外情報の共有。\nhttps://join.slack.com/t/mdrqcglobal/shared_invite
 /enQtNDIwOTkwODM2NTkyLTg0MmM0ZGVhNTkzMzYxMTY0MjVhYzkyMWI1Y2IwNzMxYzBiYTkw
 Nzc2ZWU5MzhkYTczMTY1MzFlYWUxNDlkMTI
LOCATION:株式会社ナビタイムジャパン 東京都港区南青山3-
 8-38 南青山東急ビル 1F
URL:https://techplay.jp/event/689271?utm_medium=referral&utm_source=ics&utm
 _campaign=ics
END:VEVENT
END:VCALENDAR
