BEGIN:VCALENDAR
VERSION:2.0
PRODID:-//https://techplay.jp//JP
CALSCALE:GREGORIAN
METHOD:PUBLISH
X-WR-CALDESC:8/30（木）ITビジネス大学説明会【参加費無料
 】
X-WR-CALNAME:8/30（木）ITビジネス大学説明会【参加費無料
 】
X-WR-TIMEZONE:Asia/Tokyo
BEGIN:VTIMEZONE
TZID:Asia/Tokyo
BEGIN:STANDARD
DTSTART:19700101T000000
TZOFFSETFROM:+0900
TZOFFSETTO:+0900
TZNAME:JST
END:STANDARD
END:VTIMEZONE
BEGIN:VEVENT
UID:689292@techplay.jp
SUMMARY:8/30（木）ITビジネス大学説明会【参加費無料】
DTSTART;TZID=Asia/Tokyo:20180830T150000
DTEND;TZID=Asia/Tokyo:20180830T170000
DTSTAMP:20260421T052640Z
CREATED:20180806T055248Z
DESCRIPTION:イベント詳細はこちら\nhttps://techplay.jp/event/68929
 2?utm_medium=referral&utm_source=ics&utm_campaign=ics\n\n概要\n\n一般
 社団法人グローバル･ベンチャー協会ならびにＩＴサ
 ービス企業の株式会社うえじま企画は、「ＩＴを活用
 して社会に貢献する」という経営理念のもと共催で、
 高度ＩＴエンジニアの育成とグローバルで活躍するベ
 ンチャー企業の創業と成長を支援するため、「ＩＴビ
 ジネス大学」を開校致します。\n\nＩＴビジネス大学は
 、高度ＩＴスキル（３ヶ月）と起業スキル（３ヶ月）
 の研修を提供し、社会的養護の必要な孤児ならびに成
 人未就労者には無料で就業機会の提供や所得向上の支
 援、起業支援を実施致します。\n\nＩＴサービス企業の
 株式会社うえじま企画は、既にＩＴビジネススクール
 として、２０年以上継続したＩＴ教育研修を実施して
 おり、５０００名以上の方が受講し、ＩＴ業界への就
 転職を実現しております。\n\n是非、ＩＴビジネス大学
 説明会にお気軽にご参加ください。\n\n背景\n\n平成２
 ９年１２月厚生労働省「社会的養護の現状について（
 参考資料）」によると、社会的養護の必要性がある孤
 児は、「高校進学率は高くなったが、高校卒業後の進
 路は、一般に比べ進学率は低く、就職が多くなってい
 る」と報告しております。\n平成２７年度における高
 等学校等卒業後の進路データでは児童養護施設児[１\,
 ８１８人、大学進学２２６人（１２．４％）・専修学
 校等２１１人（１１％）]となっております。\n\n一方
 、全高卒者[１\,１３７千人、大学進学５９３千人（５
 ２．２％）・専修学校等２４９千人（２１．９％）]と
 なっております。\n\n上記データから、児童養護施設児
 の高校卒業後の進学率が低い状況が、確認できます。\
 n\nまた、文部科学省ＨＰ「家計負担の現状と教育投資
 の水準学歴別生涯賃金の比較」からは、高卒者（男性
 、約２億５千万円）と大卒者（男性、約３億）の生涯
 賃金の差が５\,０００万以上あるのが報告されており
 ます。\n\n高校卒業後の進学率が低い児童養護施設児に
 は、厳しい現状となっております。\n\nタイムスケジュ
 ール\n\n１４：４５～　受付開始\n\n１５：００～　Ｉ
 Ｔビジネス大学説明会\n\n　　　　　　　・一般社団法
 人グローバルベンチャー協会のご紹介\n\n　　　　　　
 　・ＩＴサービス企業　㈱うえじま企画のご紹介\n\n　
 　　　　　　・ＩＴビジネス大学のご紹介と入学案内
 （１０月生の募集）\n\n　　　　　　　（受講期間中、
 昼食は無料でご提供致します）\n\n　　　　　　　・Ｉ
 Ｔスキル研修内容（高度ＩＴ人材育成）のご説明\n\n　
 　　　　　　（Ｐｙｔｈｏｎエンジニア育成研修、Ａ
 Ｉ、ＩＯＴ、ＲＰＡ研修等）\n\n　　　　　　　・起業
 スキル研修のご説明\n\n　　　　　　　（プロダクトＭ
 ＶＰ構築、シリコンバレーモデル(ＧＶＡ)研修、スタ
 ートアップ研修等）\n\n　　　　　　　・厚生労働省キ
 ャリアアップ助成金制度と有期実習型訓練制度のご紹
 介\n\n　　　　　　　・就職支援プログラム、起業支援
 プログラムの説明\n\n１６：００～　個別相談会　\n\n
 ※ 当日予告なく時間配分・内容が変更になる可能性が
 ございます。\n\n参加対象\n\n■概ね30歳以下の若年求職
 者と企業関係者の方　\n\n　・ＩＴ業界への就転職を目
 指す方\n\n　・ベンチャー企業の創業とグローバルな活
 躍を目指す方\n\n　・社会的養護の必要な孤児ならびに
 成人未就労者の方で高度ＩＴ人材を目指す方\n\n　・高
 度ＩＴ人材を育成ならびに採用したい企業経営者なら
 びに採用担当者の方\n\n主催\n\n一般社団法人グローバ
 ル･ベンチャー協会\n\n株式会社うえじま企画　ＩＴビ
 ジネス大学\n\n代表者　略歴\n\n注意事項\n\nイベント当
 日の様子は後日なんらかの媒体に掲載させていただく
 場合がございます。\n
LOCATION:惣菜ばるおためし屋 東京都北区東田端1-13-9　ツ
 インビル田端B棟1F
URL:https://techplay.jp/event/689292?utm_medium=referral&utm_source=ics&utm
 _campaign=ics
END:VEVENT
END:VCALENDAR
