BEGIN:VCALENDAR
VERSION:2.0
PRODID:-//https://techplay.jp//JP
CALSCALE:GREGORIAN
METHOD:PUBLISH
X-WR-CALDESC:【第４回ITインフラ講習会】企業内のネットワ
 ークを見てみよう！
X-WR-CALNAME:【第４回ITインフラ講習会】企業内のネットワ
 ークを見てみよう！
X-WR-TIMEZONE:Asia/Tokyo
BEGIN:VTIMEZONE
TZID:Asia/Tokyo
BEGIN:STANDARD
DTSTART:19700101T000000
TZOFFSETFROM:+0900
TZOFFSETTO:+0900
TZNAME:JST
END:STANDARD
END:VTIMEZONE
BEGIN:VEVENT
UID:689346@techplay.jp
SUMMARY:【第４回ITインフラ講習会】企業内のネットワー
 クを見てみよう！
DTSTART;TZID=Asia/Tokyo:20180827T190000
DTEND;TZID=Asia/Tokyo:20180827T203000
DTSTAMP:20260425T161829Z
CREATED:20180806T061046Z
DESCRIPTION:イベント詳細はこちら\nhttps://techplay.jp/event/68934
 6?utm_medium=referral&utm_source=ics&utm_campaign=ics\n\n概要\n\n一般
 社団法人グローバル･ベンチャー協会ならびにＩＴサ
 ービス企業の株式会社うえじま企画は、\n「ＩＴを活
 用して社会に貢献する」という経営理念のもと共催で
 、高度ＩＴエンジニアの育成とグローバルで活躍する
 ＩＴエンジニアを目指す方の成長を支援致しておりま
 す。\n\n「ＩＴインフラ講習会」は、ＳＥ・プログラマ
 向けに、高度ＩＴスキルを習得するための各種研修を
 平日月曜日の夜間に無料で実施致しております。\n\n是
 非「ＩＴインフラ講習会」にお気軽にご参加ください
 。\n\n背景\n\n平成２９年８月経済産業省「ＩＴ関連産
 業の給与等に関する実態調査結果」の報告書内、\n\n「
 ＩＴ人材の残業時間と勉強時間」によると、下記の問
 題が、報告されています。\n\n　(1)IT関連業界において
 は、技術の移り変わりが早く、スキルアップや\n\n　　
  キャリアアップを実現するためには、自己研鑽が強く
 求められる。\n\n　(2)「1ヶ月あたりの残業時間」につ
 いては、「従業員規模」が大きいほど\n\n　　残業時間
 も長いという結果になっている。\n\n　(3)「1週間あた
 りの勉強時間」については、「個人事業主」が他区分
 よりも\n\n　　明らかに多い点が注目される。\n\n　(4)
 「1ヶ月あたりの残業時間」については、年収が上がる
 につれて残業時間も長くなっており、\n\n　　「年収1\,
 500万円以上」の方は、40時間を超える結果となってい
 る。\n\n　(5)残業時間・勉強時間ともに多いのは「コン
 サルタント」であることが読み取れる。\n\n　　「プロ
 ジェクトマネージャ」やインターネット関連の職種で
 ある\n\n　　「プロデューサー／ディレクター」は、残
 業時間が多いものの、\n\n　　勉強時間は今回の職種の
 中では中程度となっている。\n\n　(6)我が国における人
 材数が最も多いと考えられる「SE・プログラマ(顧客向
 けシステムの開発)」は、\n\n　　今回の調査では、残
 業時間・勉強時間ともに、それほど多くはないという
 結果となった。\n\n　(7)我が国IT人材の能力が正しく評
 価され、IT関連産業が働く人々にとって\n\n　　魅力的
 な産業となるよう、企業と政府の双方が今後もさらに
 取組を進めていくことが求められる。\n\nタイムスケジ
 ュール\n\n１８：３０～　受付開始\n\n１９：００～　IT
 インフラ講習会　≪参加費無料≫\n\n　　　　　　　　
 第１章　企業内のネットワークとは\n\n　　　　　　　
 　第２章　企業間での災害対策とは\n\n　　　　　　　
 　第３章　障害に強いネットワークとは\n\n　　　　　
 　　　第４章　冗長化設計と接続切替\n\n２０：３０～
 　交流会　≪2000円税別≫\n\n＊どちらかのイベントの
 みの参加もOK\n\n交流会 参加費\n\nおひとり様２，００
 ０円 + 税（当日現金支払い/カード不可）\n\n\n＊ピザ・
 おつまみ、瓶ビール・サワー・ワイン・ソフトドリン
 ク等をご用意してます\n\n定員\n\n25名様（先着順）\n\n
 ◇名刺をお持ちの方は受付で頂戴します\n\n＊他サイト
 でも同時募集しているため、当サイトで定員に達して
 いなくとも申込を締め切る場合が御座います。\n\n会場
 \n\n講習会(19:00～)にご参加の方\n\n田端オフィス：東京
 都北区東田端1-13-10　ツインビル田端A棟５F\n\n交流会(20
 :30～)にご参加の方\n\n惣菜ばるおためし屋：東京都北
 区東田端1-13-9　ツインビル田端Ｂ棟１Ｆ\n\n主催者\n\n
 一般社団法人グローバル・ベンチャー協会\n\n株式会社
 うえじま企画　ＩＴビジネス大学\n\n代表者　略歴\n\n
 注意事項\n\n※イベント当日の様子は後日なんらかの媒
 体に掲載させていただく場合がございます。\n\n※グロ
 ーバルベンチャー協会の個人会員ではない方は、参加
 時に会員登録をお願いしております。（１年間無料）\
 n
LOCATION:田端オフィス５F / 惣菜ばるおためし屋 東京都北
 区東田端1-13-10
URL:https://techplay.jp/event/689346?utm_medium=referral&utm_source=ics&utm
 _campaign=ics
END:VEVENT
END:VCALENDAR
