BEGIN:VCALENDAR
VERSION:2.0
PRODID:-//https://techplay.jp//JP
CALSCALE:GREGORIAN
METHOD:PUBLISH
X-WR-CALDESC:小江戸らぐ 8月のオフな集まり(第193回)
X-WR-CALNAME:小江戸らぐ 8月のオフな集まり(第193回)
X-WR-TIMEZONE:Asia/Tokyo
BEGIN:VTIMEZONE
TZID:Asia/Tokyo
BEGIN:STANDARD
DTSTART:19700101T000000
TZOFFSETFROM:+0900
TZOFFSETTO:+0900
TZNAME:JST
END:STANDARD
END:VTIMEZONE
BEGIN:VEVENT
UID:689369@techplay.jp
SUMMARY:小江戸らぐ 8月のオフな集まり(第193回)
DTSTART;TZID=Asia/Tokyo:20180818T140000
DTEND;TZID=Asia/Tokyo:20180818T180000
DTSTAMP:20260421T085426Z
CREATED:20180806T100355Z
DESCRIPTION:イベント詳細はこちら\nhttps://techplay.jp/event/68936
 9?utm_medium=referral&utm_source=ics&utm_campaign=ics\n\n概要\n8月に
 なっても暑い日が続きますが、今月はSHIFTさんのご協
 力でこうしてオフな集まりのご案内ができるのは、僕
 にとって大きな喜びです。そんな酷暑の中で国内外で
 イベントが続いており日本中どころか世界中を文字通
 り飛び回っている方もおられると思いますが、地に足
 をつけたローカルな勉強会としてLinux/オープンソース
 についてアンカンファレンス形式で勉強していきまし
 ょう。\n勉強会と飲み会両方に参加される方は「勉強
 会/飲み会」、勉強会のみ参加される方は「勉強会のみ
 」、飲み会のみ参加される方は「飲み会のみ」にお申
 し込みください。\n当日発表のネタが決まっている方
 は、フィード欄にタイトルをお書きください。\n会場\n
 株式会社 SHIFT 本社 (アクセス) セミナールーム（11F）\n
 東京都港区麻布台2-4-5　メソニック39MTビル\n入館方法\n
 メソニック39MTビル正面入口から入り、エレベータで11F
 を降りて左、さらに突き当り（盆栽がおいてあります
 ）を左がセミナールームです。\n飲み会\n天ぷら食べ放
 題 Gachi 浜松町芝大門店 (アクセス)\n東京都 港区 芝大
 門 2-6-8 中島ビル　1Ｆ\nTEL 050-5595-7671\n小江戸らぐ (小江
 戸Linux Users' Group)\n2002年より東京を注進に活動している
 地域Linuxユーザーグループです。地域でむすびついて
 いるので、参加されるメンバーの興味はサーバー、組
 込み、デスクトップと多様なため、毎月各自が興味あ
 ることをアンカンファレンス形式で発表しています。
 その中で、発表者有志が発表内容をまとめて、小江戸
 らぐ活動報告集「LinuxUser」として年2回発刊して、コミ
 ックマーケットで頒布しています。また各地のオープ
 ンソースカンファレンスに参加して、Linux/オープンソ
 ースの素晴らしさを伝えています。\n株式会社SHIFT\nソ
 フトウェアの品質保証を行う会社です。ソフトウェアE
 2EテストとCIのため、Selenium、Appium、Jenkinsのようなオー
 プンソースを利用しています。が、小江戸らぐへの会
 場提供は一従業員の個人的な活動です。
LOCATION:(株)SHIFT 東京都港区麻布台2-4-5　メソニック39MTビ
 ル１１Ｆ
URL:https://techplay.jp/event/689369?utm_medium=referral&utm_source=ics&utm
 _campaign=ics
END:VEVENT
END:VCALENDAR
