BEGIN:VCALENDAR
VERSION:2.0
PRODID:-//https://techplay.jp//JP
CALSCALE:GREGORIAN
METHOD:PUBLISH
X-WR-CALDESC:※再増席※CyberAgent 3D Academy
X-WR-CALNAME:※再増席※CyberAgent 3D Academy
X-WR-TIMEZONE:Asia/Tokyo
BEGIN:VTIMEZONE
TZID:Asia/Tokyo
BEGIN:STANDARD
DTSTART:19700101T000000
TZOFFSETFROM:+0900
TZOFFSETTO:+0900
TZNAME:JST
END:STANDARD
END:VTIMEZONE
BEGIN:VEVENT
UID:689511@techplay.jp
SUMMARY:※再増席※CyberAgent 3D Academy
DTSTART;TZID=Asia/Tokyo:20180831T183000
DTEND;TZID=Asia/Tokyo:20180831T223000
DTSTAMP:20260424T171457Z
CREATED:20180807T060250Z
DESCRIPTION:イベント詳細はこちら\nhttps://techplay.jp/event/68951
 1?utm_medium=referral&utm_source=ics&utm_campaign=ics\n\n※8/10 追記\n
 ご好評につき席を50→70席に増席させて頂きました。\n
 ※8/17 追記\nご好評につき席を70→85席に再増席させて
 頂きました。\nイベント内容\n\n「バンドリ！ ガールズ
 バンドパーティ！（ガルパ）」「戦国炎舞 -KIZNA-」「
 オルタナティブガールズ」などを\n開発・運用してい
 るサイバーエージェントゲーム事業部主催のイベント
 です。\n近年モバイルデバイスの進化と共に、よりハ
 イレベルな3D技術がサービス側にも求められて来てい
 ます。\n今回は若杉 遼様をお招きしてアニメーション
 講座を行いつつ、\n3Dデザイナーの皆様とのコミュニケ
 ーションの場としてもご活用頂ければと思います。\n
 ■講座名：\n『アニメーション講座 観客に”伝わる”
 動きを作るコツ / 若杉 遼』\n\nアニメーションにおい
 て何より大事なのは、きちんと見ている人に伝わる動
 きを作ることだと思います。今回の講義では、しっ>か
 りと”伝わる”動きを作る為にはどうすればいいのか
 ？わかりやすい動きを作るコツは？\nという部分に重
 点をおいて講義します。\nアニメーションの基本的な
 事は分かっているけど、自分のアニメーションを人間
 の動きとしてみた時に何かしっくり来ない、\n体の重
 さが感じられない、自分の意図したようにアニメーシ
 ョンが作れない、と言った問題にヒントを出せればと
 思います。\n講義内容については、人の動きを自然に
 見せるときに必要な大きなポイント、”フィジクス（
 物理）”と見ているひとに\nわかりやすく伝える時に
 重要な”デザイン”という２つの側面から、具体的な
 例やこれまでのアニメーションも交えながら\n手法や
 ルールの説明をしていきます。\n今回の講義を通じて
 、どうすれば、より”伝わる”アニメーションが作れ
 るか、\n皆さんの知識や理解を深める手助けになれば
 と思います。\n・フィジクス（物理）\nアニメーション
 には、１２原則と言われるルールがあるのですが、\n
 そのルールを交えながらどうすればより自然で物理法
 則に沿った正しい動きが作れるか？ということを説明
 していきます。\n・デザイン\n見ている人に分かりやす
 く自分の意図した通りにアニメーションを見せたいと
 きに、\nどういうデザインで見せるか？というのはか
 なり大事になってきます。\n今回の講義では、特に分
 かりやすいポーズを作るときのポイントを抑えて論理
 的にポーズを組み立てる方法をお話します。\n\n■登壇
 者プロフィール：\n若杉 遼／Ryo Wakasugi（Sony Pictures Image
 works / Animator）\n\n2012年にサンフランシスコの美術大学A
 cademy of Art Universityを卒業後、\nPixar Animation StudiosにてCG
 アニメーターとしてキャリアをスタート。\n2015年より
 サンフランシスコからカナダのバンクーバーに移り、
 現在はSony Pictures​ Imageworksに所属。\n映画スタジオで
 アニメーターとして仕事する傍ら、3DCGアニメーション
 に特化したオンラインスクール\n「AnimationAid」の創設
 者として、運営の他、講師として教えている。\nこれ
 まで参加した作品は『アングリーバード』（2016）、『
 コウノトリ大作戦』（2016）\n『スマーフ スマーフェッ
 トと秘密の大冒険』（2017）などがある。\n\nタイムス
 ケジュール\n\n18:30-19:00 受付\n19:00-21:00 講演『観客に”
 伝わる”動きを作るコツ / ~若杉遼~』\n21:00-21:15 『サイ
 バーエージェントの3DCG事業紹介』\n21:15-22:30 懇親会\n
 参加費用について\n\n無料で参加できます。\n場所、持
 ち物について\n\n場所：株式会社サイバーエージェント
  クリエイティブラウンジ\n東京都渋谷区円山町19番1号 
 渋谷プライムプラザ4F\n※渋谷駅から徒歩9分、神泉駅
 から徒歩3分\n持ち物 : 名刺2枚 （受付用1枚、名札用1枚
 ）\n注意事項\n\n会場内にて、広報や取材メディアによ
 る写真や動画撮影が行われる予定です。\n自社メディ
 アでの情報配信、取材メディアにより運用されている
 媒体に露出・掲載される可能性がございますので\nご
 来場されるお客様は、映り込む可能性がございますこ
 とをあらかじめご了承ください。
LOCATION:サイバーエージェント クリエイティブラウンジ  
 東京都渋谷区円山町19番1号　渋谷プライムプラザ4階
URL:https://techplay.jp/event/689511?utm_medium=referral&utm_source=ics&utm
 _campaign=ics
END:VEVENT
END:VCALENDAR
