BEGIN:VCALENDAR
VERSION:2.0
PRODID:-//https://techplay.jp//JP
CALSCALE:GREGORIAN
METHOD:PUBLISH
X-WR-CALDESC:『Pythonによるクローラー＆スクレイピング入
 門』読書会 #01
X-WR-CALNAME:『Pythonによるクローラー＆スクレイピング入
 門』読書会 #01
X-WR-TIMEZONE:Asia/Tokyo
BEGIN:VTIMEZONE
TZID:Asia/Tokyo
BEGIN:STANDARD
DTSTART:19700101T000000
TZOFFSETFROM:+0900
TZOFFSETTO:+0900
TZNAME:JST
END:STANDARD
END:VTIMEZONE
BEGIN:VEVENT
UID:689528@techplay.jp
SUMMARY:『Pythonによるクローラー＆スクレイピング入門』
 読書会 #01
DTSTART;TZID=Asia/Tokyo:20180819T093000
DTEND;TZID=Asia/Tokyo:20180819T113000
DTSTAMP:20260419T201231Z
CREATED:20180807T060356Z
DESCRIPTION:イベント詳細はこちら\nhttps://techplay.jp/event/68952
 8?utm_medium=referral&utm_source=ics&utm_campaign=ics\n\n内容\n『Pytho
 nによるクローラー＆スクレイピング入門』\nを何人か
 で輪読していき、わからない箇所や気になる箇所など
 を集まったみんなで助け合ったり知識を共有していっ
 たりします。\nまた、実際にその場でサンプルコード
 などを実装していき動かしていきます。\n※ ちなみに
 主催者はこの分野に全く詳しくありません。\n今回は
 第1回なので最初から読んでいきます。\n※ この読書会
 では指定の書籍をその場で読んでいくので、今回の箇
 所を前もって読んでくる必要はありません。\n当日必
 要なもの\n\n書籍『Pythonによるクローラー＆スクレイピ
 ング入門』\n書籍ホームページ： https://www.shoeisha.co.jp/b
 ook/detail/9784798149127\n\n\n充電済みのノートPC\n2時間以上
 稼働できるもの\nPythonの実行環境がインストールされ
 ているもの\n\n\nポケットWi-Fiなど（何かダウンロード
 したり、検索したりする場合）\n\n注意事項\n\n会場の
 電源は使えません\nWi-Fiは用意されていません\nネット
 環境が用意されていないため、Wi-FIなど自分で用意で
 きない人はサンプルコードのダウンロードと必要なラ
 イブラリのインストールは参加前に終わらせてくださ
 い。\n※ライブラリの一覧はホームページにあります\n
 \n\n30分以上遅れる人は欠席とみなします。※主催者側
 で強制キャンセルなどする場合があります\n\nタイムテ
 ーブル\n\n\n\n時間\n内容\n\n\n\n\n09:15～09:30\n開場\n\n\n09:30
 ～11:30\n読書タイム\n\n\n11:30～12:00\n撤収\n\n\n\n対象者\n\n
 Pythonでのプログラミングを少しはできる人\n※ 書籍に
 出てくるコードを読めるのなら問題ありません\n\n会場
 \n蕨市民会館 303会議室\nJR京浜東北線 蕨駅 西口 徒歩10
 分
LOCATION:蕨市民会館（303会議室） 埼玉県蕨市中央4丁目21-2
 9 (303会議室)
URL:https://techplay.jp/event/689528?utm_medium=referral&utm_source=ics&utm
 _campaign=ics
END:VEVENT
END:VCALENDAR
