BEGIN:VCALENDAR
VERSION:2.0
PRODID:-//https://techplay.jp//JP
CALSCALE:GREGORIAN
METHOD:PUBLISH
X-WR-CALDESC:【月次無料ワークショップ】機械学習を使っ
 た要因分析in大阪
X-WR-CALNAME:【月次無料ワークショップ】機械学習を使っ
 た要因分析in大阪
X-WR-TIMEZONE:Asia/Tokyo
BEGIN:VTIMEZONE
TZID:Asia/Tokyo
BEGIN:STANDARD
DTSTART:19700101T000000
TZOFFSETFROM:+0900
TZOFFSETTO:+0900
TZNAME:JST
END:STANDARD
END:VTIMEZONE
BEGIN:VEVENT
UID:689529@techplay.jp
SUMMARY:【月次無料ワークショップ】機械学習を使った要
 因分析in大阪
DTSTART;TZID=Asia/Tokyo:20180904T150000
DTEND;TZID=Asia/Tokyo:20180904T170000
DTSTAMP:20260419T221624Z
CREATED:20180807T060425Z
DESCRIPTION:イベント詳細はこちら\nhttps://techplay.jp/event/68952
 9?utm_medium=referral&utm_source=ics&utm_campaign=ics\n\n機械学習を
 使った要因分析（ハンズオン）\n台風接近のため、中
 止いたします\nアジェンダ\n\n\n\n時間\n内容\nスピーカ
 ー\n\n\n\n\n14:45 ~ 15:00\n受付・開場\n\n\n\n15:00 ~ 15:15\nDataRob
 otからのお知らせ\nオガワ ミキオ\n\n\n15:15 ~ 17:00\n機械
 学習を使った要因分析\n山本祐也\n\n\n17:00 ~\n懇親会（
 各自）\n\n\n\n\nイベント概要\n前回実施し、抽選漏れも
 多く、参加者からの評価も高く再演が求められた要因
 分析のワークショップを関西で開催します。\nまた今
 回は関西電力様に会場をお貸しいただき、meetupを大阪
 でも開催することが決まりました！ありがとうござい
 ます！\n要因分析は、製造業では品質低下や不良品の
 原因、マーケティングでは購入や退会の原因など、様
 々な応用があります。一方、予測モデリングによって
 現れる関係性は多くの場合「相関」に起因するもので
 、必ずしも「因果」を表しているとは限りません。本
 講座では、機械学習から得られる要因特定に利用でき
 るインサイト、特に\n\nDataRobotの「特徴量のインパクト
 」、「特徴量の効果」の解析による重要因子の特定\n
 見つけた要因の大きさや、信頼性の評価方法\n交互作
 用の見つけ方\n原因を特定するため必要なより進んだ
 分析方法\n要因解析に適したデータ収集方法\n\nなどの
 トピックに触れていきます。\n持参が必要なもの\n会場
 にwifiはありませんので、データカードやテザリングは
 各自持参をお願いいたします。\n上記によってインタ
 ーネットに接続できるPCにChromeブラウザでapp.datarobot.com
 に接続できること\nアンケート\nmeetup中にアナウンスさ
 せていただきます\n資料\nデータセット①\nhttps://drive.go
 ogle.com/open?id=12o1m9tMfgq_BAu3csCfz9twWUmiLwTxT\nデータセット②
 \nhttps://drive.google.com/open?id=165upMp0Jnnc62bFv-RQyOJAEga0qIdW4\nス
 ライド資料\nhttps://drive.google.com/open?id=1hViLz7dV3DOV0Lb9-8yOP6
 kShcZRdgvw\n傾向スコアマッチングのスクリプト例\nhttps://
 drive.google.com/open?id=1myXYzBhQZRj3UpgtXD9EEq5vDF1cvWPj
LOCATION:堂島リバーフォーラム2階 大阪市福島区福島1-1-17
URL:https://techplay.jp/event/689529?utm_medium=referral&utm_source=ics&utm
 _campaign=ics
END:VEVENT
END:VCALENDAR
