BEGIN:VCALENDAR
VERSION:2.0
PRODID:-//https://techplay.jp//JP
CALSCALE:GREGORIAN
METHOD:PUBLISH
X-WR-CALDESC:Linuxカーネルもくもく会@秋葉原　#34
X-WR-CALNAME:Linuxカーネルもくもく会@秋葉原　#34
X-WR-TIMEZONE:Asia/Tokyo
BEGIN:VTIMEZONE
TZID:Asia/Tokyo
BEGIN:STANDARD
DTSTART:19700101T000000
TZOFFSETFROM:+0900
TZOFFSETTO:+0900
TZNAME:JST
END:STANDARD
END:VTIMEZONE
BEGIN:VEVENT
UID:689574@techplay.jp
SUMMARY:Linuxカーネルもくもく会@秋葉原　#34
DTSTART;TZID=Asia/Tokyo:20180831T200000
DTEND;TZID=Asia/Tokyo:20180831T220000
DTSTAMP:20260425T023539Z
CREATED:20180807T100254Z
DESCRIPTION:イベント詳細はこちら\nhttps://techplay.jp/event/68957
 4?utm_medium=referral&utm_source=ics&utm_campaign=ics\n\n開始時刻\n
 今回は20時からですが、 来れる人は20時前から店に入
 ってもくもく始めてもらっても構いません( ´∀｀)bｸ
 ﾞｯ!\n基本方針\n内容はLinuxカーネルに関することなら
 何でもOKです。\nソースコードリーディングをするも良
 し、ハックするも良し、解説本を読み進めるも良しと
 いうスタイルで各自好きにLinuxカーネルに触れるとい
 う会です。わからないことがあったら気軽に聞きつ進
 める感じで行きましょう。\n連絡\nSlack\nチャンネル作
 りました。こちらです。\nTwitter\nTwitterやってる方はと
 くに問題なければ@masami256をフォローして頂くといざと
 いうときの連絡がスムーズですm( )m\nリモート枠\nslack
 ベースですこちらです。\n同じ店内でしれっとリモー
 ト参加でも可です
LOCATION:喫茶室ルノアール 秋葉原店 東京都千代田区外神
 田1-11-6　小暮ビル2F
URL:https://techplay.jp/event/689574?utm_medium=referral&utm_source=ics&utm
 _campaign=ics
END:VEVENT
END:VCALENDAR
