BEGIN:VCALENDAR
VERSION:2.0
PRODID:-//https://techplay.jp//JP
CALSCALE:GREGORIAN
METHOD:PUBLISH
X-WR-CALDESC:2018年9月号第6回 WordPressのためのHTML/CSS初心者
 もくもく勉強会の日 @さくらインターネット
X-WR-CALNAME:2018年9月号第6回 WordPressのためのHTML/CSS初心者
 もくもく勉強会の日 @さくらインターネット
X-WR-TIMEZONE:Asia/Tokyo
BEGIN:VTIMEZONE
TZID:Asia/Tokyo
BEGIN:STANDARD
DTSTART:19700101T000000
TZOFFSETFROM:+0900
TZOFFSETTO:+0900
TZNAME:JST
END:STANDARD
END:VTIMEZONE
BEGIN:VEVENT
UID:689693@techplay.jp
SUMMARY:2018年9月号第6回 WordPressのためのHTML/CSS初心者もく
 もく勉強会の日 @さくらインターネット
DTSTART;TZID=Asia/Tokyo:20180908T130000
DTEND;TZID=Asia/Tokyo:20180908T180000
DTSTAMP:20260423T123105Z
CREATED:20180808T020451Z
DESCRIPTION:イベント詳細はこちら\nhttps://techplay.jp/event/68969
 3?utm_medium=referral&utm_source=ics&utm_campaign=ics\n\n初心者のみ
 なさん、いっしょにもくもく勉強しましょう！\n\n主に
 WordPress/HTML/CSSに関する初心者が集まり、個別にもくも
 く勉強しつつ分からないことがあったら相談し合った
 りできる会です。\n\nWordPressでWEBサイトを作ろうとして
 いる初心者の方や企業のWEB担当者の方、ブログを書い
 て副業を始めてみたい方などに、HTML/CSSが出来なくて
 もやさしくメンターが分からない点をお教えいたしま
 す。HTML/CSSの勉強はしたいけど、WordPressは使うかどう
 かわからない・・・という方も参加OKです。HTML、CSSだ
 けでなく、PHPやJavaSript初心者の方もお待ちしておりま
 す。\n\n【テーマ】\n\n\nHTML/CSS入門\nWEBサイト制作の流
 れ\n正しいマークアップの仕方\nブログを書く際に必要
 なHTML/CSSの基礎\nレスポンシブ対応のマークアップ\nSEO
 を意識したタグの設定\nWordPressテーマのカスタマイズ
 など\n\n\nご都合の良い時間にお越しいただき、「もく
 もくしたいだけして疲れたら帰る」でOKです。講演・
 セッションなどの開催は予定しておりません。参加時
 と終了時に勉強予定内容と成果を簡単に発表お願いし
 ます。途中入場・途中退出もご自由に。\n\n運営者のプ
 ロフィール\n\nメンター\n\n小川 敏寛（おがわ よしのり
 ）\n\nWordPressのメンターと言いながらも得意なのはMovabl
 eType。CMS全般に興味あり。元々東京でEC・WEB制作会社に
 所属していたが、クライアントの食品会社にWEB担当と
 して就職し大阪に移住。現在は独立してフリーランス
 を宣言。趣味は釣り。WordCamp Osaka 2018実行委員\n\nURL\n\nh
 ttps://ool.design/ (ool Design webサイト)\n\n友石 満里絵（とも
 いし まりえ）\n\nmariweb代表、フリーランスWebデザイナ
 ー。新卒で入社した食品メーカーで海外営業、WEB担当
 を経て独立。食品関連のサイト制作や動画制作が得意
 。WordCamp Osaka 2018実行委員/デザインチーム、サイト構
 築チーム\n\nURL\n\nhttps://www.marie-web.design/　(mariweb webサイ
 ト)\nhttps://twitter.com/marieeeep　（Twitter）\n\n管理人\n\n福
 井 洋（ふくいひろし）\n\nWordPress関連の個人事業を行
 いつつ、テックなコミュニティの運営。PPUG大阪・さく
 らクラブ「いろいろ初心者もくもく会」・WordCamp Osaka 2
 018など。趣味は読書・水泳・大阪府立登美丘高校ダン
 ス部。\n\nURL\n\nhttps://e-yota.com/about_me/  (個人ブログの自
 己紹介ページ) \nhttps://speakerdeck.com/echizenyayota (Speaker Deck
 )\nhttps://twitter.com/echizenya_yota （Twitter）\n\n参加費\n\n\n無
 料\n\n\n参加対象者\n\n\nHTML/CSSを勉強中、またはこれか
 ら勉強してみたい方\n企業のウェブ担当者で、簡単なHT
 ML/CSSの知識を身に付けたい方\n副業としてブログを書
 いてみたい方\nHTML/CSS/WordPressについて情報交換ができ
 る仲間が欲しい方　など\n\n\nプログラム\n\n\n\n時間\n内
 容\n\n\n\n13:00\n開始\n\n\n18:00\n終了\n\n\n\n持ち物\n\n\nノー
 トパソコン\n\n\n手を動かしながらもくもくすると、勉
 強効果が一層上がります。ぜひお持ち込みください。\
 n\n利用できる設備\n\n\n無線LAN\n電源コンセント\n\n\nも
 くもくするのにオススメの参考資料\n\n参考サイト\n\n\n
 HTML入門 (全15回) - ドットインストール\nCSS入門 (全15回)
  - ドットインストール\n実践！ウェブサイトを作ろう (
 全16回) - ドットインストール\n\n\n注意事項\n\n\n有志に
 よる集まりのため、持ち込まれた問題や課題が必ずし
 も解決できるとは限りません。予めご了承ください。\
 n途中入場、途中退出可。また軽食や休憩なども自由に
 お取りください（ただし匂いの強い飲食物やアルコー
 ルはお控えください）\n飲食をしたときに発生するビ
 ニール袋やペットボトルなどは、ご自身でお持ち帰り
 いただきますようご協力をお願い申し上げます\n\n\n事
 前質問受け付けます\n\n当日のもくもく会に先立ちまし
 て、今回のテーマに関する質問を受け付けいたします
 。下記のURLにアクセスして質問内容をご記入ください
 。記入された方は当日直接メンターと相談してくださ
 い\n\n\n2018年9月　初心者もくもく会事前アンケートフ
 ォーム\n\n\n※なおもくもく会のテーマとは関係ないな
 ど、内容によりましてはお答えできないこともござい
 ます。あらかじめご理解のほどお願い申し上げます。\
 n\nお問い合わせ\n\n本イベントの運営に関する問い合わ
 せにつきましては、下記のメールアドレス宛に送信し
 てください。このイベントに関する問い合わせである
 ことが分かるように、必ず「イベント名、イベント開
 催日」の記載をお願いします。\n\n\nvirtualmisso30@gmail.com\
 n
LOCATION:さくらインターネット株式会社 セミナールーム 
 大阪市北区大深町4番20号 グランフロント大阪タワーA 3
 5階
URL:https://techplay.jp/event/689693?utm_medium=referral&utm_source=ics&utm
 _campaign=ics
END:VEVENT
END:VCALENDAR
