BEGIN:VCALENDAR
VERSION:2.0
PRODID:-//https://techplay.jp//JP
CALSCALE:GREGORIAN
METHOD:PUBLISH
X-WR-CALDESC:【1章】超初心者向けHTML講座やります！！5/5回
 目【大阪四ツ橋】
X-WR-CALNAME:【1章】超初心者向けHTML講座やります！！5/5回
 目【大阪四ツ橋】
X-WR-TIMEZONE:Asia/Tokyo
BEGIN:VTIMEZONE
TZID:Asia/Tokyo
BEGIN:STANDARD
DTSTART:19700101T000000
TZOFFSETFROM:+0900
TZOFFSETTO:+0900
TZNAME:JST
END:STANDARD
END:VTIMEZONE
BEGIN:VEVENT
UID:689835@techplay.jp
SUMMARY:【1章】超初心者向けHTML講座やります！！5/5回目
 【大阪四ツ橋】
DTSTART;TZID=Asia/Tokyo:20180901T133000
DTEND;TZID=Asia/Tokyo:20180901T150000
DTSTAMP:20260424T033922Z
CREATED:20180808T210448Z
DESCRIPTION:イベント詳細はこちら\nhttps://techplay.jp/event/68983
 5?utm_medium=referral&utm_source=ics&utm_campaign=ics\n\n【全5回構成
 (予定)となっております】\n1回目（0円）：HTMLやCSSにつ
 いて、ドメインやパスなど初歩的なところ。よく使うH
 TMLタグについて。classやidについて。\n2回目（300円）：
 CSSの書き方。スタイルシートとして外部化。ちょっと
 特殊な書き方など。\n3回目（300円）：実際によく使うH
 TML＋CSSコーディングの仕方。\n4回目（300円）：横並び
 デザイン。floatとかについて。\n5回目（300円）：フレ
 ームワークについて。Bootstrapなどの使い方を軽く。\n\n
 将来的にCoworkingスペースを利用することを想定して有
 料化いたしました。\n1回目は無料なのでどんなもんな
 のか気軽に参加ください。\n\n2回目以降は有料となり
 ますので、300円持参してください。\n途中退室でも返
 金できませんので、ご了承下さい。\n遅れてきても300
 円頂きます(･ω･)\n\n++++++++++++++++++++++++++++++++\n\n【ま
 ずは】\n学生から社会人まで、いろんな人が参加して
 くれてます。\nお気軽にご参加ください。\n\nHTML＋CSSの
 講座は受講料が高い！！\nという声に答えてWeb歴１０
 年の大平が超初心者向けHTML+CSS講座を行います。\n\n試
 験対策ではありませんので、ご注意下さい。完全実務
 向けです。\n現場がどのようにコーディングしている
 のか。を教えます。\n\n初心者の方もOKです！！\n最近
 こんなん流行ってますよーみたいな話しも出来ます。\
 n\n【注意点】\nいちからホームページを作れるように
 するところから、ビジネスに対応出来るレベルまでを
 順だって教えていきます。\n\nパソコン教室ではありま
 せんので、PCの使い方に関しては習熟していることを
 前提とさせてください。\n・フォルダの作成\n・ソフト
 のインストール\n・キータイピング\nなどが出来ない人
 はまずはパソコン教室に通われることをおすすめいた
 します。\n\nエディターツールを持っている人は自身の
 を使ってください。\n持っていない人は下記URLからマ
 イクロソフトが作る無料のツールをインストールして
 おいてください。\nhttps://code.visualstudio.com/download\n\n当
 日はノートパソコンを持参してください。電源とWifiは
 あります。\n\n【場所について】\n入退室は自由です。\
 n今回からQRコードで確認を取ってみることにします。\
 n服装自由で好きに入室してください。\n1階が宝石店の
 カオキとなっております。そのビルの6階です。\n\n新
 社会人やWebやってみたい人、学生さんもどうぞお立ち
 寄りください。\n高いお金払ってセミナー行く前に、
 ぜひ一度ご参加ください。\n\n【放課後勉強会について
 】\n1章はHTML＋CSSの勉強を行います。\n2章はJavascriptの
 勉強を行います。\n（予定）3章はPHP+WordPressの勉強を行
 います。\n（予定）別章マイクロビットを使ったプロ
 グラミング体験を行います。
LOCATION:株式会社Waplus　ビーイング四ツ橋ビル6階北側 大
 阪府大阪市西区北堀江１丁目３−２ ビーイング四ツ橋
 ビル6階北側
URL:https://techplay.jp/event/689835?utm_medium=referral&utm_source=ics&utm
 _campaign=ics
END:VEVENT
END:VCALENDAR
