BEGIN:VCALENDAR
VERSION:2.0
PRODID:-//https://techplay.jp//JP
CALSCALE:GREGORIAN
METHOD:PUBLISH
X-WR-CALDESC:【東京9月開催】03②：スマホサイトを根本か
 ら快適にする｢UIデザインのツボ｣
X-WR-CALNAME:【東京9月開催】03②：スマホサイトを根本か
 ら快適にする｢UIデザインのツボ｣
X-WR-TIMEZONE:Asia/Tokyo
BEGIN:VTIMEZONE
TZID:Asia/Tokyo
BEGIN:STANDARD
DTSTART:19700101T000000
TZOFFSETFROM:+0900
TZOFFSETTO:+0900
TZNAME:JST
END:STANDARD
END:VTIMEZONE
BEGIN:VEVENT
UID:689868@techplay.jp
SUMMARY:【東京9月開催】03②：スマホサイトを根本から快
 適にする｢UIデザインのツボ｣
DTSTART;TZID=Asia/Tokyo:20180909T130000
DTEND;TZID=Asia/Tokyo:20180909T170000
DTSTAMP:20260420T070022Z
CREATED:20180809T020452Z
DESCRIPTION:イベント詳細はこちら\nhttps://techplay.jp/event/68986
 8?utm_medium=referral&utm_source=ics&utm_campaign=ics\n\nハンバーガ
 ーメニューもレスポンシブデザインも、常識がくつが
 えるユーザー視点で作るスマホサイトのUIデザイン！\n
 \n多くのサイトで、スマートフォンユーザーの利用率
 が６０％を超え、今やスマホファーストのWEBデザイン
 は必須といえます。その一方で、運用効率やコストの
 面から、レスポンシブ対応のデザインが求められ、デ
 ザイナー側の魅せるデザインとも相まって、サイト利
 用する側の「使いやすさ」や「わかりやすさ」が犠牲
 になっている側面は否めません。\n\n大好評書籍「だか
 ら、そのデザインはダメなんだ。」の著者が、これま
 で多くの方からリクエストを頂いていた「使いやすい
 ・分かりやすいスマートフォンサイトのUIデザイン」
 のテクニックやノウハウを全国初！博多会場にて書き
 下ろし初公開します！\n\n▼こんなことを学びます (^_^)
 /★\n\nスマートフォンのサイト構築において、『本来
 あるべき使い勝手』や『わかりやすさ」の観点から、
 スマホ用UIデザインをユーザー視点に立って徹底的に
 その性能を検証し、あらゆるデザイナーのバイブルに
 なるUIデザインの方向性や、最適なデザイン表現や構
 成レイアウトを学べぶことができます！\n\n▼こんなメ
 リットがあります (^_^)/★\n\n著名な企業のさまざまなWE
 Bサイトを具体例に、スマートフォンにおけるUIの善し
 悪しを評価し、今まで当たり前だと思っていたデザイ
 ンのセオリーに対して一石を投じ、「目からウロコ」
 の新しい『気づき』を実現していきます！\n\n▼サンプ
 ル動画\n\nハンバーガーメニューの普及率\nユーザー視
 点に立ったドロップメニューの利用法\n\n▼講座内容 (^
 _^)/★\n\n※各講座の内容は開発中のため、タイトルは
 仮であり内容は変更になる場合があります。\n\n【スマ
 ートフォンとは】\n\n\n真の“スマートフォン”と言え
 るデバイスが2007年に誕生\nスマートフォンはどっちで
 使う？右手？左手？片手？両手？\n\n\n【使ってはいけ
 ない｢ハンバーガーメニュー｣】\n\n\nハンバーガーメ
 ニューの普及率を徹底調査\nハンバーガーメニューの
 種類\nハンバーガーメニューは、なぜ多くの企業に採
 用されているのか？\nだから、ハンバーガーメニュー
 はダメなんだ。\nスマートフォンでは階層構造を理解
 ・把握しにくい\n直感性を損なわずに使えるスマホ用
 ナビゲーションメニュー\n使い方に注意が必要なスマ
 ホ用ナビゲーションメニュー\n\n\n【レスポンシブデザ
 インでは実現しないスマートフォンへの最適化】\n\n\n
 レスポンシブデザインの普及率\nレスポンシブデザイ
 ンがもたらすメリット\nレスポンシブデザインによっ
 て失われるモノ\nレスポンシブデザインは、適合化で
 あって最適化ではない\nスマートフォンサイトの未来
 を作るモバイルファースト\n\n\n【入力操作を快適にす
 る入力フォームの良し悪し】\n\n\n入力ミスを起こさせ
 ないインタフェース\nユーザー視点に立った入力の省
 力化\n\n\n【操作を分断しないモーダル表示、アコーデ
 ィオン表示】\n\n\nモーダル表示にはTPOが大切\nスマー
 トフォンの閲覧性を左右するアコーディオン表示\n\n\n
 【快適を維持するためのスマートフォン向けUI】\n\n\n
 グーグルモバイルファーストについて\n右手でも左手
 でも押せる最適なボタン表現\n最低限認識可能なアイ
 コンサイズや表現方法\n\n\n▼他にもUIデザインに関す
 る基礎編・応用編・実戦編があります。\n　くわしく
 は下記よりご確認ください。\nhttps://continue.doorkeeper.jp/e
 vents/upcoming
LOCATION:エッサム神田ホール 1号館 東京都千代田区神田鍛
 冶町3-2-2 
URL:https://techplay.jp/event/689868?utm_medium=referral&utm_source=ics&utm
 _campaign=ics
END:VEVENT
END:VCALENDAR
