BEGIN:VCALENDAR
VERSION:2.0
PRODID:-//https://techplay.jp//JP
CALSCALE:GREGORIAN
METHOD:PUBLISH
X-WR-CALDESC:SaaS community #2
X-WR-CALNAME:SaaS community #2
X-WR-TIMEZONE:Asia/Tokyo
BEGIN:VTIMEZONE
TZID:Asia/Tokyo
BEGIN:STANDARD
DTSTART:19700101T000000
TZOFFSETFROM:+0900
TZOFFSETTO:+0900
TZNAME:JST
END:STANDARD
END:VTIMEZONE
BEGIN:VEVENT
UID:689964@techplay.jp
SUMMARY:SaaS community #2
DTSTART;TZID=Asia/Tokyo:20180828T190000
DTEND;TZID=Asia/Tokyo:20180828T203000
DTSTAMP:20260425T123033Z
CREATED:20180809T100455Z
DESCRIPTION:イベント詳細はこちら\nhttps://techplay.jp/event/68996
 4?utm_medium=referral&utm_source=ics&utm_campaign=ics\n\nイベント概
 要\n日本でも SaaS (Software as a Service) が注目されていま
 すが、まだ新しいこともあって SaaS そのものが体系化
 されていない状況です。そこで SaaS Community では SaaS を
 既に運営している方や、これから SaaS ビジネスに関わ
 る方などが集まって情報共有できる場を提供していま
 す。\n当日のスケジュール\n18:45〜開場\n19:00〜19:20「急
 成長 SaaS からの教え」(本間)\n\n先月、アメリカで出版
 されたばかりの「High Growth Handbook - English Edition」をシ
 ェアします。急成長する SaaS を運営する中で私たちが
 取り組まなければならないことは何か。ここは一つ先
 人の知恵を借りることにしましょう。\n\n19:20〜19:40「Sa
 aSの顧客の成功に必要な原則とは？」(畠)\n\nサブスク
 リプションサービスにとって顧客の成功が重要視され
 ています。通称「青本」の内容を参考に、カスタマー
 サクセスに必要な原則について学びましょう！\n\n19:40
 〜20:00「100以上の SaaS のLPを調査してわかったこと」（
 小俣）\n\nSaaS ビジネスを展開する企業のランディング
 ページを調査して気づいたことを共有します。国内で
 はまだまだ SaaS ビジネスを展開する企業は少ないです
 が、海外には数多くの SaaS が存在します。今回は、そ
 れらの企業のランディングページからサイト構成など
 について学んでいきたいと思います。\n\n20:00〜20:30　
 懇親会\n\nそのまま会場で懇親会を行います。\n会場の
 備考\n\n抽選結果は開催1週間前にご連絡します。\nマン
 ションのインターホンにてお名前と勉強会の参加の旨
 をお伝えください。\n軽食とお飲み物をご用意します
 。\n電源の用意は基本的にはありません。Wifi はご希望
 の場合のみお伝えします。\nスライドの写真撮影はご
 遠慮願います。\n\n配信視聴枠に関して\n遠隔地で当日
 の勉強会の視聴ができる生配信をします。ご希望の方
 は配信視聴枠よりお申し込みください。イベントの前
 日~当日に、申し込んでいただいた方のメールアドレス
 宛に視聴ページの URL をお伝えします。\n[8/27(月) 14:05
 頃、参加者の皆さま宛に【視聴URL】を送信しました。]
 \n※ 現状は、パソコンか Android の Chrome のみに対応し
 ております。あらかじめご了承ください。\n主催 (selfre
 e LLC) について\nselfree はブラウザ電話システム CallConnec
 t と、ライブ配信システム wellcast を運営する SaaS 企業
 です。\nSaaS 勉強会は社内勉強会の一環でメンバーが学
 んだ内容をシェアする場として始まりましたが、一般
 公開して外部の方と情報共有できる場にすべく、オー
 プンなコミュニティとして運営しています。
LOCATION:selfree 高円寺ラボ 東京都杉並区高円寺南２丁目５
 １−２  オーキッドコート101
URL:https://techplay.jp/event/689964?utm_medium=referral&utm_source=ics&utm
 _campaign=ics
END:VEVENT
END:VCALENDAR
