BEGIN:VCALENDAR
VERSION:2.0
PRODID:-//https://techplay.jp//JP
CALSCALE:GREGORIAN
METHOD:PUBLISH
X-WR-CALDESC:『テスト設計（機能テスト）』【現場で使え
 るテスト技法の肝】8月2日(木)
X-WR-CALNAME:『テスト設計（機能テスト）』【現場で使え
 るテスト技法の肝】8月2日(木)
X-WR-TIMEZONE:Asia/Tokyo
BEGIN:VTIMEZONE
TZID:Asia/Tokyo
BEGIN:STANDARD
DTSTART:19700101T000000
TZOFFSETFROM:+0900
TZOFFSETTO:+0900
TZNAME:JST
END:STANDARD
END:VTIMEZONE
BEGIN:VEVENT
UID:690103@techplay.jp
SUMMARY:『テスト設計（機能テスト）』【現場で使えるテ
 スト技法の肝】8月2日(木)
DTSTART;TZID=Asia/Tokyo:20180802T100000
DTEND;TZID=Asia/Tokyo:20180802T170000
DTSTAMP:20260422T195419Z
CREATED:20180810T060312Z
DESCRIPTION:イベント詳細はこちら\nhttps://techplay.jp/event/69010
 3?utm_medium=referral&utm_source=ics&utm_campaign=ics\n\n\n※受講料
 は、受講後の請求書払いです。表示は会場払いとなっ
 ておりますが、ご注意をお願い致します。\n\n○ 講座
 概要\n～～　ソフトウェアテストのプロ集団である「
 ㈱SHIFT」の教育機関「ヒンシツ大学」には\n　　　不具
 合を狙い撃ちし、不具合摘出率を高め、更にコストも
 抑える「方法論」があります　～～\n当講座では、品
 質保証の「方法論」の一つである「テスト設計（機能
 テスト）」を学んでいただきます。 \n★人気No.1！！
 ★\nユーザーから要求された機能を満たしていること
 を検証する、ブラックボックステストの代表格「機能
 テスト」。\n多くのエンジニアが経験されていると思
 いますが、実は、この「機能テスト」…奥が深いんで
 す！手法によって生産性、品質を格段に上げることが
 出来ます。 \n本講座では、ソフトウェアテスト専門会
 社SHIFTで実際に使用されている「テスト設計」手法を
 余すところなく伝授致します。\n独自の網羅的かつ効
 率的なテスト設計手法を、ツールの活用方法なども含
 めてしっかりマスターできる実践講座です。豊富なケ
 ーススタディとディスカッションを通して、実務です
 ぐに活用できるスキルが身に付きます。\n講座イメー
 ジ\nhttps://codezine.jp/article/detail/9734?p=1\n\n○ 受講対象\n2~3
 年目の経験の浅いエンジニアの方は勿論、ご経験豊富
 なエンジニアの方もご自身のスキルと照らし合わせて
 より高度なスキルを持っていただける講座内容となっ
 ています！\n特に、機能テストに関する設計技法の実
 践での活用方法を学ばれたい方には絶対オススメです
 ！SHIFT講座一押しの講座です。是非一度ご受講下さい
 ！\n・システム開発者全般、管理者の方\n・組み合わせ
 テスト設計技法を会得したい方\n◎未経験者\n　◎エン
 ジニア\n　◎リーダー\n　○マネージャー\n○ 今後のオ
 ススメ講座\n＜テスト設計ステップアップ講座＞\n本講
 座を受けた後は以下の講座を受講いただきますと、よ
 り効果的にテスト設計スキルが身につきます。\n・「
 テスト設計（シナリオテスト）」　★オススメ！\n・
 「テスト演習（機能テスト）」\n＜エンジニアステッ
 プアップ講座＞\n本講座を受けた後は以下の講座を受
 講いただきますと、より効果的にエンジニアスキルが
 身につきます。\n・「仕様書インスペクション」\n・「
 テスト自動化実践」\n・「DevOpsテスト入門」\n＜マネジ
 メントステップアップ講座＞\n本講座を受けた後は以
 下の講座を受講いただきますと、より効果的にマネジ
 メントスキルが身につきます。\n・「テスト計画」\n・
 「テスト管理」\n・「不具合分析」\n・「テスト戦略」
 \n・「薮田和夫氏_テストプロセス改善」\n○ アジェン
 ダ\n1　テスト設計基礎\n　　・テスト設計とは？\n　　
 ・テスト設計フロー\n　　・テスト設計書フォーマッ
 ト\n　　・テスト設計基礎実機演習\n　2　確認項目作
 成実践\n　　・確認項目一覧とは？\n　　・確認項目一
 覧作成フロー\n　　・テスト観点\n　　・パターン有無
 の判断\n　　・確認項目作成実機演習\n　3　パターン
 表作成実践\n　　・パターン表とは？\n　　・パターン
 表作成フロー\n　　・テスト技法（同値分割・境界値
 分割）\n　　・組み合わせ技法（全網羅・2因子間網羅
 ）\n　　・パターン表作成実機演習\n　4　テスト設計
 書チェック実践\n　　・テスト設計書チェックフロー\n
 　　・テスト設計書チェック実機演習\n※内容は変更
 になる場合もあります　\n○ 詳細\n日時：　2018年8月2
 日(木)　10:00~17:00 （受付開始 9:40~）\n会場：　    株式
 会社SHIFT　本社11F　セミナールーム 　東京都港区麻布
 台2-4-5　メソニック39MTビル\n　　　　　※東京メトロ
 日比谷線神谷町駅　1番出口より徒歩6分 / 都営大江戸
 線赤羽橋駅　中之橋口より徒歩7分\n講師：　杉原 茂忠
 （予定）\n　　　　　株式会社SHIFT 「ヒンシツ大学」
 トレーニングセンター長 /  　　　　　国内大手会計ソ
 フト会社　元品質保証リーダー　 \n費用：　1人　3万
 円（税別)　\n支払：　講義終了後に、支払い期限を翌
 月末としている請求書をお渡し致します。\n　　　　
 ※会場払いではありません。\n定員：　connpass参加枠　
 10名　（先着順）  \n　　　　　※connpass以外からの募
 集枠がございます。\n　　　　　※開催1週間前までに5
 名以上の申込がない場合は開講を中止することがあり
 ますのでご了承ください。\n○ お申込み方法\nconnpass（
 当サイト）よりお申し込みください。\n○ 問い合わせ
 先\n<ヒンシツ大学事務局>  hinshitsu-univ@shiftinc.jp\n○ お
 願い・注意事項\n● 当日、お名刺のご持参をお願いし
 ます。受講票は事前にご送付ください。\n● プログラ
 ムの内容、講師、開催場所等を変更させていただく場
 合がございますが、ご了承ください。\n● お申込み後
 のキャンセルは、なるべくお早めにお願いします。\n
 ● 弊社が、講座開催の報告等の掲載をHP等で行う際に
 特定の個人がフォーカスされないような形で撮影した
 写真を\n　使用する場合がございますのでご了承くだ
 さい。\n○ キャンセルポリシー\n開催する場合、受講
 申込書の送付致します。（返送期限は、講座日の2営業
 日前となっております。）\nそちらに必要事項をご記
 入の上、捺印しご返送いただいております。\nキャン
 セルされる場合、受講申込書をご返送いただいた時点
 からキャンセル料が発生致します。\nキャンセル料は
 受講代金全額となります。\n※受講申込書を返送いた
 だいた後で、弊社都合による開催中止の場合はキャン
 セル料は頂きません。\n○ その他人気スキルアップ講
 座のご案内\n～～　ソフトウェアテストのプロ集団で
 ある「㈱SHIFT」の教育機関「ヒンシツ大学」には\n　　
 　不具合を狙い撃ちし、不具合摘出率を高め、更にコ
 ストも抑える「方法論」があります　～～\n「ヒンシ
 ツ大学」の講座スケジュール一覧です。http://hinshitsu-un
 iv.connpass.com/\n\n最新情報は、この connpass をぜひご覧く
 ださい！講師一同お待ちしております。\n○ 「ヒンシ
 ツ大学」を受講された皆さまの声\n・キングソフト株
 式会社様\n「設計段階から品質に対する意識を持つよ
 うになり、開発が合理的にできるようになりました」\
 n ・株式会社LIXILインフォメーションシステムズ様\n「
 社内勉強会などで定期的に開催を検討していきたいで
 す」\n ・株式会社レピカ様\n「品質というものに対す
 る意識の大切さについて改めて知る、とてもいい機会
 になりました」
LOCATION:株式会社SHIFT　本社11F　セミナールーム 東京都港
 区麻布台2-4-5
URL:https://techplay.jp/event/690103?utm_medium=referral&utm_source=ics&utm
 _campaign=ics
END:VEVENT
END:VCALENDAR
