BEGIN:VCALENDAR
VERSION:2.0
PRODID:-//https://techplay.jp//JP
CALSCALE:GREGORIAN
METHOD:PUBLISH
X-WR-CALDESC:自然言語処理シリーズ構文解析読書会 vol.4
X-WR-CALNAME:自然言語処理シリーズ構文解析読書会 vol.4
X-WR-TIMEZONE:Asia/Tokyo
BEGIN:VTIMEZONE
TZID:Asia/Tokyo
BEGIN:STANDARD
DTSTART:19700101T000000
TZOFFSETFROM:+0900
TZOFFSETTO:+0900
TZNAME:JST
END:STANDARD
END:VTIMEZONE
BEGIN:VEVENT
UID:690738@techplay.jp
SUMMARY:自然言語処理シリーズ構文解析読書会 vol.4
DTSTART;TZID=Asia/Tokyo:20180822T193000
DTEND;TZID=Asia/Tokyo:20180822T213000
DTSTAMP:20260420T185115Z
CREATED:20180814T060301Z
DESCRIPTION:イベント詳細はこちら\nhttps://techplay.jp/event/69073
 8?utm_medium=referral&utm_source=ics&utm_campaign=ics\n\n自然言語処
 理シリーズ 構文解析 を輪読する読書会です。\n以前、
 おこなっていた自然言語処理の本の読書会が好評だっ
 たため、さらに深掘りする勉強会です。\n自然言語処
 理シリーズからテキストを選んでいこうと思います。
 最初のテキストは「構文解析」です。\n以前の勉強会
 に参加されていなかった方ももちろん参加可能ですの
 で、ぜひ参加してください。\n基本はディスカッショ
 ン方式ですが、発言なしでもOKです。\n目次は下記にな
 ります。\n\nはじめに\n品詞解析と機械学習\n句構造解
 析\n依存構造解析\n文法理論\,深い構文解析\n構文解析
 の応用\n構文解析ツール\nツリーバンク\n\n日頃の疑問
 や、始めるにあたって気になることをぜひ会でぶつけ
 てみて下さい。\n対象者\n\n自然言語処理に興味がある/
 やっている人\n他の人がどんな風に自然言語処理のシ
 ステムを構築しているか気になる人\n\nやること\n\n各
 テーマごとにどうやって実装するかの議論\n質疑応答\n
 自然言語処理について議論\n\n第2回の読書会は第2章4節
 〜第2章13節までを読みます。\n参加される方は、発表
 範囲を読んでいただけるとスムーズです。\n該当箇所
 を発表いただける方も募集しています。\n発表いただ
 ける方は、該当の章の内容をご紹介いただければと思
 います。\n内容のご紹介だけでなく、発表される方が
 分からなかった部分を他の参加者に投げかけるなど双
 方向に議論できる会になればと思っています。\n次回
 以降も、隔週ペースでの開催を予定しています。\n※
 本イベントは営利目的ではないため、営業目的での参
 加はお断りしております。\nタイムテーブル\n\n19：15〜
 19：30　開場\n19：30〜20：30　3章4節〜3章5節について発
 表とディスカッション\n20：30〜21：30　3章6節〜3章8節
 について発表とディスカッション\n\n開催場所\n\n株式
 会社レトリバ　オフィス\n東京都千代田区富士見 1-12-1
 　Q-DAN 1991ビル 4階\n最寄り駅：飯田橋駅、九段下駅\n\n
 その他\n\n・会費：無料\n・持ち物：特になし（書籍とP
 Cはあれば）\n・勉強会後：ご都合のつく方は勉強会後
 にご飯を食べに行きましょう\n\nTwitterハッシュタグ\n#re
 trieva_nlp
LOCATION:株式会社レトリバ 東京都千代田区富士見 1-12-1 Q-D
 AN 1991ビル 4階
URL:https://techplay.jp/event/690738?utm_medium=referral&utm_source=ics&utm
 _campaign=ics
END:VEVENT
END:VCALENDAR
