BEGIN:VCALENDAR
VERSION:2.0
PRODID:-//https://techplay.jp//JP
CALSCALE:GREGORIAN
METHOD:PUBLISH
X-WR-CALDESC:【初心者向け】JSのフレームワーク：React勉強
 会
X-WR-CALNAME:【初心者向け】JSのフレームワーク：React勉強
 会
X-WR-TIMEZONE:Asia/Tokyo
BEGIN:VTIMEZONE
TZID:Asia/Tokyo
BEGIN:STANDARD
DTSTART:19700101T000000
TZOFFSETFROM:+0900
TZOFFSETTO:+0900
TZNAME:JST
END:STANDARD
END:VTIMEZONE
BEGIN:VEVENT
UID:690800@techplay.jp
SUMMARY:【初心者向け】JSのフレームワーク：React勉強会
DTSTART;TZID=Asia/Tokyo:20180816T190000
DTEND;TZID=Asia/Tokyo:20180816T210000
DTSTAMP:20260423T101659Z
CREATED:20180814T140347Z
DESCRIPTION:イベント詳細はこちら\nhttps://techplay.jp/event/69080
 0?utm_medium=referral&utm_source=ics&utm_campaign=ics\n\n本来は、Le W
 agonのプログラミング・ブートキャンプに参加している
 生徒対象の特別な授業・・・\n今回は、無料で数席を
 パブリックに公開します！\n\nワークショップの内容\n
 ー　Reactを全体的にカバーします\nー　コンポーネント
 にも触れます！\n\n参加申し込み\nーconpassの参加ボタン
 をポチッと！\nーイベントは英語で行われます\n\n対象
 者\nー　Javascript＆DOMの知識を持っている人\nー　Javascri
 pt初心者向けのワークショップではありません！\nー　
 オススメのミートアップ→"React Hack Tokyo (https://www.meetup
 .com/React-Hack-Tokyo)".\n\nLe Wagon Tokyoの最新情報\n第7期目の
 プログラミングブートキャンプの選考が開始しました
 ！\n申し込みはこちらから！(https://www.lewagon.com/apply/toky
 o)\n\nまた、Le Wagonは京都でも開催することになりまし
 た！\n京都で第一回目となるプログラミングブートキ
 ャンプの申し込みはこちらから！(https://www.lewagon.com/app
 ly/kyoto)
LOCATION:Impact Hub Tokyo 2-11-3目黒目黒区東京都
URL:https://techplay.jp/event/690800?utm_medium=referral&utm_source=ics&utm
 _campaign=ics
END:VEVENT
END:VCALENDAR
