BEGIN:VCALENDAR
VERSION:2.0
PRODID:-//https://techplay.jp//JP
CALSCALE:GREGORIAN
METHOD:PUBLISH
X-WR-CALDESC:Web\, アプリ開発に挑戦　#1
X-WR-CALNAME:Web\, アプリ開発に挑戦　#1
X-WR-TIMEZONE:Asia/Tokyo
BEGIN:VTIMEZONE
TZID:Asia/Tokyo
BEGIN:STANDARD
DTSTART:19700101T000000
TZOFFSETFROM:+0900
TZOFFSETTO:+0900
TZNAME:JST
END:STANDARD
END:VTIMEZONE
BEGIN:VEVENT
UID:690873@techplay.jp
SUMMARY:Web\, アプリ開発に挑戦　#1
DTSTART;TZID=Asia/Tokyo:20180825T130000
DTEND;TZID=Asia/Tokyo:20180826T190000
DTSTAMP:20260420T060042Z
CREATED:20180815T060415Z
DESCRIPTION:イベント詳細はこちら\nhttps://techplay.jp/event/69087
 3?utm_medium=referral&utm_source=ics&utm_campaign=ics\n\n\nサービス
 リリース目前のコーディングに携われるチャンス！！\
 n田舎山の中でRubyソースコードをいじってみよう！\n\n
 暇な方、中級者・ベテランまで、幅広い方にご参加を
 募っています。\n自己紹介や質問等の交流の時間も設
 けていますので、親睦を深めるきっかけに！\n■スケ
 ジュール\n8月25-26日（土、日）\n\n\n\n時間\n内容\n\n\n\n\n
 13:00\n開場 (来た人から説明、コーディング)\n\n\n15:00\n
 おやつタイム\n\n\n15:30\n引き続きコーディング\n\n\n19:00\
 n終了\n\n\n\n※途中参加・途中退場OKです\n※食事スペー
 スあり、食べ物持ち込みOKです\n■こんな方にオススメ
 \nウェブサイトを作りたい\nアプリケーションを開発し
 たい\nクリエイター、プログラマー仲間を作りたい\n一
 緒に勉強する仲間が欲しい\n■歓迎条件\n・Rubyで何か
 作ったことがある\n・Ruby on Railsを触ったことがある\n
 ・サーバー周辺が得意\n■開催場所\nClockey合同会社\n北
 九州市門司区大里桃山町11-13\n■参加費\n無料\n■その
 他\nWifiと電源あります \n——————— キーワード：
 Javascript\,Ruby\,RubyonRails\,swift\,HTML\,heroku北九州 ————
 ———
LOCATION:Clockey\, llc 福岡県北九州市門司区大里桃山町11-13
URL:https://techplay.jp/event/690873?utm_medium=referral&utm_source=ics&utm
 _campaign=ics
END:VEVENT
END:VCALENDAR
