BEGIN:VCALENDAR
VERSION:2.0
PRODID:-//https://techplay.jp//JP
CALSCALE:GREGORIAN
METHOD:PUBLISH
X-WR-CALDESC:【開発者向け】「今日から使える2.13おさらい
 編＋2.17&ECCUBE4最新情報！」 | EC-CUBE名古屋 vol.59
X-WR-CALNAME:【開発者向け】「今日から使える2.13おさらい
 編＋2.17&ECCUBE4最新情報！」 | EC-CUBE名古屋 vol.59
X-WR-TIMEZONE:Asia/Tokyo
BEGIN:VTIMEZONE
TZID:Asia/Tokyo
BEGIN:STANDARD
DTSTART:19700101T000000
TZOFFSETFROM:+0900
TZOFFSETTO:+0900
TZNAME:JST
END:STANDARD
END:VTIMEZONE
BEGIN:VEVENT
UID:691498@techplay.jp
SUMMARY:【開発者向け】「今日から使える2.13おさらい編＋
 2.17&ECCUBE4最新情報！」 | EC-CUBE名古屋 vol.59
DTSTART;TZID=Asia/Tokyo:20180901T133000
DTEND;TZID=Asia/Tokyo:20180901T173000
DTSTAMP:20260426T023433Z
CREATED:20180819T140528Z
DESCRIPTION:イベント詳細はこちら\nhttps://techplay.jp/event/69149
 8?utm_medium=referral&utm_source=ics&utm_campaign=ics\n\n今回のEC-CUBE
 の勉強会テーマ\n\n【開発者向け】「今日から使える2.1
 3おさらい編＋2.17&ECCUBE4最新情報！」\n\n今回のEC-CUBE名
 古屋勉強会は、\n久しぶりに2系のお話！\nさらに、新
 しく出るEC-CUBE2.17 / EC-CUBE4の最新情報をEC-CUBE開発者で
 もありエバンジェリストでもある大河内健太郎氏に、
 お話しいただきます。\n\n例えば\n\n「商品一覧ページ
 にdtb_productのデータは持ってこれるんだけど、dtb_product
 _classのデータ(例えばダウンロードファイル名とかさ)
 も表示させたい」\n\n「データベース使いへの道を目指
 したい」\n\n「いまさら感あるけどSmartyについてわから
 ない事を教えてほしい！」\n\n「商品が一覧ページに表
 示される仕組」\n\nなどなど、こんなお話の予定です♪
 \n\nもしかしたら見られるかも?!\n\n大河内さんの「リア
 ルタイム即興コーディングショー」もお楽しみにして
 くださいね！(´꒳`)\n\n注）今回は開発者向けとなりま
 すので、PHP/JSなどWeb制作または開発の経験または知識
 がある方を対象にしています。\n（なんとなくわかる
 ・ちょこっとだけわかるOK！）\n\n\n\n今回のターゲット
 は「開発者」となります。\n難しいお話になるかと思
 いますが、全開催を通して開発者からオーナーさん、
 その他直接EC-CUBEとは関わらない個別の質問までお答え
 できます。\n\nお答えいただくのは、参加される制作者
 や開発者、オーナー様と、皆さんで様々な経験や知見
 から答えていく実のある勉強会にしたいと思います。\
 n\n目的は「参加すると身になる！売上に繋がる！顧客
 との信頼に繋がるプロの知識！」です！\n（目的コッ
 ソリ増えました）\n\n今回も実のある勉強会にいたしま
 す♪\n\n課題・質問　お持ちください♪\n\nEC-CUBE名古屋U
 Gは、『初めての参加者でも遠慮なく発言したくなる空
 気』が特徴です♪\nぜひどんどん入って知識や発見、
 気づきをお土産にお持ち帰りください^^\n\n\n\n講師プロ
 フィール\n\n大河内 健太郎 氏\n有限会社Loop AZ 取締役\nE
 C-CUBE Evangelist\n\nEC-CUBE0系から長年開発に携わり、今年
 で10年目を迎えた公式エバンジェリスト。大阪から毎
 月地元(？)名古屋までいらしてくれます^^\nEC-CUBEコミュ
 ニティは@nanasess\n\n\n\nテーマに関わらずたくさんのご
 質問お持ちしております(^^)\n\n対象者\n\n\nWebサイト制
 作者全般\nプログラマー・開発者\nネットショップオー
 ナー\nネットショップに興味のある方\nネットショップ
 を構築してみたい方\nネットショップを運営している
 方\nE-コマースに興味のある方\n\n\n主に、Webシステム開
 発者・サイト制作者・ネットショップオーナー様・運
 営担当が対象です。\n\n勉強会よりも、近い距離で質問
 できたり、仲間ができる「繋がろう！コミュニティ」
 懇親会あります♪\n\nEC-CUBE名古屋UGは、新しく参加され
 る方が楽しく過ごしていただける懇親会だと自負して
 おります♪\n大河内さんの人柄がとてもいいんです笑\n
 あまりコミュニケーションが得意でない方でも大丈夫
 ！一回参加したら次からは初めてではありません♪\n
 一緒にごはん食べましょ！(´ω｀)\n\n\n\nEC-CUBE名古屋UG
 の特徴\n\nEC-CUBEだけではなく、サーバー環境からネッ
 トショップ構築、果てはショップ運営に携わる細かい
 部分まで、幅広くE-コマースを学ぶ勉強会を行なって
 おります。\n内容は、テーマに合わせるだけでなく、
 都度「人数」と「参加者レベル」に合わせた内容とし
 、ひとりひとりが有意義な時間となる勉強会を目指し
 ています。\n\n参加費\n\n1\,000円/人\n\n会場費に利用させ
 ていただきます。\n\n事前に準備する物\n\n\nノートパソ
 コン（任意）\n名刺\nその他、ノートと筆記用具、また
 はEvernoteなどメモアプリをご準備ください。\n\n\n「EC-CU
 BE」とは\n\nASPサービスでは実現できない独自性の高いE
 Cサイト構築・リニューアルを支援するため、株式会社
 ロックオンのEC構築パッケージを誰でも無料で利用・
 改変できる「オープンソース」として公開したもので
 、現在100万ダウンロードを突破し、推定20\,000店舗以上
 で稼働中です（株式会社ロックオン調べ）。\n\n昨今の
 Eコマースは、ECサイト単体だけではなく、物流・決済
 ・広告などの様々な周辺サ－ビスと密接に連携し、そ
 の範囲はリアルにまで広がっています。 そんな多様な
 ニーズに応える為、各種EC周辺サービスとの無限の組
 み合わせによって、独自のショッピングプラットフォ
 ームを構築できるのが、EC-CUBEの「ECオープンプラット
 フォーム」です。\n\nそんなEC-CUBEの定期勉強会を、名
 古屋・金山で開催しております。\n\n皆さまの「これや
 って！」募集しています\n\n定期勉強会として開催して
 おりますので、課題も募集してています。\nこれやっ
 て！というものがありましたら、ぜひ当イベント告知
 からお問い合わせ、またはFacebookグループコメント欄
 及びメッセージまでご一報ください(^^)\n\n質問や課題
 などぜひお持ちください\n\n\nみなさんはどうしてます
 のん？と聞きたいこと。\nみんなで解決策を考えるも
 の。\n大河内さんに相談して解決策を探るもの。\n次回
 勉強会はコレでやってほしいと思っているもの。\n\n\n
 なんでもお持ちください^^\n\n◇ 女子大歓迎です！花を
 添えてください(切望)\n\n◇ 勉強会終了後は、懇親会を
 予定しております。\n\n勉強会の時間に都合が合わなく
 ても、懇親会のみの参加もWelcomeですので、ぜひご一報
 ください♪\n\n◇ 皆さまお誘いあわせの上、ご参加く
 ださいますよう\n心よりお待ちいたしております。\n\n
 名古屋EC-CUBEグループ - Facebook\nhttps://www.facebook.com/groups/
 eccube.nagoya.user/
LOCATION:アロマフォレスト今池 名古屋市千種区今池4丁目1
 6-27　くどうビル4F
URL:https://techplay.jp/event/691498?utm_medium=referral&utm_source=ics&utm
 _campaign=ics
END:VEVENT
END:VCALENDAR
