BEGIN:VCALENDAR
VERSION:2.0
PRODID:-//https://techplay.jp//JP
CALSCALE:GREGORIAN
METHOD:PUBLISH
X-WR-CALDESC:【全3回・初心者歓迎】HTML・CSS入門
X-WR-CALNAME:【全3回・初心者歓迎】HTML・CSS入門
X-WR-TIMEZONE:Asia/Tokyo
BEGIN:VTIMEZONE
TZID:Asia/Tokyo
BEGIN:STANDARD
DTSTART:19700101T000000
TZOFFSETFROM:+0900
TZOFFSETTO:+0900
TZNAME:JST
END:STANDARD
END:VTIMEZONE
BEGIN:VEVENT
UID:691521@techplay.jp
SUMMARY:【全3回・初心者歓迎】HTML・CSS入門
DTSTART;TZID=Asia/Tokyo:20180901T130000
DTEND;TZID=Asia/Tokyo:20180901T150000
DTSTAMP:20260424T111539Z
CREATED:20180819T210445Z
DESCRIPTION:イベント詳細はこちら\nhttps://techplay.jp/event/69152
 1?utm_medium=referral&utm_source=ics&utm_campaign=ics\n\n内容概要\n
 本講座ではHTML\,CSSの基礎を講義＋演習形式で習得する
 ことが目的です。全3回構成となります。\n更に、HTMLや
 CSSだけでなく、Webブラウザの仕組みやHTTPに関する基礎
 的な知識の習得も目的とします。\n初回はインターネ
 ットやWebサイトの仕組みを中心に講義を行い、一部演
 習を行います。\n2回目、3回目は主にHTML\,CSSを書きアウ
 トプットを重視する回になります。\n手を多く動かし
 て体でフロントエンドコーディングを覚えるのが目的
 です。\n\n   前編：Webやブラウザの仕組みを勉強しよう
 /エディタを使ってHTMLを書いてみよう\n   中編：HTML\,CSS
 の基本記述を習得しよう\n   後編：演習をこなして体
 で覚えよう \n\n〇扱う内容\n・インターネットについて
 の基礎知識（ブラウザ、HTTPなど）\n・HTML\,CSSの基本文
 法\n・エディタの使い方\n\n\n\n開催日程\n   前編：9/1(土
 )\n   中編：9/8(土)\n   後編：9/15(土)\n\n受付：12:50〜13:00\
 n講義+演習：13:00〜15:00\n\n\n\n会場\n水道橋駅、神保町駅
 、九段下駅周辺\n千代田区西神田2-7-14 YS西神田ビル2F\n\
 n\n\n対象者\n・HTML\,CSSをゼロから習得したい方\n・Web開
 発の基礎を一から勉強したい方\n・ブログやWebサイト
 を1から作りたい人\n・ブログやWebサイトを作りたいが
 何から勉強したらよいかわからない人\n\n\n\n講師プロ
 フィール\n士業向けのアウトソーシングサービスを行
 う会社でWebサイトの運営・SEOを担当。\nその後、Webア
 プリ開発を行うITベンチャーにて自社サイトの作成を
 担当。\n現在はPythonを用いたWebアプリ開発を勉強中。\n
 \n\n\n当日のお持物\nノートパソコン必須。\n筆記用具や
 メモ帳など各自の判断でお持ちください。\n\n\n\n当日
 までの準備作業\n★エディタのインストール★\nAtomエ
 ディタを用いて講義を進めていきます。以下に手順概
 要を載せます。\n\n①Atomエディタのダウンロードおよ
 びインストール\nhttps://atom.io/\n上記ページで「Download」
 をクリックするとAtomエディタのインストーラがダウン
 ロードできます。\nダウンロード後インストーラを起
 動してください。\n\n環境構築について個別サポートが
 必要な場合、その旨お問い合わせください。\n個別に
 フォローできればと考えています。\n\n★環境構築につ
 いてよくある質問★\nQ:Atomエディタ以外のエディタな
 どを利用してもよいか\nA:OKです。便宜的に講義ではAtom
 エディタを扱いますが特に問題ございません。\n\n\n\n
 主催者プロフィール（教材監修）\n阪大大学院数学専
 攻卒。大阪府出身。\nプログラマ、大手SIerで公共系基
 盤設計、医療系システムコンサルタント等を経てAIベ
 ンチャーにて\nデータサイエンティスト。大手から中
 小企業まで数多くのシステム開発プロジェクトで10年
 以上の\nマネジメント経験あり。基盤設計、統計学、
 機械学習、深層学習、組織論、リーダーシップ論等を
 テーマに、\n社内外で勉強会の講師の経験多数。\n\n\n\n
 領収書\n領収書の発行も可能ですのでご希望の方はそ
 の旨お申し付けいただければと思います。\n（事務手
 数料として、追加2000円を含んだ金額でのお支払いと発
 行とさせていただきます。）\n\n\n\n備考\n・どうしても
 都合の合わない日程がある場合は個別でフォローアッ
 プ会を実施しますので、2回以上出席\nできる方は気軽
 にご相談いただけますと嬉しいです。\n\n・2回も出れ
 ないという方も教材ベースの自習中心でよければ同内
 容、同金額で個別指導を行えればと\n考えていますの
 で、気軽にお問い合わせいただけますと嬉しいです。\
 n
LOCATION:水道橋付近 千代田区西神田2-7-14 YS西神田ビル2F
URL:https://techplay.jp/event/691521?utm_medium=referral&utm_source=ics&utm
 _campaign=ics
END:VEVENT
END:VCALENDAR
