BEGIN:VCALENDAR
VERSION:2.0
PRODID:-//https://techplay.jp//JP
CALSCALE:GREGORIAN
METHOD:PUBLISH
X-WR-CALDESC:Shinjukuもくもくプログラミング #13
X-WR-CALNAME:Shinjukuもくもくプログラミング #13
X-WR-TIMEZONE:Asia/Tokyo
BEGIN:VTIMEZONE
TZID:Asia/Tokyo
BEGIN:STANDARD
DTSTART:19700101T000000
TZOFFSETFROM:+0900
TZOFFSETTO:+0900
TZNAME:JST
END:STANDARD
END:VTIMEZONE
BEGIN:VEVENT
UID:691763@techplay.jp
SUMMARY:Shinjukuもくもくプログラミング #13
DTSTART;TZID=Asia/Tokyo:20180908T110000
DTEND;TZID=Asia/Tokyo:20180908T174000
DTSTAMP:20260423T103822Z
CREATED:20180820T140519Z
DESCRIPTION:イベント詳細はこちら\nhttps://techplay.jp/event/69176
 3?utm_medium=referral&utm_source=ics&utm_campaign=ics\n\nガンガンコ
 ードを書く・学ぶ\n１人だと勉強をサボりそうなオー
 ガナイザーが 強制的に ストイックにプログラミング
 する ための時間を作ることを目的に毎週開催されてい
 るもくもく会です。\nそのため、新宿プログラミング
 もくもく会では参加しているプログラマー各位が相談
 したりしながら、以下のようなテーマにそれぞれ取り
 組みます。\n\n新しい言語・フレームワークを触りこむ
 \n今後使うかもしれないミドルウェアの特性を掴む\n分
 散データストアをとりあえず触って肌感覚を掴む\n機
 械学習についてまとまって時間作って学習する\n数学
 や統計を学び直す、論文を読む\nOSS活動やプライベー
 トプロダクトを集中して進めたい\n\n過去の雰囲気 : shi
 njuku-mokumoku\nもくもく中の質問などはslackの shinjuku-mokumo
 ku を利用していきましょう！\n未登録の方は方は https:/
 /shinjuku-mokumoku.herokuapp.com よりぜひ登録ください。\nタ
 イムテーブル\n途中の入退出自由です。せっかく集ま
 ったプログラマー同士、よければランチいきましょう
 ！\n\n\n\n時間\n内容\n\n\n\n\n10:45\n開場\n\n\n11:00\ncheck-in: 
 自己紹介と今日取り組むことの発表\n\n\n11:30\nもくもく
 \n\n\n13:00\n有志でランチ\n\n\n14:00\nもくもく\n\n\n17:00\nchec
 k-out: 取り組んだことの発表\n\n\n17:30\n振り返り(KPT)\n\n\n
 17:40\n片付け・解散\n\n\n\ncheck-in & out\n差し込み業務を回
 避するには強い意志！ということで、check-inにてやる
 ことを宣言し、check-outにて成果を発表します \n以下を
 参考に、自己紹介とやることの宣言を行うPull Requestを 
 shinjuku-mokumoku の meetups/<開催回数>/<あなたのお名前>.md (
 template) へお出しください。\n参考: https://github.com/shinjuk
 u-mokumoku/shinjuku-mokumoku/pull/137\n\n Pull Requestとは？その出
 し方は？\n\nGithub help - About pull requests\nGithub help - Creating
  a pull request\n\n\ngitやpull requestに不安な点がありました
 らshinjuku-mokumoku slackまでご質問ください。\n会場\nRepro
 株式会社\n\nJR線「新宿駅」南口から徒歩10分\nJR線・都
 営地下鉄大江戸線「代々木駅」北口から徒歩1分\n\n設
 備\n\nWiFiあります。SSID/PWは前に書いてあります\n喫煙
 所は9Fにあります\nコーヒー、自由に飲んで頂いて結構
 です\n飲食可能です。フロアに自販機はありませんが
 、1Fにコンビニやマクドナルドがあります\n電源ありま
 す。足りない場合はお声がけください\n書籍もぼちぼ
 ちありますので、こんな本ありますか？とお声がけく
 ださい\n\nアクセス\nこちらの建物の6Fです\n\nエレベー
 ターから降りて左に進み、会場にお入りください\n\n迷
 われましたら、slack/shinjuku-mokumoku もしくは、 #shinjukumok
 umoku hash付きでtweetください。\nslackは https://shinjuku-mokumo
 ku.herokuapp.com より登録できます。\n留意事項\n\nどなた
 でもblogなどにあげられるよう写真撮影を許可していま
 すので、その点ご了承ください\n質問・疑問などは、sl
 ackの shinjuku-mokumoku もしくは、twitterにて #shinjukumokumoku 
 付きtweetでご連絡ください\n途中退出される場合は、PR
 に今日の成果をお出しください\n
LOCATION:Repro株式会社 東京都渋谷区代々木1丁目36-4 全理連
 ビル 6階
URL:https://techplay.jp/event/691763?utm_medium=referral&utm_source=ics&utm
 _campaign=ics
END:VEVENT
END:VCALENDAR
