BEGIN:VCALENDAR
VERSION:2.0
PRODID:-//https://techplay.jp//JP
CALSCALE:GREGORIAN
METHOD:PUBLISH
X-WR-CALDESC:【リモート開催】9/3(月) Scalaもくもく会
X-WR-CALNAME:【リモート開催】9/3(月) Scalaもくもく会
X-WR-TIMEZONE:Asia/Tokyo
BEGIN:VTIMEZONE
TZID:Asia/Tokyo
BEGIN:STANDARD
DTSTART:19700101T000000
TZOFFSETFROM:+0900
TZOFFSETTO:+0900
TZNAME:JST
END:STANDARD
END:VTIMEZONE
BEGIN:VEVENT
UID:691774@techplay.jp
SUMMARY:【リモート開催】9/3(月) Scalaもくもく会
DTSTART;TZID=Asia/Tokyo:20180903T190000
DTEND;TZID=Asia/Tokyo:20180903T220000
DTSTAMP:20260421T071950Z
CREATED:20180820T210455Z
DESCRIPTION:イベント詳細はこちら\nhttps://techplay.jp/event/69177
 4?utm_medium=referral&utm_source=ics&utm_campaign=ics\n\nリモート参
 加URL： メッセージで送信します\n今回はリモート開催
 ！  Zoomミーティング - Zoom でつないで開催します。\nご
 自宅やオフィスなどお好きな場所からご参加ください
 ！\n概要\n日　時：9/3(月)  19:00〜22:00 (途中参加・退室
 でも大歓迎)\n参加費：無料  \nScalaもくもく会です。\n
 各自、マニュアルやサンプルを参考にしながら勉強を
 進めてください。\n課題などは用意しません。\n最後30
 分程、各自成果を報告する時間を設けます。\nScala関西
 勉強会Wiki：\nhttps://github.com/SAMMY7th/scala_kb/wiki\nおすすめ
 の初心者向け資料\n\nIntroduction | Scala研修テキスト\nhaten
 a/Hatena-Textbook: はてな研修用教科書\n
LOCATION:どこでも
URL:https://techplay.jp/event/691774?utm_medium=referral&utm_source=ics&utm
 _campaign=ics
END:VEVENT
END:VCALENDAR
