BEGIN:VCALENDAR
VERSION:2.0
PRODID:-//https://techplay.jp//JP
CALSCALE:GREGORIAN
METHOD:PUBLISH
X-WR-CALDESC:【Oracle Cloud vs AWS】MySQLの側面から考えるクラ
 ウド選定ポイント＠横浜
X-WR-CALNAME:【Oracle Cloud vs AWS】MySQLの側面から考えるクラ
 ウド選定ポイント＠横浜
X-WR-TIMEZONE:Asia/Tokyo
BEGIN:VTIMEZONE
TZID:Asia/Tokyo
BEGIN:STANDARD
DTSTART:19700101T000000
TZOFFSETFROM:+0900
TZOFFSETTO:+0900
TZNAME:JST
END:STANDARD
END:VTIMEZONE
BEGIN:VEVENT
UID:691845@techplay.jp
SUMMARY:【Oracle Cloud vs AWS】MySQLの側面から考えるクラウド
 選定ポイント＠横浜
DTSTART;TZID=Asia/Tokyo:20180913T150000
DTEND;TZID=Asia/Tokyo:20180913T171500
DTSTAMP:20260419T163422Z
CREATED:20180821T092939Z
DESCRIPTION:イベント詳細はこちら\nhttps://techplay.jp/event/69184
 5?utm_medium=referral&utm_source=ics&utm_campaign=ics\n\n概要\n\n\n日
 時\n\n\n2018年9月13日　15:00（14:30開場）\n\n\n持ち物\n\n\n
 受付にて名刺を1枚頂戴いたします\n\n\n主催\n\n\n株式会
 社スマートスタイル\n\n\n対象\n\nOracle CloudやMySQLの性能
 やコスト、機能、最新動向にご興味をお持ちの方\nMySQL
 を利用中 / 導入を検討されている企業のご担当者様\n
 クラウドサービスの導入を検討中　/　すでに導入され
 ている方 \nオンプレからクラウドへの移行を検討して
 いる方\nクラウドサービスでMySQL（又は Aurora）を利用
 中の方\nMySQLの性能、運用に課題のある方\nOracle DB のク
 ラウド利用やライセンスに課題のある方\n\n\nプログラ
 ム内容\n\n　今、Oracle Cloudを選択する理由 ～コスト、
 パフォーマンス、運用の観点から特徴と相違点を語る
 ～\n\n日本オラクル株式会社 オラクル・デジタル　第
 二ソリューション部　部長　北嶋伸安　氏 \n\nクラウ
 ドの導入および年間のコストは適正ですか?データベー
 スやOSなどのインフラ基盤をクラウドに移行後、性能
 や運用で困っていませんか?\n\nOracleやMySQLのデータベー
 ス、主要なOSやストレージなどインフラ基盤として、
 クラウドを導入する際のポイントを、他クラウドサー
 ビスとの相違点も踏まえて、様々な観点（コスト、パ
 フォーマンス、運用・機能）からご説明します。\n\nOra
 cle MySQL Cloud Service で使用できる MySQL Enterprise Edition の
 メリット\n\n日本オラクル株式会社 MySQL Global Business Unit
 　山﨑 由章 氏 \n\nOracle MySQL Cloud Serviceは、MySQLデータ
 ベースの商用版であるMySQL Enterprise Editionをベースにし
 ています。MySQL Enterprise Editionでは、監視機能、バック
 アップ機能、セキュリティ強化機能など、オープンソ
 ース版では使用できない追加機能が使用できます。ま
 た、MySQL開発ベンダーであるオラクルからの強力なサ
 ポートも受けられます。本セッションでは、これらのM
 ySQL Enterprise Editionのメリットについて、ご説明させて
 頂きます。\n\n速くて安い Oracle MySQL Cloud Service\n\n株式
 会社スマートスタイル MySQLソリューション事業部　デ
 ータベース部 北田 \n\nAWS RDS\, Aurora に対して、 Oracle MyS
 QL Cloud Service はどれだけ速く、どれだけ安くなるのか
 をベンチマーク結果をもとに紹介します。\n\nOracle Cloud
  トータルサポートのご紹介\n\n株式会社スマートスタ
 イル　MySQLソリューション事業部　営業部　部長　内
 藤 \n\nスマートスタイルは2018年5月よりOracle Cloud Platform
 および、Oracle MySQL Cloud Serviceのトータルサポートを開
 始いたしました。サービスの詳細および、スマートス
 タイルに依頼するメリットをご紹介させていただきま
 す。\n\nタイムテーブル\n\n\n\n\n  セッション\n  時間\n\n\
 n\n\n  ご挨拶\n  15:00-15:05\n\n\n  Session1\n  15:05-15:50\n\n\n  Ses
 sion2\n  15:50-16:05\n\n\n  休憩\n  16:05-16:15\n\n\n  Session3\n  16:1
 5-16:35\n\n\n  Session4\n  16:35 - 16:55\n\n\n  質疑応答\n  \n\n\n\n\
 nお問合せ\n\n株式会社スマートスタイル セミナー運営
 事務局\nMAIL : marketing@s-style.co.jp\n
LOCATION:株式会社パソナテック　横浜支店 神奈川県横浜
 市神奈川区鶴屋町2-23-2　TSプラザビルディング16F
URL:https://techplay.jp/event/691845?utm_medium=referral&utm_source=ics&utm
 _campaign=ics
END:VEVENT
END:VCALENDAR
