BEGIN:VCALENDAR
VERSION:2.0
PRODID:-//https://techplay.jp//JP
CALSCALE:GREGORIAN
METHOD:PUBLISH
X-WR-CALDESC:Python/C++プログラミング勉強会
X-WR-CALNAME:Python/C++プログラミング勉強会
X-WR-TIMEZONE:Asia/Tokyo
BEGIN:VTIMEZONE
TZID:Asia/Tokyo
BEGIN:STANDARD
DTSTART:19700101T000000
TZOFFSETFROM:+0900
TZOFFSETTO:+0900
TZNAME:JST
END:STANDARD
END:VTIMEZONE
BEGIN:VEVENT
UID:691960@techplay.jp
SUMMARY:Python/C++プログラミング勉強会
DTSTART;TZID=Asia/Tokyo:20180831T193000
DTEND;TZID=Asia/Tokyo:20180831T213000
DTSTAMP:20260419T181730Z
CREATED:20180821T134958Z
DESCRIPTION:イベント詳細はこちら\nhttps://techplay.jp/event/69196
 0?utm_medium=referral&utm_source=ics&utm_campaign=ics\n\nPython/C++プロ
 グラミング勉強会\n\n概要\n\n「PythonまたはC++を触った
 ことがある方」を対象とし、「自分のペースでコード
 を書いてプログラミングスキルを高めること」をコン
 セプトにした勉強会です。競技プログラミングの問題
 をメインに演習します。\n\nPython・C++の文法に自信がな
 い方は、Python入門講座、【初心者歓迎】C++入門、や【
 実用レベル】C++中級を受講後にご参加していただけれ
 ばと思います。PythonまたはC++の基本文法が一通りわか
 る方であればチャレンジできる内容になっております
 。\n\nプログラミングスキルを高める一番の近道はとに
 かくたくさんコードを書くことだと我々は考えます。
 当勉強会では競技プログラミングの過去問を演習、解
 説することでアルゴリズムや、プログラミングの考え
 方を養います。勉強会中は講師に質問し放題です。\n\n
 当日はPythonの実行環境、もしくはC++のコンパイル環境
 をインストールしたPCの持参をお願い致します。他言
 語での参加も可能ですが、解答解説の対応ができない
 場合がございます。\n\nスケジュール\n\n\n問題演習　ー
 　90分\nPythonでの解説　―　15分\nC++での解説　ー　15分
 \n\n\n※ 当日予告なく内容が変更になる可能性がござい
 ます。\n\nこんな人におすすめ\n\n\nPythonもしくはC++のス
 キルアップをしたい方\nエンジニアの方、またはエン
 ジニアを目指される方\nアルゴリズムを学びたい方\n\n\
 n講師\n\n吉田　拓真\n東京大学大学院にてシステム開発
 の研究に従事。C++を用いて、ライブラリを使わずに独
 自に深層強化学習を実装したことをきっかけに機械学
 習に携わっている。現在は、C++やPythonを用いてニュー
 ラルネットワークと機械学習によるFXの変動予測及び
 自動取引ツールを開発している。\n\n\n\n\n\n持ち物\n\n\nP
 C（Pythonの実行環境、もしくはC++のコンパイル環境イン
 ストール済み）\n※ インストールでお困りの方はinfo@to
 -kei.netまでご連絡いただければ、可能な範囲で対応致
 します。\n\n\n参加費\n\n会場代\n1000円\n\n(受付時にお支
 払いください)\n\n領収書\n\n前払いの方\n 決済処理後にP
 aypalから送付されるメール内容、またはPaypalの取引履
 歴から該当項目を確認の上、「詳細」をご覧ください
 。それらが領収書の代わりとなります。また、クレジ
 ットカード会社発行の利用明細書も領収書としてご利
 用いただけます。（当社より重複しての発行は行えま
 せん)\n\n\n当日払いの方\n講座後のアンケートにて、「
 領収書が必要」にチェックを入れるようにお願いいた
 します。領収書をメールにて送付させていただきます
 。\n\n受付・入場時間\n\n開始の15分前から\n\n問い合わ
 せ\n\nイベントに関するお問い合わせはinfo@to-kei.netまで
 ご連絡ください。\n\n注意事項\n\n\n講義のコンテンツは
 全て「全人類がわかる統計学」に帰属していますので
 、複製はご遠慮ください。\n個人ブログへの講義コン
 テンツの掲載はご遠慮ください。\nリクルーティング
 、勧誘、採用活動など、目的に沿わない行為につきま
 して、主催者が相応しくないと判断した場合は即刻退
 出処分とします。全員が気持ちよく過ごすことが出来
 るよう、ご協力をお願い致します。\n\n\n全人類がわか
 る統計学とは\n\n統計学の学習サイト、全人類がわかる
 統計学を運営、管理している団体です。統計学とその
 関連分野について、出来るだけわかりやすく多くの人
 々に届けるということを目指して活動しています。\n
LOCATION:秋葉原駅徒歩5分 東京都台東区台東１丁目11番4号 
 誠心Oビル 3階
URL:https://techplay.jp/event/691960?utm_medium=referral&utm_source=ics&utm
 _campaign=ics
END:VEVENT
END:VCALENDAR
