BEGIN:VCALENDAR
VERSION:2.0
PRODID:-//https://techplay.jp//JP
CALSCALE:GREGORIAN
METHOD:PUBLISH
X-WR-CALDESC:【（残枠1！！）発展編】LINE BOTで人工知能を
 試してみよう【プログラミング体験ワークショップ】
X-WR-CALNAME:【（残枠1！！）発展編】LINE BOTで人工知能を
 試してみよう【プログラミング体験ワークショップ】
X-WR-TIMEZONE:Asia/Tokyo
BEGIN:VTIMEZONE
TZID:Asia/Tokyo
BEGIN:STANDARD
DTSTART:19700101T000000
TZOFFSETFROM:+0900
TZOFFSETTO:+0900
TZNAME:JST
END:STANDARD
END:VTIMEZONE
BEGIN:VEVENT
UID:692407@techplay.jp
SUMMARY:【（残枠1！！）発展編】LINE BOTで人工知能を試し
 てみよう【プログラミング体験ワークショップ】
DTSTART;TZID=Asia/Tokyo:20180909T130000
DTEND;TZID=Asia/Tokyo:20180909T150000
DTSTAMP:20260421T210820Z
CREATED:20180824T020529Z
DESCRIPTION:イベント詳細はこちら\nhttps://techplay.jp/event/69240
 7?utm_medium=referral&utm_source=ics&utm_campaign=ics\n\n事前準備の
 お願い\n下記のアカウントの取得を済ませておくと、
 当日大変スムーズです。\nご協力おねがしいます！！\n
 \nLINE Developersアカウント https://developers.line.me/ja/ \nHeroku
 アカウント https://id.heroku.com/login \ncodenvyアカウントhttps
 ://codenvy.io/site/login \n\n人数\n8人（人数次第で枠を増枠
 しますのでとりあえず登録お願いします！）\n事前知
 識は必要ありません！\nハンズオンとは？\n会場で講師
 が手順を一つ一つ解説しながら進める形式の勉強会で
 す。\n都度、不明点を確認しながら1ステップずつやっ
 ていくので、事前知識がほぼナシの状態でも参加でき
 ます。\nLINE BOTとは？\nLINEが提供しているAPI(Messaging API)
 を利用した、自動発言システムです。\n今回は無料で
 利用できるプランで開発します。\n詳しくはこちら\n画
 像認識AIとは？\n画像を送ると画像の種類を分析して結
 果を返してくれるシステムです。\n今回はIBMのWatsonと
 いうAIのVisuas Recognitionを使用します。また、ハンズオ
 ン中にご自身で他のAIに接続していただいても構いま
 せん。\nhttps://www.ibm.com/watson/jp-ja/developercloud/visual-recogni
 tion.html\n設備\n会場に電源、wifi完備してあります。\nノ
 ートPCは持ち込みになりますので、電源と一緒に持参
 してください。\n当日流れ\n\n5分 挨拶、会場案内、タ
 イムテーブル説明\n5分 趣旨説明\n5分 参加者自己紹介 \
 n45分 ハンズオン\n10分 小休止\n50分 ハンズオン\n\n対象\
 n\n大学生、社会人の方でプログラミングに興味のある
 方、勉強中の方\n小中高校生も大歓迎(小学生は保護者
 引率をお願い致します)\n基本的なPC操作ができる方\nノ
 ートPCの持ち込みができる方\n\n持ち物\n\nノートPC (必
 要な人はアダプターも一緒に)\nLINEのアカウント (LINEの
 APIを使用するために必要になります)\nLINEアプリが入っ
 たスマートフォン\n\n資料\n本日の内容についての記事\
 n\nhttps://qiita.com/hidehiro98/items/e71c383e789b32a4104c\n\n本日の
 資料\n\nhttps://www.slideshare.net/smatsuda413/linebot-113628326\n\n本
 日使うリポジトリ\n\nhttps://github.com/x-hack-git/line-messaging-
 api\nhttps://github.com/hidehiro98/line-messaging-api\n\n解説動画\n\n
 https://www.youtube.com/watch?v=aByTfznhBWs\n\nその他\nお時間があ
 りましたら、下記のサイトで基本的な知識について予
 習していただきますとスムースに参加いただけます（
 必須ではありません！）\n\nhttps://dotinstall.com/lessons/basic
 _git\n\n場所\nImpact Hub Tokyo\n〒153-0063\n東京都目黒区目黒2-
 11-3 印刷工場１階\n目黒駅(JR\,目黒線)から徒歩10分\n主
 催者\n株式会社X-HACK (https://x-hack.jp)\nお問い合わせ\nhideh
 iro.nagaoka@gmail.com
LOCATION:Impact Hub Tkyo 東京都目黒区目黒2-11-3 印刷工場１階
URL:https://techplay.jp/event/692407?utm_medium=referral&utm_source=ics&utm
 _campaign=ics
END:VEVENT
END:VCALENDAR
