BEGIN:VCALENDAR
VERSION:2.0
PRODID:-//https://techplay.jp//JP
CALSCALE:GREGORIAN
METHOD:PUBLISH
X-WR-CALDESC:【初心者歓迎】プログラミング勉強会
X-WR-CALNAME:【初心者歓迎】プログラミング勉強会
X-WR-TIMEZONE:Asia/Tokyo
BEGIN:VTIMEZONE
TZID:Asia/Tokyo
BEGIN:STANDARD
DTSTART:19700101T000000
TZOFFSETFROM:+0900
TZOFFSETTO:+0900
TZNAME:JST
END:STANDARD
END:VTIMEZONE
BEGIN:VEVENT
UID:692698@techplay.jp
SUMMARY:【初心者歓迎】プログラミング勉強会
DTSTART;TZID=Asia/Tokyo:20180901T140000
DTEND;TZID=Asia/Tokyo:20180901T160000
DTSTAMP:20260423T230719Z
CREATED:20180826T061127Z
DESCRIPTION:イベント詳細はこちら\nhttps://techplay.jp/event/69269
 8?utm_medium=referral&utm_source=ics&utm_campaign=ics\n\nプログラミ
 ング初心者の方を対象とした勉強会です。\nその場で
 疑問を解決しながらプログラミングの基本部分を学習
 します。\nプログラミング言語は、東京大学等の講義
 にも採用されている「Ruby」を利用します。\n持ち物はP
 Cのみで、書籍などは不要です。\nプログラミングを全
 くやったことが無いという方でも大丈夫ですのでお気
 軽にご参加ください。\n\n対象者\n・最近プログラミン
 グの勉強を始めた\n・過去にプログラミングの勉強を
 したことがあるが、途中でやめてしまった\n　→書籍
 の通りに書いているのになぜかエラーで動かない、\n
 　　なぜこのような書き方をするのかわからない、な
 ど独学でお困りの方はぜひお越しください。\n\n\n学習
 範囲\n・Rubyの基本、変数、文字列、条件分岐\n\n当日は
 現役エンジニアが参加予定です。\n以下のような質問
 も大歓迎です。お気軽に相談してください。\n・プロ
 グラミングを勉強したいけど何から始めたらいいかわ
 からない\n・どれくらい勉強したら身につくの？\n・ど
 のプログラミング言語から勉強したらいいの？\n・書
 籍やオンライン学習サイト、プログラミングスクール
 など色々あるけど何がオススメ？\n\n\n持ち物\n・PC\n・P
 Cの電源\n※WiFiのある場所で開催予定ですが、お持ちの
 方はポケファイなどを持参ください。\n\n\n場所\n喫茶
 室ルノアール 秋葉原電気街口店　会議室2号室\nhttps://w
 ww.ginza-renoir.co.jp/shopsearch/shops/view/68\n\n当日はルノアー
 ル店内にある会議室を予約しています。\nお店に到着
 したら、お店の方に「会議室の2号室」とお伝えいただ
 ければご案内してくれます。\n直前まで他の団体様が
 会議室を利用している場合、ギリギリまでお待ちいた
 だく場合がございますのでご了承ください。\n\n\n参加
 費用\nおひとり様1\,000円です。\n参加費1\,000円の中には
 ドリンク代（約600円）も含まれているため、実質400円
 ほどになります。\n当日はルノアールの会議室を利用
 するため、いただいた参加費は会議室代にあてさせて
 いただきます。\n\n\n注意事項\n限られた参加人数の中
 開催しております。事前のご連絡無しでの当日不参加
 はお控えください。\n当日の参加が難しくなった場合
 は前日までにキャンセルをお願いします。
LOCATION:喫茶室ルノアール　秋葉原電気街口店 〒1010021 東
 京都千代田区外神田1-18-19　新秋葉原ビルB1F
URL:https://techplay.jp/event/692698?utm_medium=referral&utm_source=ics&utm
 _campaign=ics
END:VEVENT
END:VCALENDAR
