BEGIN:VCALENDAR
VERSION:2.0
PRODID:-//https://techplay.jp//JP
CALSCALE:GREGORIAN
METHOD:PUBLISH
X-WR-CALDESC:【Stapy x MUFG共催】Python Global Meetup （同時通訳
 あり）
X-WR-CALNAME:【Stapy x MUFG共催】Python Global Meetup （同時通訳
 あり）
X-WR-TIMEZONE:Asia/Tokyo
BEGIN:VTIMEZONE
TZID:Asia/Tokyo
BEGIN:STANDARD
DTSTART:19700101T000000
TZOFFSETFROM:+0900
TZOFFSETTO:+0900
TZNAME:JST
END:STANDARD
END:VTIMEZONE
BEGIN:VEVENT
UID:692761@techplay.jp
SUMMARY:【Stapy x MUFG共催】Python Global Meetup （同時通訳あり
 ）
DTSTART;TZID=Asia/Tokyo:20180914T190000
DTEND;TZID=Asia/Tokyo:20180914T210000
DTSTAMP:20260420T185857Z
CREATED:20180826T141211Z
DESCRIPTION:イベント詳細はこちら\nhttps://techplay.jp/event/69276
 1?utm_medium=referral&utm_source=ics&utm_campaign=ics\n\n概要\nPyCon JP
  2018 が9月15日（土）～18日（火）に開催されます。こ
 れに合わせて、Start Python ClubはMUFGとコラボして、特別
 イベント「Pythonグローバルミートアップ」を開催しま
 す！\n　今回はPythonのコアディベロッパとして、Unicode
 対応など重要な開発に携わり、EuroPython Societyの会長（C
 hair）としても活躍しているMarc-André Lemburg氏をお迎え
 し、Pythonのコアな開発に関する濃いパネルディスカッ
 ション（同時通訳あり）を企画しました。\n　迎える
 日本側からもコアコントリビューターとして著名なゲ
 ストにご参加いただき、議論を盛り上げていただきま
 す。トピックスとしては、90年代から始まったPythonの
 黎明期から、これまでの歴史と変遷、今もっとも熱い
 技術分野など。そしてこれからのPythonの夢について、
 パネリストに自由に語っていただくとともに、会場か
 らとも双方向的に語り合う楽しい夜にしましょう。\n
 　日本と海外のPythonistaの交流を深める貴重な機会にな
 りますので、ぜひご参加ください。いつものStapyどお
 り、終わった後のビアバッシュ＆LTセッションも熱い
 です！懇親会の参加費は無料です！\n　Python好きな人
 、全員集合！！\nOutlook\nPyCon JP 2018 is going to be held between
  Sep 15 and 18. In order to warm up for the annual big Python event\, We\
 , Start Python Club will have a joint meetup with MUFG\, "Python Global M
 eetup".\n    In this meetup\, we are going to have a panel discussion by 
 prominent core Python developers including Marc-André Lemburg\, the chai
 r of EuroPython Society who dedicated to the several important Python pro
 jects such as Unicode character processing.\n    Furthermore\, we've invi
 ted prominent core contributors from Japan to enhance the Python talks. T
 he discussion will cover several topics such as the early days of Python 
 in 90's\, history & transformation\, the hottest technical areas and so o
 n. We are looking forward to having an enthusiastic event with free and b
 idirectional discussion between speakers and audience.\n    Please join o
 ur hot meetup since it will be a great opportunity to establish friendshi
 p among global Pythonistas. Of course\, we'll have a get-together party a
 fter talk session. And you can join for free!\n    All the Python enthusi
 asts\, come on to this meetup!      \nイベント要領\n日時：\n2018
 月9月14日（金）\n- 受付：18:30〜19:00\n- ミートアップ：1
 9:00〜21:00\n- 懇親会：21:00〜22:00\n会費：\n・一般　無料\
 n※関係者以外の方は「スタッフ・講師」枠を選択しな
 いでください。\n持ち物：\n・名刺（受付の際に１枚、
 ご提供ください）\n・受付票（本サイト右側の「受付
 票を見る」から印刷してください）\n対象者：（以下
 のいずれかに該当する方）\n・Python言語本体の深い知
 識に関心のある方\n・Pythonに関するOSSやコミュニティ
 ーに関心のある方\n・Pythonを活用した業務に関心のあ
 る方\n会場：\n株式会社FiNC社　7F　イベント会場\n〒100-
 0006 東京都千代田区有楽町１丁目１２−１ 新有楽町ビ
 ル7階\n協賛：\n三菱UFJ信託銀行株式会社\nEvent Outline\nDat
 e:\nSep 14 Fri\, 2018\n- Registration: 18:30-19:00\n- Meetup: 19:00-21:00
 \n- Party: 21:00-22:00\nTicket:\n\nGeneral（一般）: Free\nNote: Do no
 t register as "Staff/Speaker" if you are not.\n\nItems to bring:\n\nName 
 card (Please give us one card at the reception desk.) \nRegistration shee
 t (Click the button "受付票を見る" on your right and bring a printe
 d sheet.)\n\nVenue:\nFiNC\, 7th floor\nYurakucho 1-12-1 Shinyurakucho Bui
 lding 7th floor\, Chiyoda-ku\, Tokyo\n100-0006  \nWho will be interested:
 \n\nFolks interested in deep knowledge of Python as computing language\nF
 olks interested in OSS community related to Python\nFolks interested in j
 obs in which Python is used\n\nSponsor:\nMitsubishi UFJ Trust and Banking
  Corporation \n\nタイムテーブル/Time Table\n\n\n\n時間/Time\nタ
 イトル・発表者/Title & Speaker\n\n\n\n\n18:30 - 19:00\n受付/Regi
 stration\n\n\n19:00 - 19:15\n挨拶・会社紹介/Greetings & Introducti
 on- FiNC（会場提供/Venue sponsor）- Start Python Club（イベン
 ト主催/Event owner）- 三菱UFJ信託銀行株式会社/Mitsubishi UF
 J Trust and Banking Corporation  (イベント共催・懇親会スポン
 サー/Event co-owner & Party sponsor)\n\n\n19:15 - 19:35（20分）\nト
 ーク1/Talk1「Pythonへのユニコード導入とサポートの発展
 過程について」　(How Unicode got added to Python and how the supp
 ort evolved over time)　発表者：Marc-André Lemburg(株式会社 Poi
 nt Nine Limited)\n\n\n19:35 - 19:55（20分）\nトーク2/Talk2「Python
  3 and Unicode」2010年代に行われた、PythonのUnicode文字列実
 装やエンコーディングに関する改善点を振り返ります
 。　発表者：稲田 直哉(KLab株式会社)\n\n\n19:55 - 20:05\n休
 憩/Short Break\n\n\n20:05 - 20:55（50分）\nパネルディスカッ
 ション/Panel Discussion[パネリスト/Panelist]　Marc-André Lembur
 g(株式会社 Point Nine Limited)　Pavlos Christoforou(株式会社 Poi
 nt Nine Limited)　石本 敦夫 (Atsuo Ishimoto)　稲田 直哉 (Naoya 
 Inada\, KLab株式会社)[モデレーター/Moderator]　清原 弘貴 (
 Hiroki Kiyohara\, @hirokiky)\n\n\n20:55 - 21:00\nまとめ/Wrapup阿久
 津 剛史 (Takeshi Akutsu\, Start Python Club)\n\n\n21:00 - 22:00\n懇
 親会/Get-Together Partyビール・軽食を用意します。無料で
 どなたでも参加できます。\n\n\n\n※英語によるトーク
 とパネルディスカッションは同時通訳付きです。\n登
 壇者プロフィール\nMarc-André Lemburg\nPoint Nine Limited（※1
 ）のIT Head、eGenix.comのCEO。ドイツ出身。デュッセルド
 ルフ大学卒業。\n2002-2004年\, 2010-2016年にはPythonソフト
 ウェア財団の取締役、2016年よりEuro Python Society会長を
 務める。\nMarc-André Lemburg is the IT Head of Point Nine Limited an
 d the CEO of eGenix.com. He graduated from University of Dusseldorf\, Ger
 many.He used to be the director of Python Software Foundation in the peri
 od of 2002-2004 and 2010-2016. Since 2016\, he has been the chair of Euro
  Python Society.\nPavlos Christoforou\nPoint Nine Limited（※1）のCEO
 。キプロス出身。Imperial College Londonにて学士、Stony Brook
  Universityにて修士取得。2002年にPoint Nine Limitedを創業。\
 nPavlos Christoforou is the CEO of Point Nine Limited. He received B.S. d
 egree from Imperial College London and M.S. degree from Stony Brook Unive
 rsity. In 2002\, he founded Point Nine Limited in Cyprus\, where is his h
 ome country.\n石本 敦夫 (Atsuo Ishimoto)\nフリーランスエンジ
 ニア。\nPython.jp サイトの管理人。\n著書に「Python文法
 詳解」、「パーフェクトPython」など\n稲田 直哉 (Naoya In
 ada)\nKLab株式会社所属。Pythonコア開発者。\nプログラム
 の効率化が得意。\n2016年「ISUCON」優勝、Python 3.6のCompac
 t Ordered Dictの開発、「エキスパートPythonプログラミン
 グ」の翻訳など\n清原 弘貴 (Hiroki Kiyohara)\nDjangoが好き
 で、django-jaというコミュニティーやDjangoCongress JPとい
 うイベントのの代表をしたり、Webアプリケーションや
 ライブラリを作ったりしている。\n仕事ではPyQ（https://
 pyq.jp/ ）というWebサービスの企画、開発をしている。\n
 共著書に『Pythonエンジニア ファーストブック（2017 技
 術評論社刊）』、『Pythonプロフェッショナルプログラ
 ミング第三版（2018 秀和システム）』がある。\n\nTwitter
 : @hirokiky\nGitHub: @hirokiky \nURL: http://hirokiky.org/\n（※1）株
 式会社 Point Nine Limited\nPoint Nine Limitedは、金融取引のバ
 ックオフィス業務およびレポーティングにおけるシス
 テム開発のリーディング企業。2002年に設立され、ヘッ
 ジファンド、アセットマネージャー、ブローカー、銀
 行を中心に、全世界で70以上の顧客にサービスを提供
 している。2018年2月、MUFGインベスターサービスの独占
 パートナーとなることを発表。\nPoint Nine Limited is an indu
 stry leader in post-trade processing and regulatory reporting. Founded in
  2002\, Point Nine Limited currently offers technology and managed servic
 es to more than 70 customers across the globe including Hedge Funds\, Ass
 et Managers\, Brokers and Banks. MUFG Investor Services announced an excl
 usive partnership with Point Nine Limited in Februay 2018.
LOCATION:株式会社Finc 東京都千代田区有楽町1-12-1( 新有楽
 町ビル7F)
URL:https://techplay.jp/event/692761?utm_medium=referral&utm_source=ics&utm
 _campaign=ics
END:VEVENT
END:VCALENDAR
