BEGIN:VCALENDAR
VERSION:2.0
PRODID:-//https://techplay.jp//JP
CALSCALE:GREGORIAN
METHOD:PUBLISH
X-WR-CALDESC:Tokyo HoloLens ミートアップ vol.10
X-WR-CALNAME:Tokyo HoloLens ミートアップ vol.10
X-WR-TIMEZONE:Asia/Tokyo
BEGIN:VTIMEZONE
TZID:Asia/Tokyo
BEGIN:STANDARD
DTSTART:19700101T000000
TZOFFSETFROM:+0900
TZOFFSETTO:+0900
TZNAME:JST
END:STANDARD
END:VTIMEZONE
BEGIN:VEVENT
UID:692868@techplay.jp
SUMMARY:Tokyo HoloLens ミートアップ vol.10
DTSTART;TZID=Asia/Tokyo:20181006T130000
DTEND;TZID=Asia/Tokyo:20181006T190000
DTSTAMP:20260420T190935Z
CREATED:20180827T061412Z
DESCRIPTION:イベント詳細はこちら\nhttps://techplay.jp/event/69286
 8?utm_medium=referral&utm_source=ics&utm_campaign=ics\n\n開催概要\nHo
 loLensアプリ開発秘話\nHoloLensアプリ開発で著名な方々に
 登壇いただき、HoloLensに向いたアプリ、VR/MRに向いたア
 プリの特長や、HoloLensアプリ開発の裏話をお話しいた
 だきます。\nHoloLensを持っていない方も参加可能です！
 ご興味のある方は是非ともご参加頂き、HoloLensを含め
 たWindows MixedRealityの世界を覗いてみてください！\n■注
 意事項\n・HoloLens体験をご希望の方は、デモ展示にてお
 楽しみください。出展者の指示に従い安全にご体験頂
 くよう、よろしくお願いします。もちろん、参加者が
 その場でご自身のコンテンツを楽しんでもらうことも
 構いませんが、デモ展示を含め、機材の破損などにつ
 いて主催側でその責任は負えません。\n・イベント中
 に取材が入る可能性があります。またイベントスタッ
 フによる写真やビデオ撮影等を予定しております。撮
 影されました内容は後日主催者や会場提供者によるイ
 ベントの開催レポート等に使わせていただくことがあ
 りますので予めご了承ください。\n・原則として13時15
 分ごろに2Fロビーでの受付を終了致します。以降に来
 場される方は本ページ下部のコメントフィードから到
 着した旨の書き込みをお願いします。スタッフが2Fロ
 ビーに伺います。\n■タイムテーブル\n\n\n\n開始時間\n
 内容\n\n\n\n\n12:30\n開場\n\n\n13:00\n前説、自己紹介Time(Holo
 とわたし)\n\n\n13:15\n「DataMesh Live! ライブデモと事例紹
 介」王暁麒さん\n\n\n14:00\n休憩（15分）\n\n\n14:15\n「HoloLe
 nsアプリ開発苦労話～驚愕の無茶ぶり、それはHoloLensで
 はできません～」団野真一郎さん\n\n\n15:00\n休憩（15分
 ）\n\n\n15:15\n「エネルギー産業へのMixed Realityの業務適
 用研究の最新状況共有」佐々木宣彦さん\n\n\n16:00\n懇親
 会へ転換\n\n\n\n\n\n\n開始時間\n内容\n\n\n\n\n16:00\n懇親会(
 フリータイム)\n\n\n16:15\nHolo LT1部（4名×5分）\n\n\n16:45\nH
 olo LT2部（4名×5分）\n\n\n17:15\nHolo LT3部（4名×5分）\n\n\n1
 8:00\n懇親会(フリータイム)\n\n\n18:30\nWrap up、記念撮影\n\
 n\n19:00\n撤収\n\n\n\n■登壇者／登壇内容のご紹介\nDataMesh
 株式会社様「DataMesh Live! ライブデモと事例紹介」\n王
 暁麒@DataMeshJPさん\nDataMesh株式会社 代表取締役\n\n株式
 会社セック様「HoloLensアプリ開発苦労話～驚愕の無茶
 ぶり、それはHoloLensではできません～」\n団野真一郎さ
 ん\n株式会社セック 　開発本部　第五開発部　主任\n\n
 株式会社ポケット・クエリーズ様「エネルギー産業へ
 のMixed Realityの業務適用研究の最新状況共有」\n佐々木 
 宣彦さん\n株式会社ポケット・クエリーズ 代表取締役 
 運営メディア（MR関連）\n\n■開催概要\nイベント名：To
 kyo HoloLens Meetup vol.10\n日程：10月6日(土)\n時間：12:30 受
 付開始　13:00～19:00　\n会場：日本マイクロソフト株式
 会社(品川) 31F セミナールームC+D\n費用：1\,000円\n主催: 
 HoloMagicians / TMCN \n協力：  日本マイクロソフト
LOCATION:日本マイクロソフト株式会社セミナールーム 東
 京都港区港南 2-16-3
URL:https://techplay.jp/event/692868?utm_medium=referral&utm_source=ics&utm
 _campaign=ics
END:VEVENT
END:VCALENDAR
