BEGIN:VCALENDAR
VERSION:2.0
PRODID:-//https://techplay.jp//JP
CALSCALE:GREGORIAN
METHOD:PUBLISH
X-WR-CALDESC:Software Engineer Meetup ~イノベーションを生み出す
 エンジニアリングの話~
X-WR-CALNAME:Software Engineer Meetup ~イノベーションを生み出す
 エンジニアリングの話~
X-WR-TIMEZONE:Asia/Tokyo
BEGIN:VTIMEZONE
TZID:Asia/Tokyo
BEGIN:STANDARD
DTSTART:19700101T000000
TZOFFSETFROM:+0900
TZOFFSETTO:+0900
TZNAME:JST
END:STANDARD
END:VTIMEZONE
BEGIN:VEVENT
UID:693139@techplay.jp
SUMMARY:Software Engineer Meetup ~イノベーションを生み出すエ
 ンジニアリングの話~
DTSTART;TZID=Asia/Tokyo:20180904T193000
DTEND;TZID=Asia/Tokyo:20180904T213000
DTSTAMP:20260421T124730Z
CREATED:20180828T032311Z
DESCRIPTION:イベント詳細はこちら\nhttps://techplay.jp/event/69313
 9?utm_medium=referral&utm_source=ics&utm_campaign=ics\n\nイベントに
 ついて\n申込方法\n\n8/30（Thu.）12:00 までに GoogleForm よ
 りエントリーをおねがいします。\n 抽選結果  は  8/31
 （Fri.）中に抽選通過の方に限りメールにてご案内させ
 ていただいております。\n\n今回のテーマ\n今回は  Softw
 are Engineer Meetup ~イノベーションを生み出すエンジニア
 リングの話~  というタイトルで meetup を開催します。\n
 メルカリCTO 名村 と Innovation Team Manager 木下 が LT しま
 す。\nメルカリは多くの方に使っていただいおり、よ
 り便利になるよう日々改善を進めています。\n一方で
 、世の中の動きは速く、新しいテクノロジーやサービ
 スが日々生まれています。\nInnovationチームはその動き
 を察知し、本体と独立したチームで調査やプロトタイ
 ピングでの検証を行っています。\n検証の結果、良さ
 そうなアイデアはメインのアプリ開発チームに接続し
 て実装したり、全く別の新しいプロダクトを開発した
 りします。\n\nメルカリは2013年7月2日のサービス開始か
 ら5年を経てアプリDL数が日本で7\,100万を超え、世界合
 計では1億800万ダウンロードを突破しています。\nこの5
 年間で取引された件数は累計約2.8億回となり、平均す
 ると1時間に約6\,400回の取引が行われております。\nメ
 ルカリのUS及びUKの世界展開、国内ではmerpay設立とソウ
 ゾウ社など、事業組織ともに急拡大しています。\n今
 回のイベントでは、メルカリのエンジニアリングや新
 しい価値を生み出すプロセスについて簡単なプレゼン
 をさせていただき、その内容を元に、メルカリのエン
 ジニアやPMとゲストのみなさんが交流できる場にした
 いと考えています。\nミートアップイベントを通して
 、よりメルカリの理解が深まる場になることを願って
 います。お酒と軽食をご用意してお待ちしています!（
 *ノンアルコールも有ります）\n登壇者\n\nメルカリCTO 
 名村 卓\nメルカリ Innovation Team Manager 木下 慶\n\nこんな
 方におすすめです\n\nリサーチや企画から開発まで一気
 通貫で携わりたいエンジニア\n新しい価値を模索した
 いエンジニア\n世の中や人々の課題解決に興味のある
 エンジニア\n\nタイムスケジュール\n\n\n\n時間\nスケジ
 ュール内容\n\n\n\n\n19:00~\n開場 (受付開始)\n\n\n19:30~\n乾
 杯\n\n\n19:35~\n「Innovation Team について」 -  Innovation Team Ma
 nager 木下 慶\n\n\n19:45~\n「(調整中)」 - メルカリCTO 名村 
 卓\n\n\n20:00~\n懇親会\n\n\n21:30\n終了\n\n\n\n参考記事\n\n\n
 プレスリリース　フリマアプリ「メルカリ」サービス
 開始5周年記念第一弾 5年間の歴史を振り返る『数字で
 見るメルカリ』を発表\n\n\nメルカリ山田会長が語る｢
 世界進出の先鞭に｣——1社が成功すれば状況は変わる
 \n\n\nmercan記事 〜エンジニアと立ち話。シリーズ〜\n\n\n
 前回のDrink Meetupについてのmercan記事\n\n\n入館方法\n当
 選した方にEmailで専用の入館予約番号をお伝えします
 。\n六本木ヒルズ森タワーのLL階にある受付カウンター
 にて、弊社社名と入館予約番号をお伝え下さい。\n入
 館証をお渡しいたしますので、お持ちになって18Fイベ
 ント会場までお越しください。\n18Fイベント会場にて
 名刺を1枚頂戴いたしますので、ご用意をお願いします
 。\nその他\n\nFree Wifi あります\nブログ・ツイッター等
 での発信は積極的にしていただけるとありがたいです\
 n都合が悪くなった場合は早めのキャンセル処理をお願
 いします\n
LOCATION:株式会社メルカリ 東京都港区六本木6-10-1(六本木
 ヒルズ森タワー18F)
URL:https://techplay.jp/event/693139?utm_medium=referral&utm_source=ics&utm
 _campaign=ics
END:VEVENT
END:VCALENDAR
