BEGIN:VCALENDAR
VERSION:2.0
PRODID:-//https://techplay.jp//JP
CALSCALE:GREGORIAN
METHOD:PUBLISH
X-WR-CALDESC:[セミナーのご案内] [9月25日（火）開催] Akamai P
 rimary School - Cloud Security
X-WR-CALNAME:[セミナーのご案内] [9月25日（火）開催] Akamai P
 rimary School - Cloud Security
X-WR-TIMEZONE:Asia/Tokyo
BEGIN:VTIMEZONE
TZID:Asia/Tokyo
BEGIN:STANDARD
DTSTART:19700101T000000
TZOFFSETFROM:+0900
TZOFFSETTO:+0900
TZNAME:JST
END:STANDARD
END:VTIMEZONE
BEGIN:VEVENT
UID:693312@techplay.jp
SUMMARY:[セミナーのご案内] [9月25日（火）開催] Akamai Primar
 y School - Cloud Security
DTSTART;TZID=Asia/Tokyo:20180829T170000
DTEND;TZID=Asia/Tokyo:20180829T183000
DTSTAMP:20260420T060308Z
CREATED:20180829T015348Z
DESCRIPTION:イベント詳細はこちら\nhttps://techplay.jp/event/69331
 2?utm_medium=referral&utm_source=ics&utm_campaign=ics\n\n[セミナーの
 ご案内] [9月25日（火）開催] Akamai Primary School - Cloud Secur
 ity\n\n\n\nお申し込みサイト\n\nhttps://content.akamai.com/jp-ja-M
 E11390-akamai-primary-school-cloud-security.html\n\n概要\n\nAkamai Prim
 ary Schoolでは、アカマイが有するテクノロジーの基礎か
 ら応用までじっくりカバーするとともに、アカマイに
 関連する技術分野で旬な情報を提供し、弊社技術者と
 皆様との活発なコミュニケーションの促進を目指して
 いきます。\n\n今回は、Akamai Cloud Securityソリューション
 について全体像及び各製品の主要機能についてご説明
 させていただきます。\n\n全体像では「Akamaiを利用する
 ことでインターネット上のどのような脅威に対応でき
 るのか？」という点を、主要機能では「対象の脅威を
 どのように防御するのか？」という点を解説いたしま
 す。\n\n本セミナーは、すでにご利用中のお客様だけで
 はなく、アカマイをご検討中のお客様やパートナー企
 業様のすべての皆様を対象としております。\n\nインタ
 ーネットセキュリティに対してこれから知見をつけよ
 うと思われている方、より知見を深めたいと考えてい
 る方に対して、Akamai Cloud Securityソリューションのご理
 解と共に脅威への対応についてのご理解を深めていた
 だく場をご提供させていただきます。\n\nぜひご参加く
 ださい。\n\n開催概要\n\n開催日時:2018年9月25日（火）17:
 00-18:30 （受付開始16:30）\n\n会場: アカマイ東京オフィ
 ス ( 東京都中央区京橋2-1-3 京橋トラストタワー6F )\n\n
 対象: アカマイ・ソリューションにご興味のあるお客
 様\n　　　ご利用中のお客様\n　　　パートナー各社\n\
 n参加費: 無料（要事前登録）\n\n\nプログラム内容\n\n（
 過去開催時と同様の内容となりますので、ご留意くだ
 さい）\n　・Internet Securityの現状と課題\n　・Akamai Cloud 
 Securityソリューション全体像\n　・各製品の主要機能と
 対応する脅威について\n　・導入検討ポイント：脅威
 に対しての導入製品/サービスについてのまとめ\n　・Q
 ＆A\n\n\n※講演内容は、都合により変更になる場合がご
 ざいます。予めご了承下さい。\n※申し込み状況によ
 り、ご参加を調整させていただく場合がございます。\
 n\nお申し込みサイト\n\nhttps://content.akamai.com/jp-ja-ME11390-a
 kamai-primary-school-cloud-security.html\n
LOCATION:
URL:https://techplay.jp/event/693312?utm_medium=referral&utm_source=ics&utm
 _campaign=ics
END:VEVENT
END:VCALENDAR
